Workbook

Sheet Lähteandmed
C2: Palun sisestage oma andmed lahtrisse, mis on värvitud kollase värviga.
C4: Läheandmed | D4: Väärtus | E4: Ühik
C5: Valige hoone tüüp | D5: B213
C6: Sisestage korruste arv | D6: 5 | E6: tk
C7: Sisestage trepikodade arv | D7: 4 | E7: tk
C8: Korterite arv | D8: =SUM(D10:D13) -> 60 | E8: tk
C9: Asukoht | D9: Tallinn
C10: Mitu 1-toalist | D10: 11 | E10: tk
C11: Mitu 2-toalist | D11: 38 | E11: tk
C12: Mitu 3-toalist | D12: 11 | E12: tk
C13: Mitu 4-toalist | D13: 0 | E13: tk
C15: Hoone geomeetria | D15: Väärtus | E15: Ühik
C16: Hoone pikkus | D16: 57.5 | E16: m | F16: Andmed on kättesaadavad ehitusregistrist, hoone mõõtmete all. Kui andmeid ei ole, siis tuleb mõõta käsitsi kaardi rakendusega.
C17: Hoone laius | D17: 12.2 | E17: m
C18: Hoone kõrgus | D18: 14.8 | E18: m
C20: Uued piirdetarindid | D20: Väärtus | E20: Ühik
C21: Välisseina soojusläbivus | D21: 0.16 | E21: W/(m2K) | F21: Palun kirjutada järgnevate piirdetarindite soojusläbivuse väärtused, mida Te soovite saavuta renoveerimise jooksul, need mõjutavad radiaatorküte koormust.
C22: Katuslae soojusläbivus | D22: 0.35 | E22: W/(m2K)
C23: Pinnasel põranda soojusläbivus | D23: 0.1 | E23: W/(m2K)
C24: Välisuste soojusläbivus | D24: 1.2 | E24: W/(m2K)
C25: Akende soojusläbivus | D25: 1.2 | E25: W/(m2K)

Sheet Lah. kirj. andmed
B2: Legend | F2: Palun mitte puuduta andmed sellel lehel!
B3: VT - väljatõmbe | C3: krt - korter
B4: SP - sissepuhe | C4: rad - radiaator
B5: 1t - 1-toaline korter
B6: 2t - 2-toaline korter | D6: Sisestage korruste arv | E6: =Lähteandmed!D6 -> 5
B7: 3t - 3-toaline korter | D7: Sisestage trepikodade arv | E7: =Lähteandmed!D7 -> 4
B8: 4t - 4-toaline korter
B11: Küte ja ventilatsiooni väärtused õhuvooluga ning radiaatorküte koormuse määramiseks | F11: Korterite keskmine suletud netopindala | G11: m2 | I11: Küte radiaatorid | M11: Vent | R11: Ventilatsiooni spetsifikatsioon
B12: Lahenduse kirjeldavad andmed | C12: Mehaaniline vent | D12: Väljatõmbe soojuspump | F12: 1-toaline korter | G12: 30 | I12: Lahenduse kirjeldavad andmed | J12: Mehaaniline vent | K12: Väljatõmbe soojuspump | M12: Lahenduse kirjeldavad andmed | N12: Mehaaniline vent | O12: Väljatõmbe soojuspump | R12: Näitajad | S12: Mehaaniline vent | T12: Väljatõmbe soojuspump | U12: Ühik
B13: Eluruumi sisetemp | C13: 21 | D13: 21 | F13: 2-toaline korter | G13: 44.6 | I13: rad/1t krt | J13: 2 | K13: 2 | M13: plafoon SP/1t krt | N13: 1 | O13: 0 | R13: Väljatõmbe plafoonid | S13: =(N18*$C$43)+(N18*$E$43)+($C$44*N19)+($E$44*N19)+(N20*$C$45)+(N20*$E$45)+(N21*$C$46)+(N21*$E$46)+($N$22*$E$7) -> 128 | T13: =(O18*$C$43)+(O18*$E$43)+($C$44*O19)+($E$44*O19)+(O20*$C$45)+(O20*$E$45)+(O21*$C$46)+(O21*$E$46)+($O$22*$E$7) -> 128 | U13: tk
B14: Köök sisetemp | C14: 21 | D14: 21 | F14: 3-toaline korter | G14: 53.9 | M14: plafoon SP/2t krt | N14: 2 | O14: 0 | R14: Sissepuhke plafoonid | S14: =(N13*$C$43)+(N13*$E$43)+($C$44*N14)+($E$44*N14)+(N15*$C$45)+(N15*$E$45)+(N16*$C$46)+(N16*$E$46)+($N$17*$E$7) -> 125 | T14: =(O13*$C$43)+(O13*$E$43)+($C$44*O14)+($E$44*O14)+(O15*$C$45)+(O15*$E$45)+(O16*$C$46)+(O16*$E$46)+($O$17*$E$7) -> 0 | U14: tk
B15: Pesuruumi sisetemp | C15: 22 | D15: 22 | F15: 4-toaline korter | G15: 60.4 | I15: rad/2t krt | J15: 3 | K15: 3 | M15: plafoon SP/3t krt | N15: 3 | O15: 0 | R15: Korteri sisene torustik | S15: =(N35*$C$43)+(N35*$E$43)+($C$44*N36)+($E$44*N36)+(N37*$C$45)+(N37*$E$45)+(N38*$C$46)+(N38*$E$46)+(N39*$C$43)+(N39*$E$43)+($C$44*N40)+($E$44*N40)+(N41*$C$45)+(N41*$E$45)+(N42*$C$46)+(N42*$E$46) -> 180.1 | T15: =(O35*$C$43)+(O35*$E$43)+($C$44*O36)+($E$44*O36)+(O37*$C$45)+(O37*$E$45)+(O38*$C$46)+(O38*$E$46)+(O39*$C$43)+(O39*$E$43)+($C$44*O40)+($E$44*O40)+(O41*$C$45)+(O41*$E$45)+(O42*$C$46)+(O42*$E$46) -> 142.6 | U15: tk
B16: Lahenduse kirjeldavad andmed | C16: Mehaaniline vent | D16: Väljatõmbe soojuspump | M16: plafoon SP/4t krt | N16: 4 | O16: 0 | R16: Tuletõkkeklapp | S16: =(N43*$C$43)+(N43*$E$43)+($C$44*N44)+($E$44*N44)+(N45*$C$45)+(N45*$E$45)+(N46*$C$46)+(N46*$E$46) -> 187 | T16: =(O43*$C$43)+(O43*$E$43)+($C$44*O44)+($E$44*O44)+(O45*$C$45)+(O45*$E$45)+(O46*$C$46)+(O46*$E$46) -> 62 | U16: tk
B17: Köögi õhuvooluhulk (1t) VT | C17: 6 | D17: 6 | F17: Hinnad | G17: EUR | I17: rad/3t krt | J17: 4 | K17: 4 | M17: plafoon SP/trepikoda | N17: 0 | O17: 0 | R17: Puhastuluuk | S17: =(N47*$C$43)+(N47*$E$43)+($C$44*N48)+($E$44*N48)+(N49*$C$45)+(N49*$E$45)+(N50*$C$46)+(N50*$E$46) -> 62 | T17: =(O47*$C$43)+(O47*$E$43)+($C$44*O48)+($E$44*O48)+(O49*$C$45)+(O49*$E$45)+(O50*$C$46)+(O50*$E$46) -> 62 | U17: tk
B18: Köögi õhuvooluhulk (2t) VT | C18: 8 | D18: 8 | F18: Eelseadega ventiil RA-N | G18: 20.7 | M18: plafoon VT/1t krt | N18: 2 | O18: 2 | R18: Värskeõhuklappid | S18: =N51*$E$7+E8*N52+N53*$E$7 -> 24 | T18: =O51*$E$7+O53*$E$7 -> 24 | U18: tk
B19: Köögi õhuvooluhulk (3t) VT | C19: 8 | D19: 8 | F19: Termostaatpea RAW | G19: 10.25 | I19: rad/trepikoda | J19: 1 | K19: 1 | M19: plafoon VT/2t krt | N19: 2 | O19: 2 | R19: HDPE fassaadi torustik | S19: =$E$6*$E$7*D59 -> 1794.1822 | T19: =$E$6*$E$7*D67 -> 581.68037 | U19: jm
B20: Köögi õhuvooluhulk (4t) VT | C20: 15 | D20: 15 | F20: V. õhu el. AIR 11 | G20: 92.23 | I20: eelseadega ventiil/rad 1t krt | J20: 2 | K20: 2 | M20: plafoon VT/3t krt | N20: 2 | O20: 2 | R20: HDPE katuse torustik | S20: =$E$7*D60 -> 742.05263 | T20: =$E$7*D68 -> 333 | U20: jm
B21: Pesuruumi õhuvooluhulk (1t) VT | C21: 10 | D21: 10 | F21: V. õhu el. AIR 21 | G21: 92.23 | M21: plafoon VT/4t krt | N21: 2 | O21: 2 | R21: Terasplekk torustik soojustuses | S21: =$E$7*D61 -> 213.68421 | T21: =$E$7*D69 -> 133.66667 | U21: jm
B22: Pesuruumi õhuvooluhulk (2t) VT | C22: 15 | D22: 15 | F22: V. õhu el. AIR 22 | G22: 92.23 | I22: eelseadega ventiil/rad 2t krt | J22: 3 | K22: 3 | M22: plafoon VT/trepikoda | N22: 1 | O22: 1 | R22: Terasplekk torustik hoone väljas | S22: =$E$7*D62 -> 65.894737 | T22: =$E$7*D70 -> 3.6666667 | U22: jm
B23: Pesuruumi õhuvooluhulk (3t) VT | C23: 15 | D23: 15 | F23: Radiaator keskmine | G23: 90 | M23: SP/VT plafoonid/1t krt | N23: =N13+N18 -> 3 | O23: =O13+O18 -> 2
B24: Pesuruumi õhuvooluhulk (4t) VT | C24: 15 | D24: 15 | F24: SP plafoon KTS-125 | G24: 15.34 | I24: eelseadega ventiil/rad 3t krt | J24: 4 | K24: 4 | M24: SP/VT plafoonid/2t krt | N24: =N14+N19 -> 4 | O24: =O14+O19 -> 2 | R24: Ventilatsiooni maksumus
B25: WC õhuvooluhulk (1t) VT | C25: 0 | D25: 0 | F25: VT plafoon KSO-100 | G25: 9.02 | M25: SP/VT plafoonid/3t krt | N25: =N15+N20 -> 5 | O25: =O15+O20 -> 2 | R25: Näitajad | S25: Mehaaniline vent | T25: Väljatõmbe soojuspump | U25: Ühik
B26: WC õhuvooluhulk (2t) VT | C26: 0 | D26: 0 | F26: VT plafoon KSO-125 | G26: 9.2 | I26: termostaatpea/rad 1t krt | J26: 2 | K26: 2 | M26: SP/VT plafoonid/4t krt | N26: =N16+N21 -> 6 | O26: =O16+O21 -> 2 | R26: Väljatõmbe plafoonid | S26: =S13*$G$25 -> 1154.56 | T26: =T13*$G$25 -> 1154.56 | U26: EUR
B27: WC õhuvooluhulk (3t) VT | C27: 10 | D27: 10 | F27: TTK PKI-C 125 | G27: 45 | M27: plafoon vt köök/1t krt | N27: 1 | O27: 1 | R27: Sissepuhke plafoonid | S27: =S14*$G$24 -> 1917.5 | T27: =T14*$G$24 -> 0 | U27: EUR
B28: WC õhuvooluhulk (4t) VT | C28: 10 | D28: 10 | F28: PL 125 | G28: 6.31 | I28: termostaatpea/rad 2t krt | J28: 3 | K28: 3 | M28: plafoon vt köök/2t krt | N28: 1 | O28: 1 | R28: Korteri sisene torustik | S28: =S15*$G$32 -> 954.53 | T28: =T15*$G$32 -> 755.78 | U28: EUR
B29: Eluurumi õhuvooluhulk (1t) SP | C29: 16 | D29: 0 | F29: VÕK Fresh 80 | G29: 38 | M29: plafoon vt köök/3t krt | N29: 1 | O29: 1 | R29: Tuletõkkeklapp | S29: =S16*$G$27 -> 8415 | T29: =T16*$G$27 -> 2790 | U29: EUR
B30: Eluurumi õhuvooluhulk (2t) SP | C30: 11.5 | D30: 0 | F30: Toru rad. Küte | G30: 3.5 | I30: termostaatpea/rad 3t krt | J30: 4 | K30: 4 | M30: plafoon vt köök/4t krt | N30: 1 | O30: 1 | R30: Puhastuluuk | S30: =S17*$G$28 -> 391.22 | T30: =T17*$G$28 -> 391.22 | U30: EUR
B31: Eluurumi õhuvooluhulk (3t) SP | C31: 11 | D31: 0 | F31: Toru vent. Küte | G31: 9.67 | M31: plafoon vt pesuruum/1t krt | N31: 1 | O31: 1 | R31: Värskeõhuklappid | S31: =S18*$G$29 -> 912 | T31: =T18*$G$29 -> 912 | U31: EUR
B32: Eluurumi õhuvooluhulk (4t) SP | C32: 10 | D32: 0 | F32: Vent. toru sisene | G32: 5.3 | I32: värske õhu element/rad 1t krt | J32: 0 | K32: 1 | M32: plafoon vt pesuruum/2t krt | N32: 1 | O32: 1 | R32: HDPE fassaadi torustik | S32: =S19*$G$33 -> 15447.909 | T32: =T19*$G$33 -> 5008.268 | U32: EUR
B33: SP õhuvooluhulk (1t) | C33: =C29 -> 16 | D33: 0 | F33: HDPE 138x51 | G33: 8.61 | M33: plafoon vt pesuruum/3t krt | N33: 1 | O33: 1 | R33: HDPE katuse torustik | S33: =S20*$G$34 -> 4823.3421 | T33: =T20*$G$34 -> 2164.5 | U33: EUR
B34: SP õhuvooluhulk (2t) | C34: =2*C30 -> 23 | D34: 0 | F34: HDPE 90 | G34: 6.5 | I34: värske õhu element/rad 2t krt | J34: 0 | K34: 2 | M34: plafoon vt pesuruum/4t krt | N34: 1 | O34: 1 | R34: Terasplekk torustik soojustuses | S34: =S21*$G$35 -> 6410.5263 | T34: =T21*$G$35 -> 4010 | U34: EUR
B35: SP õhuvooluhulk (3t) | C35: =C31*3 -> 33 | D35: 0 | F35: Vent. toru soojustuses | G35: 30 | M35: torustik SP/1t krt | N35: 0.3 | O35: 0 | R35: Terasplekk torustik hoone väljas | S35: =S22*$G$36 -> 6589.4737 | T35: =T22*$G$36 -> 366.66667 | U35: EUR
B36: SP õhuvooluhulk (4t) | C36: =C32*4 -> 40 | D36: 0 | F36: Vent. toru väljas | G36: 100 | I36: värske õhu element/rad 3t krt | J36: 0 | K36: 3 | M36: torustik SP/2t krt | N36: 0.6 | O36: 0 | R36: Ventilatsiooniseadmed | S36: =(SUM(S26:S27)+SUM(S29:S31))*1.4 -> 17906.392 | T36: =(SUM(T26:T27)+SUM(T29:T31))*1.25 -> 6559.725 | U36: EUR
B37: VT õhuvoolulk (1t) | C37: =C17+C21+C25 -> 16 | D37: =D17+D21+D25 -> 16 | M37: torustik SP/3t krt | N37: 0.9 | O37: 0 | R37: Ventilatsioonitorustikud | S37: =(SUM(S28)+SUM(S32:S35))*4.3 -> 147170.86 | T37: =(SUM(T28)+SUM(T32:T35))*3.9 -> 47990.337 | U37: EUR
B38: VT õhuvoolulk (2t) | C38: =C18+C22+C26 -> 23 | D38: =D18+D22+D26 -> 23 | M38: torustik SP/4t krt | N38: 1.2 | O38: 0
B39: VT õhuvoolulk (3t) | C39: =C19+C23+C27 -> 33 | D39: =D19+D23+D27 -> 33 | F39: 374 | M39: torustik VT/1t krt | N39: 2.3 | O39: 2.3
B40: VT õhuvoolulk (4t) | C40: =C20+C24+C28 -> 40 | D40: =D20+D24+D28 -> 40 | M40: torustik VT/2t krt | N40: 2.3 | O40: 2.3
M41: torustik VT/3t krt | N41: 2.3 | O41: 2.3
E42: 1t | F42: 2t | G42: 3t | M42: torustik VT/4t krt | N42: 2.3 | O42: 2.3
B43: Mitu 1-toalist | C43: =Lähteandmed!D10 -> 11 | E43: 1 | F43: 3 | M43: TTK/1t krt | N43: 2 | O43: 1
B44: Mitu 2-toalist | C44: =Lähteandmed!D11 -> 38 | F44: 3 | G44: 1 | M44: TTK/2t krt | N44: 3 | O44: 1
B45: Mitu 3-toalist | C45: =Lähteandmed!D12 -> 11 | F45: 3 | G45: 1 | I45: Küte | M45: TTK/3t krt | N45: 4 | O45: 1
B46: Mitu 4-toalist | C46: =Lähteandmed!D13 -> 0 | E46: 1 | F46: 3 | I46: Lahenduse kirjeldavad andmed | J46: Mehaaniline vent | K46: Väljatõmbe soojuspump | M46: TTK/4t krt | N46: 5 | O46: 1
I47: rad/4t krt | J47: 5 | K47: 5 | M47: Puhastusluuk TTK/1t krt | N47: 1 | O47: 1
B48: Õhuvooluhulk | C48: SP (l/s) | D48: VT (l/s) | M48: Puhastusluuk TTK/2t krt | N48: 1 | O48: 1
B49: Mehaaniline | C49: =(($C$43*C33)+(($C$44*C34)+(($C$45*C35)+(C36*$C$46)))) -> 1413 | D49: =(($C$43*C37)+($C$44*C38)+($C$45*C39)+(C40*$C$46)+(E7*15)) -> 1473 | I49: eelseadega ventiil/rad 4t krt | J49: 5 | K49: 5 | M49: Puhastusluuk TTK/3t krt | N49: 1 | O49: 1
B50: Soojuspump | C50: 0 | D50: =D49 -> 1473 | M50: Puhastusluuk TTK/4t krt | N50: 1 | O50: 1
I51: termostaatpea/rad 4t krt | J51: 5 | K51: 6 | M51: VÕK keldris/trepikoda | N51: 4 | O51: 4
B52: Kütte torud | M52: VÕK keldris/tehnoruum | N52: 2 | O52: 2
B53: fassaad | C53: jm | D53: 87.5 | E53: Radiaatorküte torud | F53: tuletatud | I53: värske õhu element/rad 4t krt | J53: 0 | K53: 5 | M53: VÕK trepikojas/trepikoda | N53: 2 | O53: 2
B54: katus | C54: jm | D54: 8.4 | E54: Ventilatsiooniküte torud | F54: tuletatud
B57: Per 1 korrus/1 trepikoda
B58: Mehaaniline ventilatsioonisüsteemi | E58: Tegur | I58: Küte spetsifikatsioon
B59: fassaad | C59: jm | D59: 89.709111 | E59: fassaadi soojustuse sisse paigaldav plasttoru | I59: Näitajad | J59: Mehaaniline vent | K59: Väljatõmbe soojuspump | L59: Ühik
B60: katus | C60: jm | D60: 185.51316 | E60: katuse soojustuse sisse paigaldav plasttoru | I60: Raadiaatorid | J60: =(J13*$C$43)+($C$44*J15)+($C$45*J17)+($E$7*J19)+(J47*C46) -> 184 | K60: =(K13*$C$43)+($E$43*K14+($C$44*K15)+($E$44*K16)+($C$45*K17)+($E$45*K18)+(K47*$C$46)+(K48*$E$46)+(K19*Lähteandmed!$D$7)) -> 184 | L60: tk
B61: katus | C61: jm | D61: 53.421053 | E61: katuse soojustuse sisse paigaldav plekktorustik | I61: Värske õhu element | J61: =(J32*$C$43)+($E$43*J33+($C$44*J34)+($E$44*J35)+($C$45*J36)+($E$45*J37)+(J53*$C$46)+(J54*$E$46)) -> 0 | K61: =(K32*$C$43)+($E$43*K33+($C$44*K34)+($E$44*K35)+($C$45*K36)+($E$45*K37)+(K53*$C$46)+(K54*$E$46)) -> 120 | L61: tk
B62: katus | C62: jm | D62: 16.473684 | E62: katusel nähtav torustik | I62: Eelseadega ventiil | J62: =(J20*$C$43)+($E$43*J21)+($C$44*J22)+($E$44*J23)+($C$45*J24)+($E$45*J25)+(J49*$C$46)+(J50*$E$46)+(J19*Lähteandmed!$D$7) -> 184 | K62: =(K20*$C$43)+($E$43*K21)+($C$44*K22)+($E$44*K23)+($C$45*K24)+($E$45*K25)+(K49*$C$46)+(K50*$E$46)+(K19*Lähteandmed!$D$7) -> 184 | L62: tk
I63: Termostaatpea | J63: =(J26*$C$43)+($E$43*J27+($C$44*J28)+($E$44*J29)+($C$45*J30)+($E$45*J31)+(J51*$C$46)+(J52*$E$46)) -> 180 | K63: =(K26*$C$43)+($E$43*K27+($C$44*K28)+($E$44*K29)+($C$45*K30)+($E$45*K31)+(K51*$C$46)+(K52*$E$46)) -> 180 | L63: tk
I64: Torustik radiaatorküte | J64: =D53*$E$6*$E$7 -> 1750 | K64: =D53*$E$6*$E$7 -> 1750 | L64: jm
B65: Per 1 korrus/1 trepikoda | I65: Torustik vent. küte | J65: =D54*$E$6*$E$7 -> 168 | K65: 0 | L65: jm
B66: Väljatõmbe soojuspumba ventilatsioonisüsteem | E66: Tegur
B67: fassaad | C67: jm | D67: 29.084019 | E67: fassaadi soojustuse sisse paigldav plasttoru | I67: Küte maksumus
B68: katus | C68: jm | D68: 83.25 | E68: katuse soojustuse sisse paigaldav plasttoru | I68: Näitajad | J68: Mehaaniline vent | K68: Väljatõmbe soojuspump
B69: katus | C69: jm | D69: 33.416667 | E69: katuse soojustuse sisse paigaldav plekktorustik | I69: Raadiaatorid | J69: =J60*$G$23 -> 16560 | K69: =K60*$G$23 -> 16560 | L69: EUR
B70: katus | C70: jm | D70: 0.91666667 | E70: katusel nähtav torustik | I70: Värske õhu element | J70: =J61*$G$21 -> 0 | K70: =K61*$G$21 -> 11067.6 | L70: EUR
I71: Eelseadega ventiil | J71: =J62*$G$18 -> 3808.8 | K71: =K62*$G$18 -> 3808.8 | L71: EUR
B72: B213 | C72: Tallinn | I72: Termostaatpea | J72: =J63*$G$19 -> 1845 | K72: =K63*$G$19 -> 1845 | L72: EUR
B73: B214 | C73: Tartu | I73: Torustik radiaatorküte | J73: =J64*$G$30 -> 6125 | K73: =K64*$G$30 -> 6125 | L73: EUR
B74: B224 | C74: Narva | I74: Torustik vent. küte | J74: =J65*$G$31 -> 1624.56 | K74: =K65*$G$31 -> 0 | L74: EUR
B75: C111 | C75: Pärnu | I75: Küttekehad eritööd | J75: =SUM(J69:J72)*0.9 -> 19992.42 | K75: =SUM(K69:K72)*1.1 -> 36609.54 | L75: EUR
B76: C112 | C76: Rakvere | I76: Küttetorustiku eritööd | J76: =SUM(J73:J74)*8.5 -> 65871.26 | K76: =SUM(K73:K74)*8 -> 49000 | L76: EUR
B77: C113 | C77: Viljandi | I77: Katlmaja, soojussõlm | J77: =J82*0.1 -> 11582.704 | K77: =J77*0.8 -> 9266.1632 | L77: EUR
B78: C114 | C78: Võru | I78: Kokku (ilma KM) | J78: =SUM(J69:J77) -> 127409.74 | K78: =SUM(K69:K77) -> 134282.1 | L78: EUR
B79: C211 | C79: Valga
B80: C212 | C80: Jõgeva
B81: C213 | C81: Jõhvi
B82: C214 | C82: Türi | I82: Kokku (ilma KM) | J82: =SUM(J69:J76) -> 115827.04 | K82: =SUM(K69:K76) -> 125015.94 | L82: EUR
B83: C223 | C83: Kuressaare
B84: C224 | C84: Haapsalu
B85: A213 | C85: Rapla
B86: A214 | C86: Kärdla
D88: 1t | E88: 2t | F88: 3t | G88: 4t
B89: SP õhuvooluhulk (1t) | C89: 16 | D89: 1
B90: SP õhuvooluhulk (2t) | C90: 23 | D90: 1
B91: SP õhuvooluhulk (3t) | C91: 33 | F91: 1
B92: SP õhuvooluhulk (4t) | C92: 40
C104: Projektijärgsed keskmised tulemused ühe trepikoda ja korruse kohta
C105: Ventilatsiooni lahendus | D105: fassaadi soojustuse sisse paigldav plasttoru (jm) | E105: katuse soojustuse sisse paigaldav plasttoru (jm) | F105: katuse soojustuse sisse paigaldav plekktorustik (jm) | G105: katusel nähtav torustik (jm)
C106: Mehaaniline ventilatsioon | D106: 89.709111 | E106: 185.51316 | F106: 53.421053 | G106: 16.473684
C107: Väljatõmbe soojuspump | D107: 29.084019 | E107: 83.25 | F107: 33.416667 | G107: 0.91666667
C120: Projektijärgsed keskmised tulemused ühe trepikoda ja korruse kohta
C121: Ventilatsiooni lahendus | D121: Radiaatorküte torustik (jm) | E121: Ventilatsiooniküte torustik (jm)
C122: Mehaaniline ventilatsioon | D122: 87.5 | E122: 8.4
C123: Väljatõmbe soojuspump | D123: 87.5 | E123: 0

Sheet Arvutused
B2: Korterite kogus | C2: arv | G2: Küte maksumus korteri kohta | K2: Mitu 1-toalist | L2: =Lähteandmed!D10 -> 11 | Q2: Sise temp | R2: 21 | Y2: Tallinn | Z2: 21
B3: 1-toaline korter | C3: =Lähteandmed!D10+Lähteandmed!F10 -> 11 | G3: Hinna kalkulatsioonid | H3: Mehaaniline vent | I3: Väljatõmbe soojuspump | K3: Mitu 2-toalist | L3: =Lähteandmed!D11 -> 38 | Q3: Vent dt | R3: 10 | S3: mehaaniline | Y3: Tartu | Z3: 25
B4: 2-toaline korter | C4: =Lähteandmed!D11+Lähteandmed!F11 -> 38 | G4: eur/krt 1t | H4: =('Lah. kirj. andmed'!J13)*('Lah. kirj. andmed'!$G$23)+('Lah. kirj. andmed'!J20)*('Lah. kirj. andmed'!$G$18)+('Lah. kirj. andmed'!J26*'Lah. kirj. andmed'!$G$19) -> 241.9 | I4: =('Lah. kirj. andmed'!K13)*('Lah. kirj. andmed'!$G$23)+('Lah. kirj. andmed'!K20)*('Lah. kirj. andmed'!$G$18)+('Lah. kirj. andmed'!K26*'Lah. kirj. andmed'!$G$19)+('Lah. kirj. andmed'!K32)*('Lah. kirj. andmed'!$G$20) -> 334.13 | K4: Mitu 3-toalist | L4: =Lähteandmed!D12 -> 11 | Q4: Vent dt | R4: 45 | S4: soojuspump | Y4: Narva | Z4: 24
B5: 3-toaline korter | C5: =Lähteandmed!D12+Lähteandmed!F12 -> 11 | K5: Mitu 4-toalist | L5: =Lähteandmed!D13 -> 0 | Q5: Vooluhulk | R5: ='Lah. kirj. andmed'!C49 -> 1413 | Y5: Pärnu | Z5: 22
B6: 4-toaline korter | C6: =Lähteandmed!D13+Lähteandmed!F13 -> 0 | G6: eur/krt 2t | H6: =('Lah. kirj. andmed'!J15)*('Lah. kirj. andmed'!$G$23)+('Lah. kirj. andmed'!J22)*('Lah. kirj. andmed'!$G$18)+('Lah. kirj. andmed'!J28*'Lah. kirj. andmed'!$G$19) -> 362.85 | I6: =('Lah. kirj. andmed'!K15)*('Lah. kirj. andmed'!$G$23)+('Lah. kirj. andmed'!K22)*('Lah. kirj. andmed'!$G$18)+('Lah. kirj. andmed'!K28*'Lah. kirj. andmed'!$G$19)+('Lah. kirj. andmed'!K34)*('Lah. kirj. andmed'!$G$20) -> 547.31 | K6: Korterti arv | L6: =SUM(L2:L5) -> 60 | Y6: Rakvere | Z6: 24
Y7: Viljandi | Z7: 24
G8: eur/krt 3t | H8: =('Lah. kirj. andmed'!J17)*('Lah. kirj. andmed'!$G$23)+('Lah. kirj. andmed'!J24)*('Lah. kirj. andmed'!$G$18)+('Lah. kirj. andmed'!J30*'Lah. kirj. andmed'!$G$19) -> 483.8 | I8: =('Lah. kirj. andmed'!K17)*('Lah. kirj. andmed'!$G$23)+('Lah. kirj. andmed'!K24)*('Lah. kirj. andmed'!$G$18)+('Lah. kirj. andmed'!K30*'Lah. kirj. andmed'!$G$19)+('Lah. kirj. andmed'!K36)*('Lah. kirj. andmed'!$G$20) -> 760.49 | P8: =Lähteandmed!D5 -> B213 | T8: =Lähteandmed!D9 -> Tallinn | Y8: Võru | Z8: 25
B9: Kõikide korterite suletud netopindala | C9: m2 | Y9: Valga | Z9: 24
B10: 1-toaline korter | C10: =C3*'Lah. kirj. andmed'!G12 -> 330 | G10: eur/krt 4t | H10: =('Lah. kirj. andmed'!J47*'Lah. kirj. andmed'!$G$23)+('Lah. kirj. andmed'!J49*'Lah. kirj. andmed'!$G$18)+('Lah. kirj. andmed'!J51*'Lah. kirj. andmed'!$G$19)+('Lah. kirj. andmed'!J53*'Lah. kirj. andmed'!$G$21) -> 604.75 | I10: =('Lah. kirj. andmed'!K47*'Lah. kirj. andmed'!$G$23)+('Lah. kirj. andmed'!K49*'Lah. kirj. andmed'!$G$18)+('Lah. kirj. andmed'!K51*'Lah. kirj. andmed'!$G$19)+('Lah. kirj. andmed'!K53*'Lah. kirj. andmed'!$G$21) -> 1076.15 | L10: B213 | M10: B214 | N10: B224 | Q10: Olukord enne soojustamist | Y10: Jõgeva | Z10: 25
B11: 2-toaline korter | C11: =C4*'Lah. kirj. andmed'!G13 -> 1694.8 | K11: Välisseina soojusläbivus | L11: 1.1 | M11: 1 | N11: 1 | O11: W/(m2K) | R11: U (m2K/W) | S11: Pind (m2) | U11: ∆t (°K) | V11: Kaod mehaaniline | W11: Kaod soojuspump | Y11: Jõhvi | Z11: 24
B12: 3-toaline korter | C12: =C5*'Lah. kirj. andmed'!G14 -> 592.9 | K12: Katuslae soojusläbivus | L12: 1.1 | M12: 0.9 | N12: 0.9 | O12: W/(m2K) | Q12: Põrand | R12: =IF($P$8=$L$10,L13,IF($P$8=$M$10,M13,IF($P$8=$N$10,N13))) -> 0.7 | S12: =G28 -> 632.8 | U12: {=$R$2+_xlfn.IFS(T8=Y2,Z2,T8=Y3,Z3,T8=Y4,Z4,T8=Y5,Z5,T8=Y6,Z6,T8=Y7,Z7,T8=Y8,Z8,T8=Y9,Z9,T8=Y10,Z10,T8=Y11,Z11,T8=Y12,Z12,T8=Y13,Z13,T8=Y14,Z14,T8=Y15,Z15,T8=Y16,Z16)} -> 42 | V12: =$R$12*$S$12*$U$12 -> 18604.32 | W12: =V12 -> 18604.32 | Y12: Türi | Z12: 24
B13: 4-toaline korter | C13: =C6*'Lah. kirj. andmed'!G15 -> 0 | F13: Küte maksumus | K13: Pinnasel põranda soojusläbivus | L13: 0.7 | M13: 0.7 | N13: 0.7 | O13: W/(m2K) | Q13: Seinad | R13: =IF($P$8=$L$10,L11,IF($P$8=$M$10,M11,IF($P$8=$N$10,N11))) -> 1.1 | S13: =((C23*2)+(C24*2))*C27-(G27*0.29) -> 1586.0932 | U13: =$U$12 -> 42 | V13: =R13*S13*U13 -> 73277.506 | W13: =V13 -> 73277.506 | Y13: Kuressaare | Z13: 19
B14: Summaarne | C14: =SUM(C10:C13) -> 2617.7 | F14: Hinna kalkulatsioonid | G14: Mehaaniline vent | H14: Väljatõmbe soojuspump | K14: Kütmata keldri VL soojusläbivus | L14: 0.7 | M14: 0.7 | N14: 0.7 | O14: W/(m2K) | Q14: Katus | R14: =IF($P$8=$L$10,L12,IF($P$8=$M$10,M12,IF($P$8=$N$10,N12))) -> 1.1 | S14: =S12 -> 632.8 | U14: =$U$12 -> 42 | V14: =R14*S14*U14 -> 29235.36 | W14: =V14 -> 29235.36 | Y14: Haapsalu | Z14: 20
F15: Küte materjalid | G15: =(H4*$L$2)+(H5*$N$2)+(H6*$L$3)+(H7*$N$3)+(H8*$L$4)+(H9*$N$4)+(H10+$L$5)+(H11*$N$5) -> 22375.75 | H15: =(I4*$L$2)+(I5*$N$2)+(I6*$L$3)+(I7*$N$3)+(I8*$L$4)+(I9*$N$4)+(I10+$L$5)+(I11*$N$5) -> 33914.75 | K15: Keldriseina U | L15: =L11 -> 1.1 | M15: 1 | N15: 1 | O15: W/(m2K) | Q15: Avad | R15: =IF($P$8=$L$10,2.5) -> 2.5 | S15: =G27*0.3 -> 493.476 | U15: =$U$12 -> 42 | V15: =R15*S15*U15 -> 51814.98 | W15: =V15 -> 51814.98 | Y15: Rapla | Z15: 23
K16: Välisuste soojusläbivus | L16: 2 | M16: 2 | N16: 2 | O16: W/(m2K) | Q16: Vent | R16: 5 | V16: =$R$16*$G$28+R5*1.2*R3 -> 20120 | W16: =$R$16*$G$28+R5*1.2*R4 -> 79466 | Y16: Kärdla | Z16: 19
K17: Akende soojusläbivus | L17: 2.9 | M17: 2.9 | N17: 2.9 | O17: W/(m2K) | Q17: Kokku | V17: =SUM(V12:V16) -> 193052.17 | W17: =SUM(W12:W16) -> 252398.17
K19: Mehaaniline vent | Q19: Pärast soojustamist
K20: Soojussõlme koormused | L20: enne soojustamist (kW) | M20: pärast soojustamist (kW) | R20: U (m2K/W) | S20: Pind (m2) | U20: ∆t (°K) | V20: Kaod mehaaniline | W20: Kaod soojuspump
K21: Radiaatorküte | L21: =V17/1000 -> 193.05217 | M21: =V26/1000 -> 67.609657 | Q21: Põrand | R21: =Lähteandmed!D23 -> 0.1 | S21: =S12 -> 632.8 | U21: =U12 -> 42 | V21: =$R$21*$S$21*$U$21 -> 2657.76 | W21: =V21 -> 2657.76
B22: Geomeetria | C22: Väärtus | D22: Ühik | F22: Arvutused | G22: Väärtus | H22: Ühik | K22: Ventilatsiooni küte | L22: 0 | M22: =(1.2*1.005*R5*23)/1000 -> 39.193794 | Q22: Seinad | R22: =Lähteandmed!D21 -> 0.16 | S22: =S13 -> 1586.0932 | U22: =U13 -> 42 | V22: =R22*S22*U22 -> 10658.546 | W22: =V22 -> 10658.546
B23: Hoone laius esi/taga fass | C23: =Lähteandmed!D16 -> 57.5 | D23: m | F23: Hoone ees/taga fass pindala | G23: =C23*C28 -> 678.5 | H23: m2 | K23: Soe tarbevesi | L23: =30+15*SQRT(2*L6)+0.2*L6 -> 206.31677 | M23: =L23 -> 206.31677 | Q23: Katus | R23: =Lähteandmed!D22 -> 0.35 | S23: =S14 -> 632.8 | U23: =U14 -> 42 | V23: =R23*S23*U23 -> 9302.16 | W23: =V23 -> 9302.16
B24: Hoone laius küljed fass | C24: =Lähteandmed!D17 -> 12.2 | D24: m | F24: Hoone külg fass pindala | G24: =C24*$C$28 -> 143.96 | H24: m2 | Q24: Avad | R24: =AVERAGE(Lähteandmed!D24,Lähteandmed!D25) -> 1.2 | S24: =S15 -> 493.476 | U24: =U15 -> 42 | V24: =R24*S24*U24 -> 24871.19 | W24: =V24 -> 24871.19
B25: Hoone katuse laius (ilma parapp) | C25: =C23-1 -> 56.5 | D25: m | F25: Kogu hoone ees/taga fass pindala | G25: =$G$23*2 -> 1357 | H25: m2 | K25: Väljatõmbe soojuspump | Q25: Vent | R25: 5 | V25: =$R$16*$G$28+R5*1.2*R3 -> 20120 | W25: =$R$16*$G$28+R5*1.2*R4 -> 79466
B26: Hoone katuse pikkus(ilma parap | C26: =C24-1 -> 11.2 | D26: m | F26: Kogu hoone külg fass pindala | G26: =$G$24*2 -> 287.92 | H26: m2 | K26: Soojussõlme koormused | L26: enne soojustamist (kW) | M26: pärast soojustamist (kW) | Q26: Kokku | V26: =SUM(V21:V25) -> 67609.657 | W26: =SUM(W21:W25) -> 126955.66
B27: Hoone kõrgus | C27: =Lähteandmed!D18 -> 14.8 | D27: m | F27: Kõik fass koos | G27: =SUM(G25:G26) -> 1644.92 | H27: m2 | K27: Radiaatorküte | L27: =W17/1000 -> 252.39817 | M27: =W26/1000 -> 126.95566
B28: Hoone kõrgus (esimese korruse akna ül. Serv) | C28: =C27-3 -> 11.8 | D28: m | F28: Katus pindala | G28: =$C$25*$C$26 -> 632.8 | H28: m2 | K28: Ventilatsiooni küte | L28: 0 | M28: 0
K29: Soe tarbevesi | L29: =$L$23 -> 206.31677 | M29: =L29 -> 206.31677

Sheet CO2
D3: Küte kogused | I3: Ventilatsiooni kogused | N3: chrome-extension://efaidnbmnnnibpcajpcglclefindmkaj/https://www.etsnord.fi/wp-content/uploads/NTO-spiral-duct-EPD-ETS-NORD.pdf
D4: Näitajad | E4: Mehaaniline vent | F4: Väljatõmbe soojuspump | G4: Ühik | I4: Näitajad | J4: Mehaaniline vent | K4: Väljatõmbe soojuspump | L4: Ühik
D5: Raadiaatorid | E5: ='Lah. kirj. andmed'!J60 -> 184 | F5: ='Lah. kirj. andmed'!K60 -> 184 | G5: tk | I5: Väljatõmbe plafoonid | J5: ='Lah. kirj. andmed'!S13 -> 128 | K5: ='Lah. kirj. andmed'!T13 -> 128 | L5: tk
D6: Värske õhu element | E6: ='Lah. kirj. andmed'!J61 -> 0 | F6: ='Lah. kirj. andmed'!K61 -> 120 | G6: tk | I6: Sissepuhke plafoonid | J6: ='Lah. kirj. andmed'!S14 -> 125 | K6: ='Lah. kirj. andmed'!T14 -> 0 | L6: tk
D7: Eelseadega ventiil | E7: ='Lah. kirj. andmed'!J62 -> 184 | F7: ='Lah. kirj. andmed'!K62 -> 184 | G7: tk | I7: Korteri sisene torustik | J7: ='Lah. kirj. andmed'!S15 -> 180.1 | K7: ='Lah. kirj. andmed'!T15 -> 142.6 | L7: tk
D8: Termostaatpea | E8: ='Lah. kirj. andmed'!J63 -> 180 | F8: ='Lah. kirj. andmed'!K63 -> 180 | G8: tk | I8: Tuletõkkeklapp | J8: ='Lah. kirj. andmed'!S16 -> 187 | K8: ='Lah. kirj. andmed'!T16 -> 62 | L8: tk
D9: Torustik radiaatorküte | E9: ='Lah. kirj. andmed'!J64 -> 1750 | F9: ='Lah. kirj. andmed'!K64 -> 1750 | G9: jm | I9: Puhastuluuk | J9: ='Lah. kirj. andmed'!S17 -> 62 | K9: ='Lah. kirj. andmed'!T17 -> 62 | L9: tk
D10: Torustik vent. küte | E10: ='Lah. kirj. andmed'!J65 -> 168 | F10: ='Lah. kirj. andmed'!K65 -> 0 | G10: jm | I10: Värskeõhuklappid | J10: ='Lah. kirj. andmed'!S18 -> 24 | K10: ='Lah. kirj. andmed'!T18 -> 24 | L10: tk
I11: HDPE fassaadi torustik | J11: ='Lah. kirj. andmed'!S19 -> 1794.1822 | K11: ='Lah. kirj. andmed'!T19 -> 581.68037 | L11: jm
I12: HDPE katuse torustik | J12: ='Lah. kirj. andmed'!S20 -> 742.05263 | K12: ='Lah. kirj. andmed'!T20 -> 333 | L12: jm
I13: Terasplekk torustik soojustuses | J13: ='Lah. kirj. andmed'!S21 -> 213.68421 | K13: ='Lah. kirj. andmed'!T21 -> 133.66667 | L13: jm
I14: Terasplekk torustik hoone väljas | J14: ='Lah. kirj. andmed'!S22 -> 65.894737 | K14: ='Lah. kirj. andmed'!T22 -> 3.6666667 | L14: jm
D18: Küte CO2 väärtused | I18: Ventilatsiooni CO2 väärtused
D19: Näitajad | E19: Mehaaniline vent | F19: Väljatõmbe soojuspump | G19: Ühik | I19: Näitajad | J19: Mehaaniline vent | K19: Väljatõmbe soojuspump | L19: Ühik
D20: Raadiaatorid | E20: =G44*$I$44 -> 7485.12 | F20: =H44*$I$44 -> 7485.12 | G20: CO2 Kg | I20: Väljatõmbe plafoonid | J20: =G45*I45 -> 90 | K20: =H45*I45 -> 92.16 | L20: CO2 Kg
D21: Värske õhu element | E21: =G43*$I$43 -> 0 | F21: =H43*$I$43 -> 528 | G21: CO2 Kg | I21: Sissepuhke plafoonid | J21: =G46*I46 -> 92.16 | K21: =H46*I46 -> 0 | L21: CO2 Kg
D22: Eelseadega ventiil | E22: =G41*$I$41 -> 74.4464 | F22: =H41*$I$41 -> 74.4464 | G22: CO2 Kg | I22: Korteri sisene torustik | J22: =G52*I52 -> 1236.2064 | K22: =H52*I52 -> 978.8064 | L22: CO2 Kg
D23: Termostaatpea | E23: =G42*$I$42 -> 73.8936 | F23: =H42*$I$42 -> 73.8936 | G23: CO2 Kg | I23: Tuletõkkeklapp | J23: =G47*I47 -> 127.16 | K23: =H47*I47 -> 42.16 | L23: CO2 Kg
D24: Torustik radiaatorküte | E24: =G50*$I$50 -> 1114.75 | F24: =H50*$I$50 -> 1114.75 | G24: CO2 Kg | I24: Puhastuluuk | J24: =G48*I48 -> 64.48 | K24: =H48*I48 -> 64.48 | L24: CO2 Kg
D25: Torustik vent. küte | E25: =G51*$I$51 -> 685.776 | F25: =F10 -> 0 | G25: CO2 Kg | I25: Värskeõhuklappid | J25: =G49*I49 -> 29.568 | K25: =H49*I49 -> 29.568 | L25: CO2 Kg
D26: Kogu | E26: =SUM(E20:E25) -> 9433.986 | F26: =SUM(F20:F25) -> 9276.21 | G26: CO2 Kg | I26: HDPE fassaadi torustik | J26: =G53*I53 -> 2622.5561 | K26: =H53*I53 -> 850.2422 | L26: CO2 Kg
I27: HDPE katuse torustik | J27: =G54*I54 -> 992.34698 | K27: =H54*I54 -> 445.3209 | L27: CO2 Kg
I28: Terasplekk torustik soojustuses | J28: =G55*I55 -> 2108.4221 | K28: =H55*I55 -> 1318.889 | L28: CO2 Kg
I29: Terasplekk torustik hoone väljas | J29: =G56*I56 -> 3109.5726 | K29: =H56*I56 -> 173.03 | L29: CO2 Kg
I30: Kogu | J30: =SUM(J20:J29) -> 10472.472 | K30: =SUM(K20:K29) -> 3994.6565 | L30: CO2 Kg
D40: Toode | E40: Materjal | F40: Kaal (kg) per m | G40: Kogu kaal (mehaaniline) | H40: Kogu kaal (soojuspump) | I40: Heitmetegur
D41: Eelseadega ventiil | E41: Galvinized steel | F41: 0.238 | G41: =E7*F41 -> 43.792 | H41: =F7*F41 -> 43.792 | I41: 1.7
D42: Termostaatpea | E42: PE | F42: 0.132 | G42: =E8*F42 -> 23.76 | H42: =F8*F42 -> 23.76 | I42: 3.11
D43: Värske õhu element | E43: tsingitudplekk | F43: 2 | G43: =E6*F43 -> 0 | H43: =F6*F43 -> 240 | I43: 2.2
D44: Raadiaatorid | E44: lehtterasplaat | F44: 22.6 | G44: =E5*F44 -> 4158.4 | H44: =F5*F44 -> 4158.4 | I44: 1.8
D45: Väljatõmbe plafoonid | E45: tsingitudplekk | F45: 0.4 | G45: =J6*F45 -> 50 | H45: =K5*F45 -> 51.2 | I45: 1.8
D46: Sissepuhke plafoonid | E46: tsingitudplekk | F46: 0.4 | G46: =J5*F46 -> 51.2 | H46: =K6*F46 -> 0 | I46: 1.8
D47: Tuletõkkeklapp | E47: Galvinized steel | F47: 0.4 | G47: =J8*F47 -> 74.8 | H47: =K8*F47 -> 24.8 | I47: 1.7
D48: Puhastuluuk | E48: Metall | F48: 0.8 | G48: =J9*F48 -> 49.6 | H48: =K9*F48 -> 49.6 | I48: 1.3
D49: Värskeõhuklappid | E49: tsingitudplekk | F49: 0.56 | G49: =J10*F49 -> 13.44 | H49: =K10*F49 -> 13.44 | I49: 2.2
D50: Torustik radiaatorküte | E50: Terasplekk | F50: 0.49 | G50: =E9*F50 -> 857.5 | H50: =F9*F50 -> 857.5 | I50: 1.3
D51: Torustik vent. küte | E51: Terastoru | F51: 3.14 | G51: =E10*F51 -> 527.52 | H51: =F10*F51 -> 0 | I51: 1.3
D52: Korteri sisene torustik | E52: Galvinized steel | F52: 1.6 | G52: =J7*F52 -> 288.16 | H52: =K7*F52 -> 228.16 | I52: 4.29
D53: HDPE fassaadi torustik | E53: PE | F53: 0.47 | G53: =J11*F53 -> 843.26564 | H53: =K11*F53 -> 273.38978 | I53: 3.11
D54: HDPE katuse torustik | E54: PE | F54: 0.43 | G54: =J12*F54 -> 319.08263 | H54: =K12*F54 -> 143.19 | I54: 3.11
D55: Terasplekk torustik soojustuses | E55: Galvinized steel | F55: 2.3 | G55: =J13*F55 -> 491.47368 | H55: =K13*F55 -> 307.43333 | I55: 4.29
D56: Terasplekk torustik hoone väljas | E56: Galvinized steel | F56: 11 | G56: =J14*F56 -> 724.84211 | H56: =K14*F56 -> 40.333333 | I56: 4.29

Sheet Tulemus
C3: Õhuvooluhulk | D3: SP (l/s) | E3: VT (l/s) | H3: Küte spetsifikatsioon | M3: Ventilatsiooni spetsifikatsioon
C4: Mehaaniline | D4: ='Lah. kirj. andmed'!C49 -> 1413 | E4: ='Lah. kirj. andmed'!D49 -> 1473 | H4: Näitajad | I4: Mehaaniline vent | J4: Väljatõmbe soojuspump | K4: Ühik | M4: Näitajad | N4: Mehaaniline vent | O4: Väljatõmbe soojuspump | P4: Ühik
C5: Soojuspump | D5: ='Lah. kirj. andmed'!C50 -> 0 | E5: ='Lah. kirj. andmed'!D50 -> 1473 | H5: Raadiaatorid | I5: ='Lah. kirj. andmed'!J60 -> 184 | J5: ='Lah. kirj. andmed'!K60 -> 184 | K5: tk | M5: Väljatõmbe plafoonid | N5: ='Lah. kirj. andmed'!S13 -> 128 | O5: ='Lah. kirj. andmed'!T13 -> 128 | P5: tk
H6: Värske õhu element | I6: ='Lah. kirj. andmed'!J61 -> 0 | J6: ='Lah. kirj. andmed'!K61 -> 120 | K6: tk | M6: Sissepuhke plafoonid | N6: ='Lah. kirj. andmed'!S14 -> 125 | O6: ='Lah. kirj. andmed'!T14 -> 0 | P6: tk
C7: Neto suletatud pindala | D7: =Arvutused!C14 -> 2617.7 | E7: m2 | H7: Eelseadega ventiil | I7: ='Lah. kirj. andmed'!J62 -> 184 | J7: ='Lah. kirj. andmed'!K62 -> 184 | K7: tk | M7: Korteri sisene torustik | N7: ='Lah. kirj. andmed'!S15 -> 180.1 | O7: ='Lah. kirj. andmed'!T15 -> 142.6 | P7: tk
H8: Termostaatpea | I8: ='Lah. kirj. andmed'!J63 -> 180 | J8: ='Lah. kirj. andmed'!K63 -> 180 | K8: tk | M8: Tuletõkkeklapp | N8: ='Lah. kirj. andmed'!S16 -> 187 | O8: ='Lah. kirj. andmed'!T16 -> 62 | P8: tk
H9: Torustik radiaatorküte | I9: ='Lah. kirj. andmed'!J64 -> 1750 | J9: ='Lah. kirj. andmed'!K64 -> 1750 | K9: jm | M9: Puhastuluuk | N9: ='Lah. kirj. andmed'!S17 -> 62 | O9: ='Lah. kirj. andmed'!T17 -> 62 | P9: tk
H10: Torustik vent. küte | I10: ='Lah. kirj. andmed'!J65 -> 168 | J10: ='Lah. kirj. andmed'!K65 -> 0 | K10: jm | M10: Värskeõhuklappid | N10: ='Lah. kirj. andmed'!S18 -> 24 | O10: ='Lah. kirj. andmed'!T18 -> 24 | P10: tk
M11: HDPE fassaadi torustik | N11: ='Lah. kirj. andmed'!S19 -> 1794.1822 | O11: ='Lah. kirj. andmed'!T19 -> 581.68037 | P11: jm
C12: Soojuskaod kokku (raadiatorkyte) | D12: enne soojustamist (kW) | E12: pärast soojustamist (kW) | H12: Küte maksumus | M12: HDPE katuse torustik | N12: ='Lah. kirj. andmed'!S20 -> 742.05263 | O12: ='Lah. kirj. andmed'!T20 -> 333 | P12: jm
C13: Mehaaniline | D13: =Arvutused!L21 -> 193.05217 | E13: =Arvutused!M21 -> 67.609657 | H13: Näitajad | I13: Mehaaniline vent | J13: Väljatõmbe soojuspump | K13: Ühik | M13: Terasplekk torustik soojustuses | N13: ='Lah. kirj. andmed'!S21 -> 213.68421 | O13: ='Lah. kirj. andmed'!T21 -> 133.66667 | P13: jm
C14: Soojuspump | D14: =Arvutused!L27 -> 252.39817 | E14: =Arvutused!M27 -> 126.95566 | H14: Raadiaatorid | I14: ='Lah. kirj. andmed'!J69 -> 16560 | J14: ='Lah. kirj. andmed'!K69 -> 16560 | K14: EUR | M14: Terasplekk torustik hoone väljas | N14: ='Lah. kirj. andmed'!S22 -> 65.894737 | O14: ='Lah. kirj. andmed'!T22 -> 3.6666667 | P14: jm
H15: Värske õhu element | I15: ='Lah. kirj. andmed'!J70 -> 0 | J15: ='Lah. kirj. andmed'!K70 -> 11067.6 | K15: EUR
C16: Mehaaniline vent (pärast renoveerimist) | H16: Eelseadega ventiil | I16: ='Lah. kirj. andmed'!J71 -> 3808.8 | J16: ='Lah. kirj. andmed'!K71 -> 3808.8 | K16: EUR | M16: Ventilatsiooni maksumus
C17: Soojussõlme koormused | D17: kW | H17: Termostaatpea | I17: ='Lah. kirj. andmed'!J72 -> 1845 | J17: ='Lah. kirj. andmed'!K72 -> 1845 | K17: EUR | M17: Näitajad | N17: Mehaaniline vent | O17: Väljatõmbe soojuspump | P17: Ühik
C18: Radiaatorküte | D18: =E13 -> 67.609657 | H18: Torustik radiaatorküte | I18: ='Lah. kirj. andmed'!J73 -> 6125 | J18: ='Lah. kirj. andmed'!K73 -> 6125 | K18: EUR | M18: Väljatõmbe plafoonid | N18: ='Lah. kirj. andmed'!S26 -> 1154.56 | O18: ='Lah. kirj. andmed'!T26 -> 1154.56 | P18: EUR
C19: Ventilatsiooni küte | D19: =Arvutused!M22 -> 39.193794 | H19: Torustik vent. küte | I19: ='Lah. kirj. andmed'!J74 -> 1624.56 | J19: ='Lah. kirj. andmed'!K74 -> 0 | K19: EUR | M19: Sissepuhke plafoonid | N19: ='Lah. kirj. andmed'!S27 -> 1917.5 | O19: ='Lah. kirj. andmed'!T27 -> 0 | P19: EUR
C20: Soe tarbevesi | D20: =Arvutused!L23 -> 206.31677 | H20: Küttekehad eritööd | I20: ='Lah. kirj. andmed'!J75 -> 19992.42 | J20: ='Lah. kirj. andmed'!K75 -> 36609.54 | K20: EUR | M20: Korteri sisene torustik | N20: ='Lah. kirj. andmed'!S28 -> 954.53 | O20: ='Lah. kirj. andmed'!T28 -> 755.78 | P20: EUR
H21: Küttetorustiku eritööd | I21: ='Lah. kirj. andmed'!J76 -> 65871.26 | J21: ='Lah. kirj. andmed'!K76 -> 49000 | K21: EUR | M21: Tuletõkkeklapp | N21: ='Lah. kirj. andmed'!S29 -> 8415 | O21: ='Lah. kirj. andmed'!T29 -> 2790 | P21: EUR
C22: Väljatõmbe soojuspump (pärast renoveerimist) | H22: Katlmaja, soojussõlm | I22: ='Lah. kirj. andmed'!J77 -> 11582.704 | J22: ='Lah. kirj. andmed'!K77 -> 9266.1632 | K22: EUR | M22: Puhastuluuk | N22: ='Lah. kirj. andmed'!S30 -> 391.22 | O22: ='Lah. kirj. andmed'!T30 -> 391.22 | P22: EUR
C23: Soojussõlme koormused | D23: kW | H23: Kokku (ilma KM) | I23: =SUM(I14:I22) -> 127409.74 | J23: =SUM(J14:J22) -> 134282.1 | K23: EUR | M23: Värskeõhuklappid | N23: ='Lah. kirj. andmed'!S31 -> 912 | O23: ='Lah. kirj. andmed'!T31 -> 912 | P23: EUR
C24: Radiaatorküte | D24: =E14 -> 126.95566 | M24: HDPE fassaadi torustik | N24: ='Lah. kirj. andmed'!S32 -> 15447.909 | O24: ='Lah. kirj. andmed'!T32 -> 5008.268 | P24: EUR
C25: Ventilatsiooni küte | D25: 0 | H25: Küte CO2 väärtused | M25: HDPE katuse torustik | N25: ='Lah. kirj. andmed'!S33 -> 4823.3421 | O25: ='Lah. kirj. andmed'!T33 -> 2164.5 | P25: EUR
C26: Soe tarbevesi | D26: =D20 -> 206.31677 | H26: Näitajad | I26: Mehaaniline vent | J26: Väljatõmbe soojuspump | K26: Ühik | M26: Terasplekk torustik soojustuses | N26: ='Lah. kirj. andmed'!S34 -> 6410.5263 | O26: ='Lah. kirj. andmed'!T34 -> 4010 | P26: EUR
H27: Raadiaatorid | I27: ='CO2'!$E$20 -> 7485.12 | J27: ='CO2'!$F$20 -> 7485.12 | K27: CO2 Kg | M27: Terasplekk torustik hoone väljas | N27: ='Lah. kirj. andmed'!S35 -> 6589.4737 | O27: ='Lah. kirj. andmed'!T35 -> 366.66667 | P27: EUR
H28: Värske õhu element | I28: ='CO2'!$E$21 -> 0 | J28: ='CO2'!$F$21 -> 528 | K28: CO2 Kg | M28: Ventilatsiooni armatuuri eritöö | N28: ='Lah. kirj. andmed'!S36 -> 17906.392 | O28: ='Lah. kirj. andmed'!T36 -> 6559.725 | P28: EUR
H29: Eelseadega ventiil | I29: ='CO2'!$E$22 -> 74.4464 | J29: ='CO2'!$F$22 -> 74.4464 | K29: CO2 Kg | M29: Ventilatsioonitorustikud eritööd | N29: ='Lah. kirj. andmed'!S37 -> 147170.86 | O29: ='Lah. kirj. andmed'!T37 -> 47990.337 | P29: EUR
H30: Termostaatpea | I30: ='CO2'!$E$23 -> 73.8936 | J30: ='CO2'!$F$23 -> 73.8936 | K30: CO2 Kg | M30: Kokku (ilma KM) | N30: =SUM(N18:N29) -> 212093.31 | O30: =SUM(O18:O29) -> 72103.057 | P30: EUR
H31: Torustik radiaatorküte | I31: ='CO2'!$E$24 -> 1114.75 | J31: ='CO2'!$F$24 -> 1114.75 | K31: CO2 Kg
H32: Torustik vent. küte | I32: ='CO2'!$E$25 -> 685.776 | J32: ='CO2'!$F$25 -> 0 | K32: CO2 Kg | M32: Ventilatsiooni CO2 väärtused
H33: Kokku | I33: =SUM(I27:I32) -> 9433.986 | J33: =SUM(J27:J32) -> 9276.21 | K33: CO2 Kg | M33: Näitajad | N33: Mehaaniline vent | O33: Väljatõmbe soojuspump | P33: Ühik
M34: Väljatõmbe plafoonid | N34: ='CO2'!$J$20 -> 90 | O34: ='CO2'!$K$20 -> 92.16 | P34: CO2 Kg
M35: Sissepuhke plafoonid | N35: ='CO2'!$J$21 -> 92.16 | O35: ='CO2'!$K$21 -> 0 | P35: CO2 Kg
M36: Korteri sisene torustik | N36: ='CO2'!$J$22 -> 1236.2064 | O36: ='CO2'!$K$22 -> 978.8064 | P36: CO2 Kg
M37: Tuletõkkeklapp | N37: ='CO2'!$J$23 -> 127.16 | O37: ='CO2'!$K$23 -> 42.16 | P37: CO2 Kg
M38: Puhastuluuk | N38: ='CO2'!$J$24 -> 64.48 | O38: ='CO2'!$K$24 -> 64.48 | P38: CO2 Kg
M39: Värskeõhuklappid | N39: ='CO2'!$J$25 -> 29.568 | O39: ='CO2'!$K$25 -> 29.568 | P39: CO2 Kg
M40: HDPE fassaadi torustik | N40: ='CO2'!$J$26 -> 2622.5561 | O40: ='CO2'!$K$26 -> 850.2422 | P40: CO2 Kg
M41: HDPE katuse torustik | N41: ='CO2'!$J$27 -> 992.34698 | O41: ='CO2'!$K$27 -> 445.3209 | P41: CO2 Kg
M42: Terasplekk torustik soojustuses | N42: ='CO2'!$J$28 -> 2108.4221 | O42: ='CO2'!$K$28 -> 1318.889 | P42: CO2 Kg
M43: Terasplekk torustik hoone väljas | N43: ='CO2'!$J$29 -> 3109.5726 | O43: ='CO2'!$K$29 -> 173.03 | P43: CO2 Kg
M44: Kokku | N44: =SUM(N34:N43) -> 10472.472 | O44: =SUM(O34:O43) -> 3994.6565 | P44: CO2 Kg
