Workbook

Sheet x=34,5m
B2: 172500 outer | C2: A | R2: 172500 inner
C3: Normal | D3: Shear | F3: Normal | G3: Shear | I3: Normal | J3: Shear | K3: coarse | L3: shear | M3: normal | N3: fine | O3: shear | P3: normal | S3: Normal | T3: Shear | AA3: ciarse | AB3: shear | AC3: normal | AD3: fine | AE3: shear | AF3: normal
B4: Z C,G, | C4: Lin, el, outer, 1500x1500 | D4: Lin, el, outer, 1500x1500 | E4: Z C,G, | F4: Lin, el, outer, 5000x5000 | G4: Lin, el, outer, 5000x5000 | H4: Z C,G, | I4: Lin, el, outer, 15000x15000 | J4: Lin, el, outer, 15000x15000 | K4: Z | L4: Sh, el, outer, 15000x15000 | M4: Sh, el, outer, 15000x15000 | N4: Z | O4: Sh, el, outer, 5000x5000 | P4: Sh, el, outer, 5000x5000 | R4: Z C,G, | S4: Lin, el, inner, 1500x1500 | T4: Lin, el, inner, 1500x1500 | U4: Z C,G, | V4: Lin, el, inner, 5000x5000 | W4: Lin, el, inner, 5000x5000 | X4: Z C,G, | Y4: Lin, el, inner, 15000x15000 | Z4: Lin, el, inner, 15000x15000 | AA4: Z | AB4: Sh, el, inner, 15000x15000 | AC4: Sh, el, inner, 15000x15000 | AD4: Z | AE4: Sh, el, inner, 5000x5000 | AF4: Sh, el, inner, 5000x5000
A6: =-D6 -> -3.978126 | B6: 200 | C6: 67.94823 | D6: 3.978126 | E6: 0 | F6: 68.29671 | G6: 3.978126 | H6: 0 | I6: 67.41038 | J6: 3.996268 | K6: 0 | L6: 5.6705807 | M6: 67.701072 | N6: 0 | O6: 4.4975648 | P6: 68.42131 | R6: 200 | S6: 64.21505 | T6: -3.900338 | U6: 0 | V6: 63.724595 | W6: -3.774445 | X6: 0 | Y6: 62.916265 | Z6: -3.489173 | AA6: 0 | AB6: -1.5813828 | AC6: 63.052771 | AD6: 0 | AE6: -3.2101256 | AF6: 63.804591
A7: =-D7 -> -5.602211 | B7: 550 | C7: 60.65126 | D7: 5.602211 | E7: 400 | F7: 60.214325 | G7: 4.880188 | H7: 400 | I7: 59.152435 | J7: 5.193269 | K7: 40 | L7: 5.5837646 | M7: 66.85168 | N7: 40 | O7: 4.448575 | P7: 67.561339 | R7: 550 | S7: 57.95844 | T7: -5.105896 | U7: 400 | V7: 57.005965 | W7: -4.2747485 | X7: 400 | Y7: 56.22318 | Z7: -3.6494025 | AA7: 40 | AB7: -1.6496057 | AC7: 62.337374 | AD7: 40 | AE7: -3.2651682 | AF7: 63.077318
A8: =-D8 -> -5.751088 | B8: 850 | C8: 54.79338 | D8: 5.751088 | E8: 1400 | F8: 41.682995 | G8: 6.058235 | H8: 3400 | I8: 6.282038 | J8: 7.2285355 | K8: 80 | L8: 5.5066266 | M8: 66.002353 | N8: 80 | O8: 4.4054002 | P8: 66.700897 | R8: 850 | S8: 52.77348 | T8: -4.996807 | U8: 1400 | V8: 40.631855 | W8: -4.511032 | X8: 3400 | Y8: 9.7367485 | Z8: -1.4660045 | AA8: 80 | AB8: -1.7153604 | AC8: 61.6184 | AD8: 80 | AE8: -3.3147707 | AF8: 62.347849
A9: =-D9 -> -5.909145 | B9: 1150 | C9: 48.98635 | D9: 5.909145 | E9: 2400 | F9: 23.737845 | G9: 6.6549395 | H9: 6400 | I9: -26.021655 | J9: 8.8695405 | K9: 120 | L9: 5.4391669 | M9: 65.153455 | N9: 120 | O9: 4.3680404 | P9: 65.840538 | R9: 1150 | S9: 47.63494 | T9: -4.864696 | U9: 2400 | V9: 24.955945 | W9: -3.874408 | X9: 6400 | Y9: -28.66663 | Z9: 10.750433 | AA9: 120 | AB9: -1.778647 | AC9: 60.897343 | AD9: 120 | AE9: -3.3589331 | AF9: 61.617235
A10: =-D10 -> -6.076988 | B10: 1450 | C10: 43.22853 | D10: 6.076988 | E10: 3400 | F10: 6.269418 | G10: 7.170469 | H10: 9400 | I10: -9.979832 | J10: 9.497472 | K10: 160 | L10: 5.3813853 | M10: 64.305354 | N10: 160 | O10: 4.3364955 | P10: 64.980813 | R10: 1450 | S10: 42.54467 | T10: -4.709347 | U10: 3400 | V10: 9.90224 | W10: -1.9373855 | X10: 9400 | Y10: -41.817195 | Z10: 22.388215 | AA10: 160 | AB10: -1.8394654 | AC10: 60.175698 | AD10: 160 | AE10: -3.3976552 | AF10: 60.886526
A11: =-D11 -> -6.254976 | B11: 1750 | C11: 37.51826 | D11: 6.254976 | E11: 4400 | F11: -11.14647 | G11: 7.7901025 | H11: 12400 | I11: -9.4814025 | J11: 9.3226695 | K11: 200 | L11: 5.3332819 | M11: 63.458416 | N11: 200 | O11: 4.3107656 | P11: 64.122274 | R11: 1750 | S11: 37.50446 | T11: -4.53044 | U11: 4400 | V11: -4.1425195 | W11: 0.2617815 | X11: 12400 | Y11: -42.291835 | Z11: 24.153185 | AA11: 200 | AB11: -1.8978155 | AC11: 59.454958 | AD11: 200 | AE11: -3.4309372 | AF11: 60.156773
A12: =-D12 -> -6.443438 | B12: 2050 | C12: 31.85391 | D12: 6.443438 | E12: 5400 | F12: -28.243105 | G12: 8.6845025 | K12: 240 | L12: 5.2948567 | M12: 62.613007 | N12: 240 | O12: 4.2908507 | P12: 63.265474 | R12: 2050 | S12: 32.51619 | T12: -4.327779 | U12: 5400 | V12: -17.456245 | W12: 1.6512355 | AA12: 240 | AB12: -1.9536975 | AC12: 58.736618 | AD12: 240 | AE12: -3.458779 | AF12: 59.429027
A13: =-D13 -> -6.642671 | B13: 2350 | C13: 26.23389 | D13: 6.642671 | E13: 6400 | F13: -26.340655 | G13: 9.292187 | K13: 280 | L13: 5.2661097 | M13: 61.769492 | N13: 280 | O13: 4.2767508 | P13: 62.410963 | R13: 2350 | S13: 27.5818 | T13: -4.10131 | U13: 6400 | V13: -28.305495 | W13: 10.95477 | AA13: 280 | AB13: -2.0071113 | AC13: 58.022172 | AD13: 280 | AE13: -3.4811806 | AF13: 58.704339
A14: =-D14 -> -6.852931 | B14: 2650 | C14: 20.65668 | D14: 6.852931 | E14: 7400 | F14: -9.0470915 | G14: 9.7472865 | K14: 320 | L14: 5.2470409 | M14: 60.928239 | N14: 320 | O14: 4.2684659 | P14: 61.559295 | R14: 2650 | S14: 22.70343 | T14: -3.851165 | U14: 7400 | V14: -32.89826 | W14: 20.638085 | AA14: 320 | AB14: -2.0580569 | AC14: 57.313113 | AD14: 320 | AE14: -3.498142 | AF14: 57.98376
A15: =-D15 -> -7.074413 | B15: 2950 | C15: 15.12089 | D15: 7.074413 | E15: 8400 | F15: -9.6611775 | G15: 10.40459 | K15: 360 | L15: 5.2376502 | M15: 60.089613 | N15: 360 | O15: 4.2659959 | P15: 60.711022 | R15: 2950 | S15: 17.88338 | T15: -3.577709 | U15: 8400 | V15: -37.50319 | W15: 22.90194 | AA15: 360 | AB15: -2.1065344 | AC15: 56.610935 | AD15: 360 | AE15: -3.5096632 | AF15: 57.26834
A16: =-D16 -> -7.306942 | B16: 3250 | C16: 9.625225 | D16: 7.306942 | E16: 9400 | F16: -9.781522 | G16: 10.175797 | K16: 400 | L16: 5.2379378 | M16: 59.25398 | N16: 400 | O16: 4.269341 | P16: 59.866695 | R16: 3250 | S16: 13.12415 | T16: -3.281475 | U16: 9400 | V16: -40.88011 | W16: 24.619065 | AA16: 400 | AB16: -2.1525436 | AC16: 55.917133 | AD16: 400 | AE16: -3.5157443 | AF16: 56.55913
A17: =-D17 -> -7.1374 | B17: 3550 | C17: 4.193748 | D17: 7.1374 | E17: 10400 | F17: -10.270175 | G17: 9.6360105 | K17: 400 | L17: 6.6447493 | M17: 61.72525 | N17: 400 | O17: 5.630149 | P17: 60.884279 | R17: 3550 | S17: 8.55264 | T17: -0.818768 | U17: 10400 | V17: -42.719125 | W17: 25.12693 | AA17: 400 | AB17: -3.2447946 | AC17: 58.932904 | AD17: 400 | AE17: -4.8721091 | AF17: 57.782316
A18: =-D18 -> -7.390285 | B18: 3850 | C18: -1.344442 | D18: 7.390285 | E18: 11400 | F18: -10.29495 | G18: 9.413424 | K18: 700 | L18: 6.6800577 | M18: 55.800489 | N18: 500 | O18: 5.6765362 | P18: 58.865791 | R18: 3850 | S18: 4.009755 | T18: -0.470653 | U18: 11400 | V18: -43.45232 | W18: 23.879285 | AA18: 700 | AB18: -3.3487359 | AC18: 53.57549 | AD18: 500 | AE18: -4.8445913 | AF18: 55.946812
A19: =-D19 -> -7.656996 | B19: 4150 | C19: -6.845893 | D19: 7.656996 | E19: 12400 | F19: -10.126029 | G19: 9.161528 | K19: 1000 | L19: 6.7304336 | M19: 49.941033 | N19: 600 | O19: 5.7225747 | P19: 56.857193 | R19: 4150 | S19: -0.46433 | T19: -0.0880388 | U19: 12400 | V19: -44.174205 | W19: 22.711545 | AA19: 1000 | AB19: -3.3969931 | AC19: 48.290113 | AD19: 600 | AE19: -4.8150588 | AF19: 54.122978
A20: =-D20 -> -7.93751 | B20: 4450 | C20: -12.31147 | D20: 7.93751 | K20: 1300 | L20: 6.795877 | M20: 44.14395 | N20: 700 | O20: 5.7682645 | P20: 54.857878 | R20: 4450 | S20: -4.866619 | T20: 0.327453 | AA20: 1300 | AB20: -3.3895663 | AC20: 43.074324 | AD20: 700 | AE20: -4.7835117 | AF20: 52.309833
A21: =-D21 -> -8.231382 | B21: 4750 | C21: -17.74175 | D21: 8.231382 | K21: 1600 | L21: 6.8763879 | M21: 38.406304 | N21: 800 | O21: 5.8136056 | P21: 52.867239 | R21: 4750 | S21: -9.193769 | T21: 0.773985 | AA21: 1600 | AB21: -3.3264554 | AC21: 37.925677 | AD21: 800 | AE21: -4.7499499 | AF21: 50.506395
A22: =-D22 -> -8.53793 | B22: 5050 | C22: -23.13709 | D22: 8.53793 | K22: 1900 | L22: 6.9719662 | M22: 32.725163 | N22: 900 | O22: 5.8585981 | P22: 50.884668 | R22: 5050 | S22: -13.4421 | T22: 1.249311 | AA22: 1900 | AB22: -3.2076604 | AC22: 32.841722 | AD22: 900 | AE22: -4.7143734 | AF22: 48.711685
A23: =-D23 -> -8.856133 | B23: 5350 | C23: -28.49759 | D23: 8.856133 | K23: 2200 | L23: 7.082612 | M23: 27.097593 | N23: 1000 | O23: 5.9032419 | P23: 48.909559 | R23: 5350 | S23: -17.60766 | T23: 1.750592 | AA23: 2200 | AB23: -3.0331814 | AC23: 27.820013 | AD23: 1000 | AE23: -4.6767823 | AF23: 46.92472
A24: =-D24 -> -9.18455 | B24: 5650 | C24: -33.8232 | D24: 9.18455 | K24: 2500 | L24: 7.2083252 | M24: 21.520659 | N24: 1100 | O24: 5.947537 | P24: 46.941303 | R24: 5650 | S24: -21.68634 | T24: 2.27422 | AA24: 2500 | AB24: -2.8030184 | AC24: 22.858102 | AD24: 1100 | AE24: -4.6371766 | AF24: 45.144521
A25: =-D25 -> -9.5212 | B25: 5950 | C25: -39.11376 | D25: 9.5212 | K25: 2800 | L25: 7.349106 | M25: 15.991429 | N25: 1200 | O25: 5.9914834 | P25: 44.979294 | R25: 5950 | S25: -25.67404 | T25: 2.815639 | AA25: 2800 | AB25: -2.5171713 | AC25: 17.95354 | AD25: 1200 | AE25: -4.5955562 | AF25: 43.370105
A26: =-D26 -> -9.863092 | B26: 6250 | C26: -44.36916 | D26: 9.863092 | K26: 3100 | L26: 7.5049542 | M26: 10.506968 | N26: 1300 | O26: 6.0350812 | P26: 43.022924 | R26: 6250 | S26: -29.56695 | T26: 3.369053 | AA26: 3100 | AB26: -2.1756402 | AC26: 13.10388 | AD26: 1300 | AE26: -4.5519211 | AF26: 41.600492
A27: =-D27 -> -9.659118 | B27: 6550 | C27: -8.365053 | D27: 9.659118 | K27: 3400 | L27: 7.6758699 | M27: 5.0643423 | N27: 1400 | O27: 6.0783302 | P27: 41.071587 | R27: 6550 | S27: -29.083 | T27: 19.60046 | AA27: 3400 | AB27: -1.778425 | AC27: 8.3066737 | AD27: 1400 | AE27: -4.5062714 | AF27: 39.834701
A28: =-D28 -> -9.822084 | B28: 6850 | C28: -8.855512 | D28: 9.822084 | K28: 3400 | L28: 7.1187201 | M28: 8.4967404 | N28: 1400 | O28: 6.0783302 | P28: 42.342516 | R28: 6850 | S28: -31.31954 | T28: 20.25934 | AA28: 3400 | AB28: -0.39048963 | AC28: 12.413515 | AD28: 1400 | AE28: -4.5062714 | AF28: 41.481251
A29: =-D29 -> -10.01176 | B29: 7150 | C29: -9.277869 | D29: 10.01176 | K29: 3700 | L29: 7.3254524 | M29: 2.9698871 | N29: 1500 | O29: 6.1289063 | P29: 40.397014 | R29: 7150 | S29: -33.38216 | T29: 20.97894 | AA29: 3700 | AB29: -0.24326642 | AC29: 7.8368538 | AD29: 1500 | AE29: -4.4702468 | AF29: 39.72125
A30: =-D30 -> -10.2216 | B30: 7450 | C30: -9.630631 | D30: 10.2216 | K30: 4000 | L30: 7.5465941 | M30: -2.5234844 | N30: 1600 | O30: 6.1825866 | P30: 38.458411 | R30: 7450 | S30: -35.262 | T30: 21.74229 | AA30: 4000 | AB30: -0.015751548 | AC30: 3.3201312 | AD30: 1600 | AE30: -4.4255983 | AF30: 37.969487
A31: =-D31 -> -10.4448 | B31: 7750 | C31: -9.913186 | D31: 10.4448 | K31: 4300 | L31: 7.7821452 | M31: -7.9832382 | N31: 1700 | O31: 6.2393711 | P31: 36.526487 | R31: 7750 | S31: -36.95292 | T31: 22.53056 | AA31: 4300 | AB31: 0.29205498 | AC31: -1.1313996 | AD31: 1700 | AE31: -4.3723257 | AF31: 36.225701
... A46: =-D46 -> -9.347061 | B46: 12250 | C46: -11.00253 | D46: 9.347061 | K46: 8500 | L46: 10.220655 | M46: -9.1579918 | N46: 3100 | O46: 7.1866996 | P46: 11.257164 | R46: 12250 | S46: -48.65465 | T46: 21.33914 | AA46: 8500 | AB46: 22.769742 | AC46: -36.528168 | AD46: 3100 | AE46: -3.2060972 | AF46: 14.111027
K47: 8800 | L47: 10.456456 | M47: -9.0249077 | N47: 3200 | O47: 7.3087588 | P47: 9.4077779 | AA47: 8800 | AB47: 23.763758 | AC47: -37.270751 | AD47: 3200 | AE47: -2.9678718 | AF47: 12.476903
K48: 9100 | L48: 10.708878 | M48: -8.8063205 | N48: 3300 | O48: 7.4447999 | P48: 7.5630618 | AA48: 9100 | AB48: 24.815586 | AC48: -37.744091 | AD48: 3300 | AE48: -2.6897988 | AF48: 10.849862
K49: 9400 | L49: 10.977923 | M49: -8.4974407 | N49: 3400 | O49: 7.594823 | P49: 5.7228779 | AA49: 9400 | AB49: 25.925227 | AC49: -37.923289 | AD49: 3400 | AE49: -2.3718783 | AF49: 9.2297452
K50: 9400 | L50: 8.7549352 | M50: -10.516531 | N50: 3400 | O50: 6.8179341 | P50: 6.862901 | AA50: 9400 | AB50: 20.987791 | AC50: -42.280465 | AD50: 3400 | AE50: -1.4549556 | AF50: 10.625974
K51: 9700 | L51: 8.9965488 | M51: -10.574674 | N51: 3500 | O51: 6.962747 | P51: 4.9858362 | AA51: 9700 | AB51: 22.355241 | AC51: -42.918471 | AD51: 3500 | AE51: -1.1494994 | AF51: 9.0543598
K52: 10000 | L52: 9.1757371 | M52: -10.58048 | N52: 3600 | O52: 7.0971665 | P52: 3.1136264 | AA52: 10000 | AB52: 23.375041 | AC52: -43.319917 | AD52: 3600 | AE52: -0.87465595 | AF52: 7.4909497
K53: 10300 | L53: 9.2925002 | M53: -10.544807 | N53: 3700 | O53: 7.2211926 | P53: 1.24615 | AA53: 10300 | AB53: 24.04719 | AC53: -43.544831 | AD53: 3700 | AE53: -0.63042509 | AF53: 5.9357896
K54: 10600 | L54: 9.3468381 | M54: -10.478511 | N54: 3800 | O54: 7.3348253 | P54: -0.6167146 | AA54: 10600 | AB54: 24.371689 | AC54: -43.653238 | AD54: 3800 | AE54: -0.41680686 | AF54: 4.3889255
K55: 10900 | L55: 9.3387507 | M55: -10.392448 | N55: 3900 | O55: 7.4380645 | P55: -2.4750892 | AA55: 10900 | AB55: 24.348539 | AC55: -43.705165 | AD55: 3900 | AE55: -0.23380126 | AF55: 2.8504033
K56: 11200 | L56: 9.2682381 | M56: -10.297475 | N56: 4000 | O56: 7.5309103 | P56: -4.3290953 | AA56: 11200 | AB56: 23.977737 | AC56: -43.76064 | AD56: 4000 | AE56: -0.081408292 | AF56: 1.3202688
...

Sheet x=37,5m
B2: 187500 outer | C2: A | R2: 187500 inner
C3: Normal | D3: Shear | F3: Normal | G3: Shear | I3: Normal | J3: Shear | K3: coarse | L3: shear | M3: normal | N3: fine | O3: shear | P3: normal | S3: Normal | T3: Shear | AA3: ciarse | AB3: shear | AC3: normal | AD3: fine | AE3: shear | AF3: normal
B4: Z C,G, | C4: Lin, el, outer, 1500x1500 | D4: Lin, el, outer, 1500x1500 | E4: Z C,G, | F4: Lin, el, outer, 5000x5000 | G4: Lin, el, outer, 5000x5000 | H4: Z C,G, | I4: Lin, el, outer, 15000x15000 | J4: Lin, el, outer, 15000x15000 | K4: Z | L4: Sh, el, outer, 15000x15000 | M4: Sh, el, outer, 15000x15000 | N4: Z | O4: Sh, el, outer, 5000x5000 | P4: Sh, el, outer, 5000x5000 | R4: Z C,G, | S4: Lin, el, inner, 1500x1500 | T4: Lin, el, inner, 1500x1500 | U4: Z C,G, | V4: Lin, el, inner, 5000x5000 | W4: Lin, el, inner, 5000x5000 | X4: Z C,G, | Y4: Lin, el, inner, 15000x15000 | Z4: Lin, el, inner, 15000x15000 | AA4: Z | AB4: Sh, el, inner, 15000x15000 | AC4: Sh, el, inner, 15000x15000 | AD4: Z | AE4: Sh, el, inner, 5000x5000 | AF4: Sh, el, inner, 5000x5000
A6: =-D6 -> -6.804337 | B6: 200 | C6: 65.60502 | D6: 6.804337 | E6: 0 | F6: 65.88511 | G6: 6.875245 | H6: 0 | I6: 64.796915 | J6: 6.9337995 | K6: 0 | L6: 9.3177572 | M6: 65.241135 | N6: 0 | O6: 7.6567928 | P6: 66.100204 | R6: 200 | S6: 62.88669 | T6: -4.486794 | U6: 0 | V6: 62.33016 | W6: -4.292978 | X6: 0 | Y6: 61.279775 | Z6: -3.7181435 | AA6: 0 | AB6: -1.2921182 | AC6: 61.567011 | AD6: 0 | AE6: -3.4107771 | AF6: 62.501437
A7: =-D7 -> -9.733881 | B7: 550 | C7: 58.35714 | D7: 9.733881 | E7: 400 | F7: 57.861065 | G7: 8.541983 | H7: 400 | I7: 56.666105 | J7: 9.157122 | K7: 40 | L7: 9.1992447 | M7: 64.395573 | N7: 40 | O7: 7.5512664 | P7: 65.240764 | R7: 550 | S7: 56.39586 | T7: -5.644043 | U7: 400 | V7: 55.315775 | W7: -4.664073 | X7: 400 | Y7: 54.30352 | Z7: -3.4178025 | AA7: 40 | AB7: -1.4630008 | AC7: 60.824422 | AD7: 40 | AE7: -3.5790859 | AF7: 61.742968
A8: =-D8 -> -10.0556 | B8: 850 | C8: 52.46618 | D8: 10.0556 | E8: 1400 | F8: 39.338675 | G8: 10.71903 | H8: 3400 | I8: 3.8856035 | J8: 12.36759 | K8: 80 | L8: 9.0942706 | M8: 63.5514 | N8: 80 | O8: 7.4669657 | P8: 64.380483 | R8: 850 | S8: 51.00933 | T8: -5.414461 | U8: 1400 | V8: 38.474145 | W8: -4.5773105 | X8: 3400 | Y8: 6.5671935 | Z8: -0.069204 | AA8: 80 | AB8: -1.6090222 | AC8: 60.082181 | AD8: 80 | AE8: -3.7121987 | AF8: 60.981322
A9: =-D9 -> -10.37302 | B9: 1150 | C9: 46.62654 | D9: 10.37302 | E9: 2400 | F9: 21.338125 | G9: 11.7105 | H9: 6400 | I9: -28.231285 | J9: 13.43739 | K9: 120 | L9: 9.002835 | M9: 62.708542 | N9: 120 | O9: 7.4038905 | P9: 63.520044 | R9: 1150 | S9: 45.66984 | T9: -5.168574 | U9: 2400 | V9: 22.23658 | W9: -3.5866645 | X9: 6400 | Y9: -34.282875 | Z9: 15.433545 | AA9: 120 | AB9: -1.7301824 | AC9: 59.3405 | AD9: 120 | AE9: -3.8101155 | AF9: 60.217891
A10: =-D10 -> -10.68618 | B10: 1450 | C10: 40.8353 | D10: 10.68618 | E10: 3400 | F10: 3.7664585 | G10: 12.23806 | H10: 9400 | I10: -12.69394 | J10: 13.153055 | K10: 160 | L10: 8.9249379 | M10: 61.86693 | N10: 160 | O10: 7.362041 | P10: 62.660132 | R10: 1450 | S10: 40.37768 | T10: -4.907091 | U10: 3400 | V10: 6.5788755 | W10: -1.2918535 | X10: 9400 | Y10: -51.779625 | Z10: 31.42196 | AA10: 160 | AB10: -1.8264814 | AC10: 58.599595 | AD10: 160 | AE10: -3.8728364 | AF10: 59.454066
A11: =-D11 -> -10.99498 | B11: 1750 | C11: 35.08954 | D11: 10.99498 | E11: 4400 | F11: -13.78692 | G11: 12.721125 | H11: 12400 | I11: -6.256463 | J11: 12.78606 | K11: 200 | L11: 8.8605793 | M11: 61.02649 | N11: 200 | O11: 7.3414171 | P11: 61.801429 | R11: 1750 | S11: 35.13317 | T11: -4.630102 | U11: 4400 | V11: -8.2598235 | W11: 1.1624015 | X11: 12400 | Y11: -26.36764 | Z11: 34.955875 | AA11: 200 | AB11: -1.8979191 | AC11: 57.859681 | AD11: 200 | AE11: -3.9003613 | AF11: 58.691238
A12: =-D12 -> -11.29957 | B12: 2050 | C12: 29.38639 | D12: 11.29957 | E12: 5400 | F12: -31.086255 | G12: 13.615065 | K12: 240 | L12: 8.8097593 | M12: 60.187151 | N12: 240 | O12: 7.3420188 | P12: 60.944618 | R12: 2050 | S12: 29.9368 | T12: -4.337304 | U12: 5400 | V12: -22.44454 | W12: 2.6981655 | AA12: 240 | AB12: -1.9444957 | AC12: 57.120973 | AD12: 240 | AE12: -3.8926902 | AF12: 57.930798
A13: =-D13 -> -11.60037 | B13: 2350 | C13: 23.72303 | D13: 11.60037 | E13: 6400 | F13: -28.783085 | G13: 13.518365 | K13: 280 | L13: 8.7724777 | M13: 59.348843 | N13: 280 | O13: 7.3638461 | P13: 60.090384 | R13: 2350 | S13: 24.7893 | T13: -4.027956 | U13: 6400 | V13: -34.440905 | W13: 14.35403 | AA13: 280 | AB13: -1.966211 | AC13: 56.383685 | AD13: 280 | AE13: -3.8498231 | AF13: 57.174138
A14: =-D14 -> -11.89806 | B14: 2650 | C14: 18.09679 | D14: 11.89806 | E14: 7400 | F14: -11.83214 | G14: 13.51801 | K14: 320 | L14: 8.7487346 | M14: 58.511493 | N14: 320 | O14: 7.406899 | P14: 59.23941 | R14: 2650 | S14: 19.69185 | T14: -3.700835 | U14: 7400 | V14: -42.718515 | W14: 27.15082 | AA14: 320 | AB14: -1.9630651 | AC14: 55.648033 | AD14: 320 | AE14: -3.77176 | AF14: 56.422648
A15: =-D15 -> -12.19366 | B15: 2950 | C15: 12.50523 | D15: 12.19366 | E15: 8400 | F15: -12.689445 | G15: 14.68678 | K15: 360 | L15: 8.7385301 | M15: 57.675029 | N15: 360 | O15: 7.4711775 | P15: 58.392379 | R15: 2950 | S15: 14.64634 | T15: -3.35418 | U15: 8400 | V15: -48.1493 | W15: 31.41988 | AA15: 360 | AB15: -1.9350579 | AC15: 54.914232 | AD15: 360 | AE15: -3.658501 | AF15: 55.67772
A16: =-D16 -> -12.48802 | B16: 3250 | C16: 6.946209 | D16: 12.48802 | E16: 9400 | F16: -12.214895 | G16: 14.52194 | K16: 400 | L16: 8.741864 | M16: 56.839381 | N16: 400 | O16: 7.5566816 | P16: 57.549974 | R16: 3250 | S16: 9.655594 | T16: -2.985523 | U16: 9400 | V16: -49.11308 | W16: 35.845825 | AA16: 400 | AB16: -1.8821896 | AC16: 54.182495 | AD16: 400 | AE16: -3.510046 | AF16: 54.940745
A17: =-D17 -> -11.9091 | B17: 3550 | C17: 1.424092 | D17: 11.9091 | E17: 10400 | F17: -10.99447 | G17: 13.92764 | K17: 400 | L17: 11.126129 | M17: 59.326606 | N17: 400 | O17: 9.7033998 | P17: 58.584632 | R17: 3550 | S17: 4.803277 | T17: -0.223707 | U17: 10400 | V17: -43.86328 | W17: 38.36966 | AA17: 400 | AB17: -3.6821373 | AC17: 57.051834 | AD17: 400 | AE17: -5.5998638 | AF17: 56.107249
A18: =-D18 -> -12.19263 | B18: 3850 | C18: -4.171275 | D18: 12.19263 | E18: 11400 | F18: -8.723245 | G18: 13.83369 | K18: 700 | L18: 11.324892 | M18: 53.372445 | N18: 500 | O18: 9.8373706 | P18: 56.557837 | R18: 3850 | S18: -0.0121801 | T18: 0.171462 | U18: 11400 | V18: -35.362155 | W18: 37.17405 | AA18: 700 | AB18: -3.5291573 | AC18: 51.477818 | AD18: 500 | AE18: -5.4668051 | AF18: 54.222182
A19: =-D19 -> -12.47393 | B19: 4150 | C19: -9.741199 | D19: 12.47393 | E19: 12400 | F19: -5.9315265 | G19: 13.554035 | K19: 1000 | L19: 11.515267 | M19: 47.506486 | N19: 600 | O19: 9.9638734 | P19: 54.541663 | R19: 4150 | S19: -4.770136 | T19: 0.580892 | U19: 12400 | V19: -25.76428 | W19: 35.59594 | AA19: 1000 | AB19: -3.370946 | AC19: 46.055976 | AD19: 600 | AE19: -5.3438645 | AF19: 52.350824
A20: =-D20 -> -12.75643 | B20: 4450 | C20: -15.28775 | D20: 12.75643 | K20: 1300 | L20: 11.697253 | M20: 41.718237 | N20: 700 | O20: 10.082908 | P20: 52.535321 | R20: 4450 | S20: -9.470557 | T20: 1.00984 | AA20: 1300 | AB20: -3.2075034 | AC20: 40.759879 | AD20: 700 | AE20: -5.2310421 | AF20: 50.49175
A21: =-D21 -> -13.04363 | B21: 4750 | C21: -20.81193 | D21: 13.04363 | K21: 1600 | L21: 11.870851 | M21: 35.997207 | N21: 800 | O21: 10.194475 | P21: 50.538022 | R21: 4750 | S21: -14.11085 | T21: 1.464423 | AA21: 1600 | AB21: -3.0388297 | AC21: 35.563098 | AD21: 800 | AE21: -5.1283379 | AF21: 48.643532
A22: =-D22 -> -13.33953 | B22: 5050 | C22: -26.31331 | D22: 13.33953 | K22: 1900 | L22: 12.036061 | M22: 30.332905 | N22: 900 | O22: 10.298574 | P22: 48.548976 | R22: 5050 | S22: -18.68537 | T22: 1.951551 | AA22: 1900 | AB22: -2.8649247 | AC22: 30.439206 | AD22: 900 | AE22: -5.0357518 | AF22: 46.804741
A23: =-D23 -> -13.64858 | B23: 5350 | C23: -31.78978 | D23: 13.64858 | K23: 2200 | L23: 12.192882 | M23: 24.71484 | N23: 1000 | O23: 10.395205 | P23: 46.567396 | R23: 5350 | S23: -23.18485 | T23: 2.478761 | AA23: 2200 | AB23: -2.6857884 | AC23: 25.361772 | AD23: 1000 | AE23: -4.953284 | AF23: 44.973951
A24: =-D24 -> -13.97562 | B24: 5650 | C24: -37.23692 | D24: 13.97562 | K24: 2500 | L24: 12.341315 | M24: 19.132521 | N24: 1100 | O24: 10.484368 | P24: 44.592491 | R24: 5650 | S24: -27.59554 | T24: 3.053808 | AA24: 2500 | AB24: -2.5014209 | AC24: 20.30437 | AD24: 1100 | AE24: -4.8809342 | AF24: 43.149734
A25: =-D25 -> -14.32544 | B25: 5950 | C25: -42.64771 | D25: 14.32544 | K25: 2800 | L25: 12.48136 | M25: 13.575457 | N25: 1200 | O25: 10.566063 | P25: 42.623472 | R25: 5950 | S25: -31.89842 | T25: 3.683949 | AA25: 2800 | AB25: -2.3118222 | AC25: 15.240571 | AD25: 1200 | AE25: -4.8187027 | AF25: 41.330663
A26: =-D26 -> -14.70181 | B26: 6250 | C26: -48.01167 | D26: 14.70181 | K26: 3100 | L26: 12.613016 | M26: 8.0331563 | N26: 1300 | O26: 10.640291 | P26: 40.659552 | R26: 6250 | S26: -36.06846 | T26: 4.374596 | AA26: 3100 | AB26: -2.1169922 | AC26: 10.143945 | AD26: 1300 | AE26: -4.7665893 | AF26: 39.515311
A27: =-D27 -> -13.04071 | B27: 6550 | C27: -10.69819 | D27: 13.04071 | K27: 3400 | L27: 12.736284 | M27: 2.4951288 | N27: 1400 | O27: 10.70705 | P27: 38.699939 | R27: 6550 | S27: -37.44201 | T27: 24.73514 | AA27: 3400 | AB27: -1.916931 | AC27: 4.9880644 | AD27: 1400 | AE27: -4.7245941 | AF27: 37.702249
A28: =-D28 -> -13.37538 | B28: 6850 | C28: -11.47602 | D28: 13.37538 | K28: 3400 | L28: 11.747214 | M28: 6.1327125 | N28: 1400 | O28: 10.70705 | P28: 40.00564 | R28: 6850 | S28: -40.69146 | T28: 25.82496 | AA28: 3400 | AB28: -4.566272e-05 | AC28: 9.1111663 | AD28: 1400 | AE28: -4.7245941 | AF28: 39.254541
A29: =-D29 -> -13.71586 | B29: 7150 | C29: -12.11911 | D29: 13.71586 | K29: 3700 | L29: 12.071983 | M29: 0.51018336 | N29: 1500 | O29: 10.812109 | P29: 38.051519 | R29: 7150 | S29: -43.58855 | T29: 27.0166 | AA29: 3700 | AB29: 0.43563014 | AC29: 4.1698097 | AD29: 1500 | AE29: -4.6303481 | AF29: 37.446836
A30: =-D30 -> -14.0654 | B30: 7450 | C30: -12.63797 | D30: 14.0654 | K30: 4000 | L30: 12.390468 | M30: -5.0339268 | N30: 1600 | O30: 10.917114 | P30: 36.10436 | R30: 7450 | S30: -46.12336 | T30: 28.31018 | AA30: 4000 | AB30: 0.8919748 | AC30: -0.56353029 | AD30: 1600 | AE30: -4.532482 | AF30: 35.6481
A31: =-D31 -> -14.42782 | B31: 7750 | C31: -13.03641 | D31: 14.42782 | K31: 4300 | L31: 12.702669 | M31: -10.511598 | N31: 1700 | O31: 11.022065 | P31: 34.163807 | R31: 7750 | S31: -48.27196 | T31: 29.70384 | AA31: 4300 | AB31: 1.3689883 | AC31: -5.1282314 | AD31: 1700 | AE31: -4.4309959 | AF31: 33.85773
... A46: =-D46 -> -13.47215 | B46: 12250 | C46: -6.73327 | D46: 13.47215 | K46: 8500 | L46: 14.5758 | M46: -11.919185 | N46: 3100 | O46: 12.416092 | P46: 8.7669334 | R46: 12250 | S46: -29.09763 | T46: 32.74483 | AA46: 8500 | AB46: 31.639975 | AC46: -46.017991 | AD46: 3100 | AE46: -2.8285391 | AF46: 10.968034
K47: 8800 | L47: 14.909473 | M47: -11.698446 | N47: 3200 | O47: 12.550926 | P47: 6.9010475 | AA47: 8800 | AB47: 33.453352 | AC47: -46.278182 | AD47: 3200 | AE47: -2.5958589 | AF47: 9.2792116
K48: 9100 | L48: 15.242362 | M48: -11.377206 | N48: 3300 | O48: 12.695866 | P48: 5.0381273 | AA48: 9100 | AB48: 35.413491 | AC48: -45.996172 | AD48: 3300 | AE48: -2.3332476 | AF48: 7.5930306
K49: 9400 | L49: 15.574469 | M49: -10.970213 | N49: 3400 | O49: 12.850912 | P49: 3.1777269 | AA49: 9400 | AB49: 37.52039 | AC49: -45.145947 | AD49: 3400 | AE49: -2.0407053 | AF49: 5.9082894
K50: 9400 | L50: 12.05865 | M50: -12.268781 | N50: 3400 | O50: 11.658509 | P50: 4.3693442 | AA50: 9400 | AB50: 30.085435 | AC50: -48.723479 | AD50: 3400 | AE50: -0.73541865 | AF50: 7.2659481
K51: 9700 | L51: 12.493339 | M51: -12.089853 | N51: 3500 | O51: 11.813717 | P51: 2.475184 | AA51: 9700 | AB51: 32.431106 | AC51: -48.096712 | AD51: 3500 | AE51: -0.43853698 | AF51: 5.6189813
K52: 10000 | L52: 12.872358 | M52: -11.84037 | N52: 3600 | O52: 11.957985 | P52: 0.58510671 | AA52: 10000 | AB52: 34.35349 | AC52: -47.137309 | AD52: 3600 | AE52: -0.1683463 | AF52: 3.9783392
K53: 10300 | L53: 13.195707 | M53: -11.505608 | N53: 3700 | O53: 12.091313 | P53: -1.3010803 | AA53: 10300 | AB53: 35.852587 | AC53: -45.828536 | AD53: 3700 | AE53: 0.075153394 | AF53: 2.3440508
K54: 10600 | L54: 13.463387 | M54: -11.070845 | N54: 3800 | O54: 12.213701 | P54: -3.1835698 | AA54: 10600 | AB54: 36.928397 | AC54: -44.153654 | AD54: 3800 | AE54: 0.2919621 | AF54: 0.71614498
K55: 10900 | L55: 13.675397 | M55: -10.521357 | N55: 3900 | O55: 12.325148 | P55: -5.0625545 | AA55: 10900 | AB55: 37.58092 | AC55: -42.095928 | AD55: 3900 | AE55: 0.48207983 | AF55: -0.90534934
K56: 11200 | L56: 13.831738 | M56: -9.8424212 | N56: 4000 | O56: 12.425656 | P56: -6.9382269 | AA56: 11200 | AB56: 37.810155 | AC56: -39.638622 | AD56: 4000 | AE56: 0.64550657 | AF56: -2.5204032
...

Sheet x=40,5m
B2: 202500 outer | C2: A | R2: 202500 inner
C3: Normal | D3: Shear | F3: Normal | G3: Shear | I3: Normal | J3: Shear | K3: coarse | L3: shear | M3: normal | N3: fine | O3: shear | P3: normal | S3: Normal | T3: Shear | AA3: ciarse | AB3: shear | AC3: normal | AD3: fine | AE3: shear | AF3: normal
B4: Z C,G, | C4: Lin, el, outer, 1500x1500 | D4: Lin, el, outer, 1500x1500 | E4: Z C,G, | F4: Lin, el, outer, 5000x5000 | G4: Lin, el, outer, 5000x5000 | H4: Z C,G, | I4: Lin, el, outer, 15000x15000 | J4: Lin, el, outer, 15000x15000 | K4: Z | L4: Sh, el, outer, 15000x15000 | M4: Sh, el, outer, 15000x15000 | N4: Z | O4: Sh, el, outer, 5000x5000 | P4: Sh, el, outer, 5000x5000 | R4: Z C,G, | S4: Lin, el, inner, 1500x1500 | T4: Lin, el, inner, 1500x1500 | U4: Z C,G, | V4: Lin, el, inner, 5000x5000 | W4: Lin, el, inner, 5000x5000 | X4: Z C,G, | Y4: Lin, el, inner, 15000x15000 | Z4: Lin, el, inner, 15000x15000 | AA4: Z | AB4: Sh, el, inner, 15000x15000 | AC4: Sh, el, inner, 15000x15000 | AD4: Z | AE4: Sh, el, inner, 5000x5000 | AF4: Sh, el, inner, 5000x5000
B6: 200 | C6: 61.02042 | D6: 9.560656 | E6: 0 | F6: 61.24287 | G6: 9.6322465 | H6: 0 | I6: 59.974265 | J6: 9.515406 | K6: 0 | L6: 12.64756 | M6: 60.688538 | N6: 0 | O6: 10.645684 | P6: 61.593288 | R6: 200 | S6: 59.93672 | T6: -3.231338 | U6: 0 | V6: 59.24305 | W6: -3.1395575 | X6: 0 | Y6: 57.95929 | Z6: -2.900319 | AA6: 0 | AB6: 0.56337309 | AC6: 58.5595 | AD6: 0 | AE6: -1.8608933 | AF6: 59.570337
B7: 550 | C7: 54.01609 | D7: 13.85623 | E7: 400 | F7: 53.470595 | G7: 12.090055 | H7: 400 | I7: 52.167915 | J7: 12.719205 | K7: 40 | L7: 12.45756 | M7: 59.868555 | N7: 40 | O7: 10.468367 | P7: 60.754114 | R7: 550 | S7: 53.23765 | T7: -3.526361 | U7: 400 | V7: 51.91901 | W7: -2.990375 | X7: 400 | Y7: 50.63325 | Z7: -1.8861065 | AA7: 40 | AB7: 0.095306253 | AC7: 57.802692 | AD7: 40 | AE7: -2.2067591 | AF7: 58.783564
B8: 850 | C8: 48.24543 | D8: 14.40862 | E8: 1400 | F8: 35.45548 | G8: 15.348365 | H8: 3400 | I8: 0.8298865 | J8: 17.27083 | K8: 80 | L8: 12.300407 | M8: 59.045187 | N8: 80 | O8: 10.335652 | P8: 59.91303 | R8: 850 | S8: 47.71784 | T8: -3.085776 | U8: 1400 | V8: 34.91364 | W8: -2.0809475 | X8: 3400 | Y8: 2.1493275 | Z8: 3.4374555 | AA8: 80 | AB8: -0.26559584 | AC8: 57.028736 | AD8: 80 | AE8: -2.4651361 | AF8: 57.990287
B9: 1150 | C9: 42.52975 | D9: 14.93995 | E9: 2400 | F9: 17.880915 | G9: 16.84204 | H9: 6400 | I9: -30.556505 | J9: 18.857655 | K9: 120 | L9: 12.176101 | M9: 58.219978 | N9: 120 | O9: 10.247537 | P9: 59.071121 | R9: 1150 | S9: 42.25354 | T9: -2.631917 | U9: 2400 | V9: 18.3811 | W9: -0.519264 | X9: 6400 | Y9: -41.30532 | Z9: 25.24933 | AA9: 120 | AB9: -0.51933319 | AC9: 56.243697 | AD9: 120 | AE9: -2.6360243 | AF9: 57.193083
B10: 1450 | C10: 36.86422 | D10: 15.45121 | E10: 3400 | F10: 0.58590075 | G10: 17.684295 | H10: 9400 | I10: -15.183 | J10: 17.138995 | K10: 160 | L10: 12.084642 | M10: 57.394474 | N10: 160 | O10: 10.204024 | P10: 58.229474 | R10: 1450 | S10: 36.84252 | T10: -2.165194 | U10: 3400 | V10: 2.123484 | W10: 2.809572 | X10: 9400 | Y10: -62.869085 | Z10: 42.19004 | AA10: 160 | AB10: -0.6659058 | AC10: 55.453642 | AD10: 160 | AE10: -2.7194235 | AF10: 56.394532
B11: 1750 | C11: 31.24415 | D11: 15.94286 | E11: 4400 | F11: -16.41576 | G11: 18.33963 | H11: 12400 | I11: -4.437173 | J11: 13.53686 | K11: 200 | L11: 12.026029 | M11: 56.57022 | N11: 200 | O11: 10.205111 | P11: 57.389175 | R11: 1750 | S11: 31.48243 | T11: -1.685905 | U11: 4400 | V11: -12.498685 | W11: 6.22612 | X11: 12400 | Y11: -13.906985 | Z11: 38.998425 | AA11: 200 | AB11: -0.70531367 | AC11: 54.664636 | AD11: 200 | AE11: -2.715334 | AF11: 55.597212
B12: 2050 | C12: 25.66492 | D12: 16.41536 | E12: 5400 | F12: -33.475875 | G12: 19.28774 | K12: 240 | L12: 12.000263 | M12: 55.74876 | N12: 240 | O12: 10.250799 | P12: 56.55131 | R12: 2050 | S12: 26.17055 | T12: -1.19439 | U12: 5400 | V12: -27.08764 | W12: 8.068843 | AA12: 240 | AB12: -0.6375568 | AC12: 53.882746 | AD12: 240 | AE12: -2.6237556 | AF12: 54.803702
B13: 2350 | C13: 20.1218 | D13: 16.86917 | E13: 6400 | F13: -32.249945 | G13: 18.83301 | K13: 280 | L13: 12.007345 | M13: 54.93164 | N13: 280 | O13: 10.341088 | P13: 55.716964 | R13: 2350 | S13: 20.90346 | T13: -0.69103 | U13: 6400 | V13: -43.264735 | W13: 22.93708 | AA13: 280 | AB13: -0.46263519 | AC13: 53.114036 | AD13: 280 | AE13: -2.4446883 | AF13: 54.01658
B14: 2650 | C14: 14.60983 | D14: 17.30468 | E14: 7400 | F14: -12.20199 | G14: 17.53963 | K14: 320 | L14: 12.047273 | M14: 54.120405 | N14: 320 | O14: 10.475978 | P14: 54.887224 | R14: 2650 | S14: 15.67665 | T14: -0.176201 | U14: 7400 | V14: -46.744375 | W14: 36.05666 | AA14: 320 | AB14: -0.18054884 | AC14: 52.364574 | AD14: 320 | AE14: -2.1781322 | AF14: 53.238426
B15: 2950 | C15: 9.123549 | D15: 17.72229 | E15: 8400 | F15: -14.088295 | G15: 16.701195 | K15: 360 | L15: 12.120047 | M15: 53.3166 | N15: 360 | O15: 10.655468 | P15: 54.063175 | R15: 2950 | S15: 10.48396 | T15: 0.34984 | U15: 8400 | V15: -57.854855 | W15: 35.033765 | AA15: 360 | AB15: 0.20870225 | AC15: 51.640424 | AD15: 360 | AE15: -1.8240873 | AF15: 52.471819
B16: 3250 | C16: 3.656763 | D16: 18.12165 | E16: 9400 | F16: -18.7195 | G16: 15.930055 | K16: 400 | L16: 12.225669 | M16: 52.521769 | N16: 400 | O16: 10.87956 | P16: 53.245904 | R16: 3250 | S16: 5.316881 | T16: 0.887157 | U16: 9400 | V16: -74.73536 | W16: 42.06059 | AA16: 400 | AB16: 0.70511809 | AC16: 50.947654 | AD16: 400 | AE16: -1.3825535 | AF16: 51.719337
B17: 3550 | C17: -1.772605 | D17: 17.51568 | E17: 10400 | F17: -8.948784 | G17: 14.045695 | K17: 400 | L17: 15.459204 | M17: 54.860838 | N17: 400 | O17: 13.628707 | P17: 54.246868 | R17: 3550 | S17: 0.383222 | T17: 4.854343 | U17: 10400 | V17: -32.88735 | W17: 43.06686 | AA17: 400 | AB17: -1.5910172 | AC17: 53.251735 | AD17: 400 | AE17: -3.984766 | AF17: 52.685331
B18: 3850 | C18: -7.197292 | D18: 17.87408 | E18: 11400 | F18: -3.966069 | G18: 10.998323 | K18: 700 | L18: 15.775135 | M18: 49.162213 | N18: 500 | O18: 13.877539 | P18: 52.266009 | R18: 3850 | S18: -4.344627 | T18: 5.402117 | U18: 11400 | V18: -14.575456 | W18: 31.028655 | AA18: 700 | AB18: -1.4488563 | AC18: 48.012094 | AD18: 500 | AE18: -3.6907984 | AF18: 50.797378
B19: 4150 | C19: -12.61655 | D19: 18.21611 | E19: 12400 | F19: -2.143243 | G19: 9.505815 | K19: 1000 | L19: 16.082068 | M19: 43.473825 | N19: 600 | O19: 14.109555 | P19: 50.297214 | R19: 4150 | S19: -9.053332 | T19: 5.955829 | U19: 12400 | V19: -6.545398 | W19: 25.238795 | AA19: 1000 | AB19: -1.261803 | AC19: 42.661451 | AD19: 600 | AE19: -3.4243863 | AF19: 48.92659
B20: 4450 | C20: -18.03476 | D20: 18.54139 | K20: 1300 | L20: 16.380005 | M20: 37.805817 | N20: 700 | O20: 14.324755 | P20: 48.339513 | R20: 4450 | S20: -13.74132 | T20: 6.512019 | AA20: 1300 | AB20: -1.0298575 | AC20: 37.248932 | AD20: 700 | AE20: -3.1855298 | AF20: 47.071162
B21: 4750 | C21: -23.45912 | D21: 18.8487 | K21: 1600 | L21: 16.668945 | M21: 32.168331 | N21: 800 | O21: 14.523139 | P21: 46.391936 | R21: 4750 | S21: -18.41329 | T21: 7.06543 | AA21: 1600 | AB21: -0.75301967 | AC21: 31.823667 | AD21: 800 | AE21: -2.9742288 | AF21: 45.229288
B22: 5050 | C22: -28.89998 | D22: 19.1366 | K22: 1900 | L22: 16.948888 | M22: 26.57151 | N22: 900 | O22: 14.704706 | P22: 44.453514 | R22: 5050 | S22: -23.08135 | T22: 7.610374 | AA22: 1900 | AB22: -0.43128958 | AC22: 26.434783 | AD22: 900 | AE22: -2.7904833 | AF22: 43.399162
B23: 5350 | C23: -34.37226 | D23: 19.40466 | K23: 2200 | L23: 17.219834 | M23: 21.025496 | N23: 1000 | O23: 14.869457 | P23: 42.523277 | R23: 5350 | S23: -27.76664 | T23: 8.142497 | AA23: 2200 | AB23: -0.064667206 | AC23: 21.13141 | AD23: 1000 | AE23: -2.6342933 | AF23: 41.578979
B24: 5650 | C24: -39.89595 | D24: 19.65385 | K24: 2500 | L24: 17.481783 | M24: 15.540434 | N24: 1100 | O24: 15.017391 | P24: 40.600256 | R24: 5650 | S24: -32.50124 | T24: 8.661419 | AA24: 2500 | AB24: 0.34684745 | AC24: 15.962674 | AD24: 1100 | AE24: -2.5056588 | AF24: 39.766933
B25: 5950 | C25: -45.49863 | D25: 19.88935 | K25: 2800 | L25: 17.734736 | M25: 10.126464 | N25: 1200 | O25: 15.14851 | P25: 38.683482 | R25: 5950 | S25: -37.33039 | T25: 9.175331 | AA25: 2800 | AB25: 0.8032544 | AC25: 10.977706 | AD25: 1200 | AE25: -2.4045798 | AF25: 37.961218
B26: 6250 | C26: -51.21573 | D26: 20.12181 | K26: 3100 | L26: 17.978691 | M26: 4.7937306 | N26: 1300 | O26: 15.262812 | P26: 36.771983 | R26: 6250 | S26: -42.31425 | T26: 9.708165 | AA26: 3100 | AB26: 1.3045536 | AC26: 6.2256317 | AD26: 1300 | AE26: -2.3310564 | AF26: 36.16003
B27: 6550 | C27: -14.12985 | D27: 18.36862 | K27: 3400 | L27: 18.21365 | M27: -0.44762404 | N27: 1400 | O27: 15.360298 | P27: 34.864791 | R27: 6550 | S27: -46.84916 | T27: 36.51453 | AA27: 3400 | AB27: 1.8507451 | AC27: 1.7555808 | AD27: 1400 | AE27: -2.2850885 | AF27: 34.361562
B28: 6850 | C28: -13.54286 | D28: 18.43366 | K28: 3400 | L28: 16.971373 | M28: 2.710049 | N28: 1400 | O28: 15.360298 | P28: 36.115445 | R28: 6850 | S28: -47.9916 | T28: 36.76857 | AA28: 3400 | AB28: 4.2644455 | AC28: 4.1219894 | AD28: 1400 | AE28: -2.2850885 | AF28: 35.561192
B29: 7150 | C29: -13.28698 | D29: 18.25637 | K29: 3700 | L29: 17.255555 | M29: -2.5415648 | N29: 1500 | O29: 15.527088 | P29: 34.21269 | R29: 7150 | S29: -49.79633 | T29: 36.40311 | AA29: 3700 | AB29: 4.2554802 | AC29: -0.23673779 | AD29: 1500 | AE29: -2.1241575 | AF29: 33.765446
B30: 7450 | C30: -13.35172 | D30: 17.87996 | K30: 4000 | L30: 17.538765 | M30: -7.8646686 | N30: 1600 | O30: 15.691868 | P30: 32.315178 | R30: 7450 | S30: -52.36537 | T30: 35.52356 | AA30: 4000 | AB30: 4.3918367 | AC30: -4.9108243 | AD30: 1600 | AE30: -1.9603986 | AF30: 31.974092
B31: 7750 | C31: -13.77067 | D31: 17.33596 | K31: 4300 | L31: 17.821004 | M31: -13.244242 | N31: 1700 | O31: 15.854638 | P31: 30.422954 | R31: 7750 | S31: -55.8633 | T31: 34.2516 | AA31: 4300 | AB31: 4.673515 | AC31: -9.7895477 | AD31: 1700 | AE31: -1.7938118 | AF31: 30.187823
... B46: 12250 | C46: -0.78946 | D46: 8.842371 | K46: 8500 | L46: 14.121488 | M46: -14.979867 | N46: 3100 | O46: 17.847581 | P46: 5.5335093 | R46: 12250 | S46: -1.172436 | T46: 21.5573 | AA46: 8500 | AB46: 29.073539 | AC46: -60.532235 | AD46: 3100 | AE46: 0.57266864 | AF46: 6.7731528
K47: 8800 | L47: 14.048252 | M47: -15.888286 | N47: 3200 | O47: 18.03335 | P47: 3.7019035 | AA47: 8800 | AB47: 31.818106 | AC47: -62.969439 | AD47: 3200 | AE47: 0.91706971 | AF47: 5.0703937
K48: 9100 | L48: 14.118918 | M48: -16.698152 | N48: 3300 | O48: 18.233067 | P48: 1.8789798 | AA48: 9100 | AB48: 35.585882 | AC48: -63.95234 | AD48: 3300 | AE48: 1.3075285 | AF48: 3.3927503
K49: 9400 | L49: 14.333484 | M49: -17.311904 | N49: 3400 | O49: 18.446732 | P49: 0.066170192 | AA49: 9400 | AB49: 40.37687 | AC49: -63.005318 | AD49: 3400 | AE49: 1.744045 | AF49: 1.7454098
K50: 9400 | L50: 12.520736 | M50: -16.054236 | N50: 3400 | O50: 16.959868 | P50: 1.1184173 | AA50: 9400 | AB50: 27.770888 | AC50: -61.304116 | AD50: 3400 | AE50: 3.4044101 | AF50: 2.5279425
K51: 9700 | L51: 13.251727 | M51: -15.073714 | N51: 3500 | O51: 17.174063 | P51: -0.70253312 | AA51: 9700 | AB51: 34.459137 | AC51: -59.942815 | AD51: 3500 | AE51: 3.8541292 | AF51: 0.9423721
K52: 10000 | L52: 13.801206 | M52: -13.7659 | N52: 3600 | O52: 17.369643 | P52: -2.5169786 | AA52: 10000 | AB52: 39.609325 | AC52: -55.8712 | AD52: 3600 | AE52: 4.2559318 | AF52: -0.62076573
K53: 10300 | L53: 14.169174 | M53: -12.217543 | N53: 3700 | O53: 17.546608 | P53: -4.3258823 | AA53: 10300 | AB53: 43.221452 | AC53: -49.744043 | AD53: 3700 | AE53: 4.609818 | AF53: -2.1648264
K54: 10600 | L54: 14.35563 | M54: -10.51539 | N54: 3800 | O54: 17.704957 | P54: -6.1302077 | AA54: 10600 | AB54: 45.295518 | AC54: -42.216114 | AD54: 3800 | AE54: 4.9157876 | AF54: -3.6931655
K55: 10900 | L55: 14.360575 | M55: -8.7461897 | N55: 3900 | O55: 17.844692 | P55: -7.9309181 | AA55: 10900 | AB55: 45.831524 | AC55: -33.942184 | AD55: 3900 | AE55: 5.1738408 | AF55: -5.2091383
K56: 11200 | L56: 14.184008 | M56: -6.9966904 | N56: 4000 | O56: 17.965811 | P56: -9.7289766 | AA56: 11200 | AB56: 44.829469 | AC56: -25.577024 | AD56: 4000 | AE56: 5.3839776 | AF56: -6.7161003
...

Sheet x=22,5m; x=43,5m
E2: 112500 outer | F2: A | U2: 112500 inner | AK2: 217500 outer | AL2: B | BA2: 217500 inner
F3: Normal | G3: Shear | I3: Normal | J3: Shear | L3: Normal | M3: Shear | N3: coarse | O3: shear | P3: normal | Q3: fine | R3: shear | S3: normal | V3: Normal | W3: Shear | AD3: ciarse | AE3: shear | AF3: normal | AG3: fine | AH3: shear | AI3: normal | AL3: Normal | AM3: Shear | AO3: Normal | AP3: Shear | AR3: Normal | AS3: Shear | AT3: coarse | AU3: shear | AV3: normal | AW3: fine | AX3: shear | AY3: normal | BB3: Normal | BC3: Shear | BE3: Normal | BF3: Shear | BH3: Normal | BI3: Shear | BJ3: coarse | BK3: shear | BL3: normal | BM3: fine | BN3: shear | BO3: normal
A4: Z C,G, | B4: 10,,Simcenter NASTRAN Case 1, 7020,,Plate Top X Normal Stress | C4: 10,,Simcenter NASTRAN Case 1, 7023,,Plate Top XY Shear Stress | E4: Z C,G, | F4: Linear el, fine | G4: Linear el, fine | H4: Z C,G, | I4: Linear el, semi-coarse | J4: Linear el, semi-coarse | K4: Z C,G, | L4: Linear el, coarse | M4: Linear el, coarse | N4: Z | O4: HSD el, coarse | P4: HSD el, coarse | Q4: Z | R4: HSD el, semi-coarse | S4: HSD el, semi-coarse | U4: Z C,G, | V4: Linear el, fine | W4: Linear el, fine | X4: Z C,G, | Y4: Linear el, semi-coarse | Z4: Linear el, semi-coarse | AA4: Z C,G, | AB4: Linear el, coarse | AC4: Linear el, coarse | AD4: Z | AE4: HSD el, coarse | AF4: HSD el, coarse | AG4: Z | AH4: HSD el, semi-coarse | AI4: HSD el, semi-coarse | AK4: Z C,G, | AL4: Linear el, fine | AM4: Linear el, fine | AN4: Z C,G, | AO4: Linear el, semi-coarse | AP4: Linear el, semi-coarse | AQ4: Z C,G, | AR4: Linear el, coarse | AS4: Linear el, coarse | AT4: Z | AU4: HSD el, coarse | AV4: HSD el, coarse | AW4: Z | AX4: HSD el, semi-coarse | AY4: HSD el, semi-coarse | BA4: Z C,G, | BB4: Linear el, fine | BC4: Linear el, fine | BD4: Z C,G, | BE4: Linear el, semi-coarse | BF4: Linear el, semi-coarse | BG4: Z C,G, | BH4: Linear el, coarse | BI4: Linear el, coarse | BJ4: Z | BK4: HSD el, coarse | BL4: HSD el, coarse | BM4: Z | BN4: HSD el, semi-coarse | BO4: HSD el, semi-coarse
A6: 1000 | B6: 52.03261 | C6: -0.753081 | D6: =K6/5 -> 0 | E6: 200 | F6: 55.56651 | G6: -9.134892 | H6: 0 | I6: 55.975425 | J6: -9.1320245 | K6: 0 | L6: 55.39529 | M6: -8.9629345 | N6: 0 | O6: -11.51231 | P6: 55.719329 | Q6: 0 | R6: -9.9635774 | S6: 56.088692 | U6: 200 | V6: 52.7154 | W6: -2.259733 | X6: 0 | Y6: 52.417085 | Z6: -2.497209 | AA6: 0 | AB6: 51.886725 | AC6: -2.441906 | AD6: 0 | AE6: -5.6866252 | AF6: 52.134123 | AG6: 0 | AH6: -3.81071 | AI6: 52.488974 | AJ6: =AW6/5 -> 0 | AK6: 200 | AL6: 53.63286 | AM6: 11.92701 | AN6: 0 | AO6: 53.91992 | AP6: 12.023635 | AQ6: 0 | AR6: 52.53248 | AS6: 11.9564 | AT6: 0 | AU6: 15.169383 | AV6: 53.645544 | AW6: 0 | AX6: 13.165704 | AY6: 54.387663 | AZ6: =BM6/5 -> 0 | BA6: 200 | BB6: 54.42838 | BC6: -0.225429 | BD6: 0 | BE6: 53.793825 | BF6: -0.176063 | BG6: 0 | BH6: 52.383635 | BI6: 0.162725 | BJ6: 0 | BK6: 3.7445255 | BL6: 53.40433 | BM6: 0 | BN6: 1.4961402 | BO6: 54.242661
A7: 2750 | B7: 45.1455 | C7: -2.382169 | D7: =K7/5 -> 80 | E7: 550 | F7: 49.95699 | G7: -13.40625 | H7: 400 | I7: 49.736145 | J7: -11.587525 | K7: 400 | L7: 49.00583 | M7: -12.03841 | N7: 40 | O7: -11.34336 | P7: 55.06245 | Q7: 40 | R7: -9.7512982 | S7: 55.426888 | U7: 550 | V7: 47.92047 | W7: -4.074849 | X7: 400 | Y7: 47.245275 | Z7: -3.7317015 | AA7: 400 | AB7: 46.724255 | AC7: -4.3267125 | AD7: 40 | AE7: -4.9199836 | AF7: 51.582866 | AG7: 40 | AH7: -3.3051949 | AI7: 51.932116 | AJ7: =AW7/5 -> 8 | AK7: 550 | AL7: 47.1663 | AM7: 17.45384 | AN7: 400 | AO7: 46.716895 | AP7: 15.22162 | AQ7: 400 | AR7: 45.401255 | AS7: 16.04358 | AT7: 40 | AU7: 14.976467 | AV7: 52.870256 | AW7: 40 | AX7: 12.909026 | AY7: 53.601128 | AZ7: =BM7/5 -> 8 | BA7: 550 | BB7: 47.66056 | BC7: 0.989831 | BD7: 400 | BE7: 46.35765 | BF7: 0.82362108 | BG7: 400 | BH7: 44.91631 | BI7: 2.100886 | BJ7: 40 | BK7: 3.1104448 | BL7: 52.619951 | BM7: 40 | BN7: 0.92934379 | BO7: 53.44501
A8: 4250 | B8: 39.55083 | C8: -3.054809 | D8: =K8/5 -> 680 | E8: 850 | F8: 45.5015 | G8: -14.03202 | H8: 1400 | I8: 35.509345 | J8: -14.81411 | K8: 3400 | L8: 8.2775385 | M8: -15.201915 | N8: 80 | O8: -11.214129 | P8: 54.405539 | Q8: 80 | R8: -9.6036836 | S8: 54.764576 | U8: 850 | V8: 44.00297 | W8: -4.65209 | X8: 1400 | Y8: 34.77965 | Z8: -5.7073075 | AA8: 3400 | AB8: 11.06647 | AC8: -8.0708385 | AD8: 80 | AE8: -4.3610092 | AF8: 51.028065 | AG8: 80 | AH8: -2.9449797 | AI8: 51.372949 | AJ8: =AW8/5 -> 16 | AK8: 850 | AL8: 41.72155 | AM8: 18.23198 | AN8: 1400 | AO8: 29.852975 | AP8: 19.46779 | AQ8: 3400 | AR8: -2.0371565 | AS8: 21.199515 | AT8: 80 | AU8: 14.821179 | AV8: 52.099791 | AW8: 80 | AX8: 12.726118 | AY8: 52.812716 | AZ8: =BM8/5 -> 16 | BA8: 850 | BB8: 42.05456 | BC8: 1.653726 | BD8: 1400 | BE8: 29.45182 | BF8: 2.8328165 | BG8: 3400 | BH8: -2.3985095 | BI8: 8.4271775 | BJ8: 80 | BK8: 2.6342706 | BL8: 51.843712 | BM8: 80 | BN8: 0.51909904 | BO8: 52.641149
A9: 5750 | B9: 33.99197 | C9: -3.709867 | D9: =K9/5 -> 1280 | E9: 1150 | F9: 41.08593 | G9: -14.59764 | H9: 2400 | I9: 21.74386 | J9: -16.056675 | K9: 6400 | L9: -18.02969 | M9: -13.27522 | N9: 120 | O9: -11.124617 | P9: 53.748939 | Q9: 120 | R9: -9.5207336 | S9: 54.10225 | U9: 1150 | V9: 40.12308 | W9: -5.186267 | X9: 2400 | Y9: 22.82634 | Z9: -6.979238 | AA9: 6400 | AB9: -18.871545 | AC9: -17.22572 | AD9: 120 | AE9: -4.0097019 | AF9: 50.471192 | AG9: 120 | AH9: -2.7300645 | AI9: 50.812525 | AJ9: =AW9/5 -> 24 | AK9: 1150 | AL9: 36.31951 | AM9: 18.95893 | AN9: 2400 | AO9: 13.27513 | AP9: 21.3123 | AQ9: 6400 | AR9: -33.22246 | AS9: 23.46431 | AT9: 120 | AU9: 14.70352 | AV9: 51.332967 | AW9: 120 | AX9: 12.616981 | AY9: 52.02351 | AZ9: =BM9/5 -> 24 | BA9: 1150 | BB9: 36.49384 | BC9: 2.307555 | BD9: 2400 | BE9: 12.819685 | BF9: 4.7995255 | BG9: 6400 | BH9: -52.45295 | BI9: 37.087575 | BJ9: 120 | BK9: 2.3160029 | BL9: 51.073338 | BM9: 120 | BN9: 0.26540602 | BO9: 51.833603
A10: 7250 | B10: 28.45806 | C10: -4.350299 | D10: =K10/5 -> 1880 | E10: 1450 | F10: 36.70827 | G10: -15.10508 | H10: 3400 | I10: 8.3124875 | J10: -16.240105 | K10: 9400 | L10: -7.561245 | M10: -9.1618685 | N10: 160 | O10: -11.074822 | P10: 53.092993 | Q10: 160 | R10: -9.502448 | S10: 53.440406 | U10: 1450 | V10: 36.2803 | W10: -5.679018 | X10: 3400 | Y10: 11.238805 | Z10: -8.6680575 | AA10: 9400 | AB10: -32.41941 | AC10: -20.295145 | AD10: 160 | AE10: -3.8660618 | AF10: 49.913719 | AG10: 160 | AH10: -2.6604492 | AI10: 50.251894 | AJ10: =AW10/5 -> 32 | AK10: 1450 | AL10: 30.95302 | AM10: 19.63682 | AN10: 3400 | AO10: -3.106702 | AP10: 22.165195 | AQ10: 9400 | AR10: -13.1952 | AS10: 23.015865 | AT10: 160 | AU10: 14.623488 | AV10: 50.568602 | AW10: 160 | AX10: 12.581615 | AY10: 51.234595 | AZ10: =BM10/5 -> 32 | BA10: 1450 | BB10: 30.97166 | BC10: 2.953743 | BD10: 3400 | BE10: -3.3633575 | BF10: 8.6823225 | BG10: 9400 | BH10: -55.361135 | BI10: 58.73006 | BJ10: 160 | BK10: 2.1556417 | BL10: 50.306559 | BM10: 160 | BN10: 0.1682647 | BO10: 51.024892
A11: 8750 | B11: 22.93409 | C11: -4.98145 | D11: =K11/5 -> 2480 | E11: 1750 | F11: 32.36659 | G11: -15.55562 | H11: 4400 | I11: -5.070538 | J11: -15.852425 | K11: 12400 | L11: -11.118275 | M11: -7.063242 | N11: 200 | O11: -11.064746 | P11: 52.438045 | Q11: 200 | R11: -9.5488271 | S11: 52.779538 | U11: 1750 | V11: 32.47413 | W11: -6.131592 | X11: 4400 | Y11: 0.581738 | Z11: -10.008886 | AA11: 12400 | AB11: -48.177395 | AC11: -16.068995 | AD11: 200 | AE11: -3.9300887 | AF11: 49.35712 | AG11: 200 | AH11: -2.7361338 | AI11: 49.69211 | AJ11: =AW11/5 -> 40 | AK11: 1750 | AL11: 25.61507 | AM11: 20.26797 | AN11: 4400 | AO11: -20.417255 | AP11: 22.94208 | AT11: 200 | AU11: 14.581084 | AV11: 49.805513 | AW11: 200 | AX11: 12.62002 | AY11: 50.447052 | AZ11: =BM11/5 -> 40 | BA11: 1750 | BB11: 25.4823 | BC11: 3.59627 | BD11: 4400 | BE11: -21.06183 | BF11: 13.385855 | BJ11: 200 | BK11: 2.1531869 | BL11: 49.541101 | BM11: 200 | BN11: 0.22767511 | BO11: 50.217539
A12: 10250 | B12: 17.40618 | C12: -5.610999 | D12: =H12/5 -> 1080 | E12: 2050 | F12: 28.05896 | G12: -15.95039 | H12: 5400 | I12: -18.31059 | J12: -15.365795 | N12: 240 | O12: -11.094388 | P12: 51.784435 | Q12: 240 | R12: -9.6598707 | S12: 52.120141 | U12: 2050 | V12: 28.70411 | W12: -6.545037 | X12: 5400 | Y12: -9.789302 | Z12: -10.216967 | AD12: 240 | AE12: -4.2017829 | AF12: 48.802865 | AG12: 240 | AH12: -2.9571184 | AI12: 49.134221 | AJ12: =AW12/5 -> 48 | AK12: 2050 | AL12: 20.29913 | AM12: 20.85548 | AN12: 5400 | AO12: -37.351115 | AP12: 24.41203 | AT12: 240 | AU12: 14.576308 | AV12: 49.042518 | AW12: 240 | AX12: 12.732196 | AY12: 49.661963 | AZ12: =BM12/5 -> 48 | BA12: 2050 | BB12: 20.02185 | BC12: 4.240511 | BD12: 5400 | BE12: -37.19937 | BF12: 17.38965 | BJ12: 240 | BK12: 2.3086386 | BL12: 48.774693 | BM12: 240 | BN12: 0.44363722 | BO12: 49.414067
A13: 11750 | B13: 11.86296 | C13: -6.250938 | D13: =H13/5 -> 1280 | E13: 2350 | F13: 23.7835 | G13: -16.29035 | H13: 6400 | I13: -18.341485 | J13: -13.258195 | N13: 280 | O13: -11.163749 | P13: 51.132509 | Q13: 280 | R13: -9.8355788 | S13: 51.46271 | U13: 2350 | V13: 24.96976 | W13: -6.920204 | X13: 6400 | Y13: -18.76693 | Z13: -17.703195 | AD13: 280 | AE13: -4.6811441 | AF13: 48.252427 | AG13: 280 | AH13: -3.3234029 | AI13: 48.579282 | AJ13: =AW13/5 -> 56 | AK13: 2350 | AL13: 14.99962 | AM13: 21.40324 | AN13: 6400 | AO13: -33.61858 | AP13: 26.391175 | AT13: 280 | AU13: 14.60916 | AV13: 48.278435 | AW13: 280 | AX13: 12.918142 | AY13: 48.880413 | AZ13: =BM13/5 -> 56 | BA13: 2350 | BB13: 14.58906 | BC13: 4.892854 | BD13: 6400 | BE13: -51.74467 | BF13: 45.30331 | BJ13: 280 | BK13: 2.6219968 | BL13: 48.005063 | BM13: 280 | BN13: 0.81615106 | BO13: 48.616998
A14: 13250 | B14: 6.29921 | C14: -6.916494 | D14: =H14/5 -> 1480 | E14: 2650 | F14: 19.53834 | G14: -16.57631 | H14: 7400 | I14: -6.1402995 | J14: -11.503665 | N14: 320 | O14: -11.272827 | P14: 50.482607 | Q14: 320 | R14: -10.075952 | S14: 50.807738 | U14: 2650 | V14: 21.2706 | W14: -7.257748 | X14: 7400 | Y14: -22.67482 | Z14: -25.11083 | AD14: 320 | AE14: -5.3681725 | AF14: 47.707278 | AG14: 320 | AH14: -3.8349874 | AI14: 48.028342 | AJ14: =AW14/5 -> 64 | AK14: 2650 | AL14: 9.712329 | AM14: 21.91574 | AN14: 7400 | AO14: -14.501995 | AP14: 28.212145 | AT14: 320 | AU14: 14.67964 | AV14: 47.512082 | AW14: 320 | AX14: 13.177859 | AY14: 48.103483 | AZ14: =BM14/5 -> 64 | BA14: 2650 | BB14: 9.18631 | BC14: 5.560037 | BD14: 7400 | BE14: -54.95898 | BF14: 73.067125 | BJ14: 320 | BK14: 3.0932615 | BL14: 47.229938 | BM14: 320 | BN14: 1.3452166 | BO14: 47.828854
A15: 14750 | B15: 0.721669 | C15: -7.623065 | D15: =H15/5 -> 1680 | E15: 2950 | F15: 15.32162 | G15: -16.80895 | H15: 8400 | I15: -6.8752325 | J15: -11.462145 | N15: 360 | O15: -11.421624 | P15: 49.835074 | Q15: 360 | R15: -10.380989 | S15: 50.155721 | U15: 2950 | V15: 17.60611 | W15: -7.558128 | X15: 8400 | Y15: -27.576825 | Z15: -24.97037 | AD15: 360 | AE15: -6.2628681 | AF15: 47.168891 | AG15: 360 | AH15: -4.4918718 | AI15: 47.482452 | AJ15: =AW15/5 -> 72 | AK15: 2950 | AL15: 4.434949 | AM15: 22.39778 | AN15: 8400 | AO15: -15.108255 | AP15: 28.552895 | AT15: 360 | AU15: 14.787749 | AV15: 46.742277 | AW15: 360 | AX15: 13.511347 | AY15: 47.332257 | AZ15: =BM15/5 -> 72 | BA15: 2950 | BB15: 3.820535 | BC15: 6.248101 | BD15: 8400 | BE15: -60.092555 | BF15: 73.01188 | BJ15: 360 | BK15: 3.7224326 | BL15: 46.447046 | BM15: 360 | BN15: 2.0308339 | BO15: 47.052157
A16: 16250 | B16: -4.857452 | C16: -8.378001 | D16: =H16/5 -> 1880 | E16: 3250 | F16: 11.13148 | G16: -16.98814 | H16: 9400 | I16: -7.5876875 | J16: -9.493514 | N16: 400 | O16: -11.61014 | P16: 49.190252 | Q16: 400 | R16: -10.750691 | S16: 49.507154 | U16: 3250 | V16: 13.97572 | W16: -7.821272 | X16: 9400 | Y16: -32.50954 | Z16: -21.39392 | AD16: 400 | AE16: -7.3652307 | AF16: 46.638738 | AG16: 400 | AH16: -5.2940561 | AI16: 46.942666 | AJ16: =AW16/5 -> 80 | AK16: 3250 | AL16: -0.832409 | AM16: 22.85313 | AN16: 9400 | AO16: -12.752963 | AP16: 28.302175 | AT16: 400 | AU16: 14.933485 | AV16: 45.967837 | AW16: 400 | AX16: 13.918606 | AY16: 46.567817 | AZ16: =BM16/5 -> 80 | BA16: 3250 | BB16: -1.495865 | BC16: 6.960509 | BD16: 9400 | BE16: -61.071325 | BF16: 70.880635 | BJ16: 400 | BK16: 4.5095103 | BL16: 45.654114 | BM16: 400 | BN16: 2.8730029 | BO16: 46.28943
A17: 17750 | B17: -10.60073 | C17: -12.1786 | D17: =H17/5 -> 2080 | E17: 3550 | F17: 7.010502 | G17: -16.12244 | H17: 10400 | I17: -8.996826 | J17: -7.4061795 | N17: 400 | O17: -14.432011 | P17: 51.056655 | Q17: 400 | R17: -12.883342 | S17: 50.273045 | U17: 3550 | V17: 10.53079 | W17: -9.765084 | X17: 10400 | Y17: -38.105175 | Z17: -17.289365 | AD17: 400 | AE17: -5.3449407 | AF17: 48.850435 | AG17: 400 | AH17: -3.4152005 | AI17: 47.839503 | AJ17: =AW17/5 -> 80 | AK17: 3550 | AL17: -6.229202 | AM17: 21.99269 | AT17: 400 | AU17: 18.832463 | AV17: 48.228556 | AW17: 400 | AX17: 17.010247 | AY17: 47.541115 | AZ17: =BM17/5 -> 80 | BA17: 3550 | BB17: -7.03371 | BC17: 11.52139 | BJ17: 400 | BK17: 2.0005693 | BL17: 47.608548 | BM17: 400 | BN17: 0.045748323 | BO17: 47.120368
A18: 19250 | B18: -16.52086 | C18: -13.09571 | D18: =H18/5 -> 2280 | E18: 3850 | F18: 2.790672 | G18: -16.19355 | H18: 11400 | I18: -10.274625 | J18: -7.0306205 | N18: 700 | O18: -14.929587 | P18: 46.490156 | Q18: 500 | R18: -13.211008 | S18: 48.724633 | U18: 3850 | V18: 7.112599 | W18: -9.961384 | X18: 11400 | Y18: -43.51367 | Z18: -15.60084 | AD18: 700 | AE18: -5.8918078 | AF18: 44.76015 | AG18: 500 | AH18: -3.875067 | AI18: 46.443823 | AJ18: =AW18/5 -> 100 | AK18: 3850 | AL18: -11.69607 | AM18: 22.43388 | AT18: 700 | AU18: 19.493719 | AV18: 42.661167 | AW18: 500 | AX18: 17.397531 | AY18: 45.665845 | AZ18: =BM18/5 -> 100 | BA18: 3850 | BB18: -12.72259 | BC18: 12.4144 | BJ18: 700 | BK18: 2.7293598 | BL18: 41.837416 | BM18: 500 | BN18: 0.55154988 | BO18: 45.23921
A19: 20750 | B19: -22.46037 | C19: -14.12352 | D19: =H19/5 -> 2480 | E19: 4150 | F19: -1.408005 | G19: -16.21256 | H19: 12400 | I19: -11.52193 | J19: -6.7813845 | N19: 1000 | O19: -15.366113 | P19: 41.974259 | Q19: 600 | R19: -13.510452 | S19: 47.184134 | U19: 4150 | V19: 3.727727 | W19: -10.13121 | X19: 12400 | Y19: -49.182645 | Z19: -14.527545 | AD19: 1000 | AE19: -6.3754083 | AF19: 40.719101 | AG19: 600 | AH19: -4.2823248 | AI19: 45.057999 | AJ19: =AW19/5 -> 120 | AK19: 4150 | AL19: -17.14573 | AM19: 22.89327 | AT19: 1000 | AU19: 20.090598 | AV19: 37.273454 | AW19: 600 | AX19: 17.754802 | AY19: 43.804921 | AZ19: =BM19/5 -> 120 | BA19: 4150 | BB19: -18.31562 | BC19: 13.46847 | BJ19: 1000 | BK19: 3.4087498 | BL19: 36.468832 | BM19: 600 | BN19: 1.0044888 | BO19: 43.381163
A20: 22250 | B20: -28.45237 | C20: -15.26341 | D20: =H20/5 -> 0 | E20: 4450 | F20: -5.587289 | G20: -16.17999 | N20: 1300 | O20: -15.74159 | P20: 37.506447 | Q20: 700 | R20: -13.781675 | S20: 45.651049 | U20: 4450 | V20: 0.376213 | W20: -10.27443 | AD20: 1300 | AE20: -6.7957423 | AF20: 36.726438 | AG20: 700 | AH20: -4.6369741 | AI20: 43.681142 | AJ20: =AW20/5 -> 140 | AK20: 4450 | AL20: -22.57213 | AM20: 23.37391 | AT20: 1300 | AU20: 20.623098 | AV20: 32.023703 | AW20: 700 | AX20: 18.082059 | AY20: 41.956583 | AZ20: =BM20/5 -> 140 | BA20: 4450 | BB20: -23.79216 | BC20: 14.68068 | BJ20: 1300 | BK20: 4.0387394 | BL20: 31.399823 | BM20: 700 | BN20: 1.4045651 | BO20: 41.542699
A21: 23750 | B21: -34.52184 | C21: -16.52118 | D21: =H21/5 -> 0 | E21: 4750 | F21: -9.748975 | G21: -16.09556 | N21: 1600 | O21: -16.056016 | P21: 33.084201 | Q21: 800 | R21: -14.024677 | S21: 44.124878 | U21: 4750 | V21: -2.94205 | W21: -10.3903 | AD21: 1600 | AE21: -7.1528097 | AF21: 32.781308 | AG21: 800 | AH21: -4.9390147 | AI21: 42.312368 | AJ21: =AW21/5 -> 160 | AK21: 4750 | AL21: -27.96493 | AM21: 23.87545 | AT21: 1600 | AU21: 21.091221 | AV21: 26.870201 | AW21: 800 | AX21: 18.379303 | AY21: 40.119069 | AZ21: =BM21/5 -> 160 | BA21: 4750 | BB21: -29.12396 | BC21: 16.04284 | BJ21: 1600 | BK21: 4.6193286 | BL21: 26.527418 | BM21: 800 | BN21: 1.7517789 | BO21: 39.720287
A22: 25250 | B22: -40.68351 | C22: -17.89793 | D22: =H22/5 -> 0 | E22: 5050 | F22: -13.89493 | G22: -15.95884 | N22: 1900 | O22: -16.309393 | P22: 28.705004 | Q22: 900 | R22: -14.239457 | S22: 42.605123 | U22: 5050 | V22: -6.227349 | W22: -10.47783 | AD22: 1900 | AE22: -7.4466106 | AF22: 28.882859 | AG22: 900 | AH22: -5.1884469 | AI22: 40.950791 | AJ22: =AW22/5 -> 180 | AK22: 5050 | AL22: -33.3103 | AM22: 24.39252 | AT22: 1900 | AU22: 21.494967 | AV22: 21.771234 | AW22: 900 | AX22: 18.646533 | AY22: 38.290618 | AZ22: =BM22/5 -> 180 | BA22: 5050 | BB22: -34.27687 | BC22: 17.53673 | BJ22: 1900 | BK22: 5.1505173 | BL22: 21.748646 | BM22: 900 | BN22: 2.0461299 | BO22: 37.910401
A23: 26750 | B23: -46.90652 | C23: -19.41137 | D23: =E23/5 -> 1070 | E23: 5350 | F23: -18.0271 | G23: -15.7692 | N23: 2200 | O23: -16.50172 | P23: 24.366339 | Q23: 1000 | R23: -14.426016 | S23: 41.091284 | U23: 5350 | V23: -9.480183 | W23: -10.53582 | AD23: 2200 | AE23: -7.6771449 | AF23: 25.030241 | AG23: 1000 | AH23: -5.3852704 | AI23: 39.595523 | AJ23: =AW23/5 -> 200 | AK23: 5350 | AL23: -38.59168 | AM23: 24.91265 | AT23: 2200 | AU23: 21.834334 | AV23: 16.685088 | AW23: 1000 | AX23: 18.883749 | AY23: 36.469469 | AZ23: =BM23/5 -> 200 | BA23: 5350 | BB23: -39.21396 | BC23: 19.12904 | BJ23: 2200 | BK23: 5.6323056 | BL23: 16.960535 | BM23: 1000 | BN23: 2.2876184 | BO23: 36.10951
A24: 28250 | B24: -53.05951 | C24: -21.08796 | D24: =E24/5 -> 1130 | E24: 5650 | F24: -22.14755 | G24: -15.52582 | N24: 2500 | O24: -16.632997 | P24: 20.065687 | Q24: 1100 | R24: -14.584354 | S24: 39.582862 | U24: 5650 | V24: -12.70129 | W24: -10.5628 | AD24: 2500 | AE24: -7.8444126 | AF24: 21.222601 | AG24: 1100 | AH24: -5.5294853 | AI24: 38.245678 | AJ24: =AW24/5 -> 220 | AK24: 5650 | AL24: -43.79172 | AM24: 25.41392 | AT24: 2500 | AU24: 22.109324 | AV24: 11.57005 | AW24: 1100 | AX24: 19.090952 | AY24: 34.653859 | AZ24: =BM24/5 -> 220 | BA24: 5650 | BB24: -43.89896 | BC24: 20.76687 | BJ24: 2500 | BK24: 6.0646935 | BL24: 12.060114 | BM24: 1100 | BN24: 2.4762442 | BO24: 34.314085
A25: 29750 | B25: -58.84962 | C25: -22.93844 | D25: =E25/5 -> 1190 | E25: 5950 | F25: -26.25846 | G25: -15.22767 | N25: 2800 | O25: -16.703224 | P25: 15.800532 | Q25: 1200 | R25: -14.71447 | S25: 38.079358 | U25: 5950 | V25: -15.89169 | W25: -10.55711 | AD25: 2800 | AE25: -7.9484138 | AF25: 17.459088 | AG25: 1200 | AH25: -5.6210917 | AI25: 36.900372 | AJ25: =AW25/5 -> 240 | AK25: 5950 | AL25: -48.89242 | AM25: 25.86363 | AT25: 2800 | AU25: 22.319936 | AV25: 6.3844061 | AW25: 1200 | AX25: 19.26814 | AY25: 32.842028 | AZ25: =BM25/5 -> 240 | BA25: 5950 | BB25: -48.29912 | BC25: 22.37427 | BJ25: 2800 | BK25: 6.4476809 | BL25: 6.9444101 | BM25: 1200 | BN25: 2.6120075 | BO25: 32.520598
A26: 31250 | B26: -63.89995 | C26: -24.86924 | D26: =E26/5 -> 1250 | E26: 6250 | F26: -30.3622 | G26: -14.87293 | N26: 3100 | O26: -16.712402 | P26: 11.568355 | Q26: 1300 | R26: -14.816365 | S26: 36.580273 | U26: 6250 | V26: -19.05274 | W26: -10.51635 | AD26: 3100 | AE26: -7.9891485 | AF26: 13.738849 | AG26: 1300 | AH26: -5.6600895 | AI26: 35.558716 | AJ26: =AW26/5 -> 260 | AK26: 6250 | AL26: -53.87632 | AM26: 26.21597 | AT26: 3100 | AU26: 22.46617 | AV26: 1.0864434 | AW26: 1300 | AX26: 19.415316 | AY26: 31.032213 | AZ26: =BM26/5 -> 260 | BA26: 6250 | BB26: -52.38475 | BC26: 23.84911 | BJ26: 3100 | BK26: 6.7812679 | BL26: 1.5104531 | BM26: 1300 | BN26: 2.6949081 | BO26: 30.72552
A27: 32750 | B27: -68.30434 | C27: -70.31 | D27: =E27/5 -> 1310 | E27: 6550 | F27: -5.612029 | G27: -11.9019 | N27: 3400 | O27: -16.660529 | P27: 7.3666394 | Q27: 1400 | R27: -14.890039 | S27: 35.085107 | U27: 6550 | V27: -19.04611 | W27: -26.04416 | AD27: 3400 | AE27: -7.9666165 | AF27: 10.061035 | AG27: 1400 | AH27: -5.6464787 | AI27: 34.219826 | AJ27: =AW27/5 -> 280 | AK27: 6550 | AL27: -14.56339 | AM27: 28.60324 | AT27: 3400 | AU27: 22.548027 | AV27: -4.3655519 | AW27: 1400 | AX27: 19.532477 | AY27: 29.222654 | AZ27: =BM27/5 -> 280 | BA27: 6550 | BB27: -56.41577 | BC27: 72.47839 | BJ27: 3400 | BK27: 7.0654544 | BL27: -4.3447288 | BM27: 1400 | BN27: 2.7249461 | BO27: 28.925322
A28: 34250 | B28: -70.16067 | C28: -71.88112 | D28: =E28/5 -> 1370 | E28: 6850 | F28: -5.925232 | G28: -11.86163 | N28: 3400 | O28: -15.663086 | P28: 9.9144356 | Q28: 1400 | R28: -14.890039 | S28: 36.033205 | U28: 6850 | V28: -20.81933 | W28: -26.01138 | AD28: 3400 | AE28: -9.1807775 | AF28: 12.949028 | AG28: 1400 | AH28: -5.6464787 | AI28: 35.412863 | AJ28: =AW28/5 -> 280 | AK28: 6850 | AL28: -15.26579 | AM28: 28.66224 | AT28: 3400 | AU28: 20.884399 | AV28: -0.44677308 | AW28: 1400 | AX28: 19.532477 | AY28: 30.482792 | AZ28: =BM28/5 -> 280 | BA28: 6850 | BB28: -58.42168 | BC28: 73.63085 | BJ28: 3400 | BK28: 9.807687 | BL28: -1.3597894 | BM28: 1400 | BN28: 2.7249461 | BO28: 29.966311
A29: 35750 | B29: -71.4482 | C29: -73.18668 | D29: =E29/5 -> 1430 | E29: 7150 | F29: -6.224987 | G29: -11.83239 | N29: 3700 | O29: -15.839418 | P29: 5.6512024 | Q29: 1500 | R29: -15.063324 | S29: 34.542346 | U29: 7150 | V29: -22.5556 | W29: -25.98488 | AD29: 3700 | AE29: -9.7093774 | AF29: 9.4600708 | AG29: 1500 | AH29: -5.8351649 | AI29: 34.077707 | AJ29: =AW29/5 -> 300 | AK29: 7150 | AL29: -15.75165 | AM29: 28.84298 | AT29: 3700 | AU29: 21.508983 | AV29: -6.113719 | AW29: 1500 | AX29: 19.758834 | AY29: 28.676993 | AZ29: =BM29/5 -> 300 | BA29: 7150 | BB29: -60.13367 | BC29: 74.71556 | BJ29: 3700 | BK29: 10.342732 | BL29: -7.1535126 | BM29: 1500 | BN29: 2.9544557 | BO29: 28.169623
A30: 37250 | B30: -72.71664 | C30: -73.87002 | D30: =E30/5 -> 1490 | E30: 7450 | F30: -6.510363 | G30: -11.81282 | N30: 4000 | O30: -15.951937 | P30: 1.4118607 | Q30: 1600 | R30: -15.227437 | S30: 33.056443 | U30: 7450 | V30: -24.25387 | W30: -25.96117 | AD30: 4000 | AE30: -10.129698 | AF30: 6.0119326 | AG30: 1600 | AH30: -6.013885 | AI30: 32.747822 | AJ30: =AW30/5 -> 320 | AK30: 7450 | AL30: -16.09374 | AM30: 29.02435 | AT30: 4000 | AU30: 22.101115 | AV30: -11.60687 | AW30: 1600 | AX30: 19.979245 | AY30: 26.878768 | AZ30: =BM30/5 -> 320 | BA30: 7450 | BB30: -61.74156 | BC30: 75.41203 | BJ30: 4000 | BK30: 11.035318 | BL30: -12.483908 | BM30: 1600 | BN30: 3.1842527 | BO30: 26.385709
