Workbook

Sheet x=34,5m
B2: 172500 outer | C2: A | R2: 172500 inner
C3: Normal | D3: Shear | F3: Normal | G3: Shear | I3: Normal | J3: Shear | K3: coarse | L3: shear | M3: normal | N3: fine | O3: shear | P3: normal | S3: Normal | T3: Shear | AA3: ciarse | AB3: shear | AC3: normal | AD3: fine | AE3: shear | AF3: normal
B4: Z C,G, | C4: Lin, el, outer, 1500x1500 | D4: Lin, el, outer, 1500x1500 | E4: Z C,G, | F4: Lin, el, outer, 5000x5000 | G4: Lin, el, outer, 5000x5000 | H4: Z C,G, | I4: Lin, el, outer, 15000x15000 | J4: Lin, el, outer, 15000x15000 | K4: Z | L4: Sh, el, outer, 15000x15000 | M4: Sh, el, outer, 15000x15000 | N4: Z | O4: Sh, el, outer, 5000x5000 | P4: Sh, el, outer, 5000x5000 | R4: Z C,G, | S4: Lin, el, inner, 1500x1500 | T4: Lin, el, inner, 1500x1500 | U4: Z C,G, | V4: Lin, el, inner, 5000x5000 | W4: Lin, el, inner, 5000x5000 | X4: Z C,G, | Y4: Lin, el, inner, 15000x15000 | Z4: Lin, el, inner, 15000x15000 | AA4: Z | AB4: Sh, el, inner, 15000x15000 | AC4: Sh, el, inner, 15000x15000 | AD4: Z | AE4: Sh, el, inner, 5000x5000 | AF4: Sh, el, inner, 5000x5000
A6: =-D6 -> -3.978126 | B6: 200 | C6: 67.94823 | D6: 3.978126 | E6: 0 | F6: 68.29671 | G6: 3.978126 | H6: 0 | I6: 67.41038 | J6: 3.996268 | K6: 0 | L6: 5.6705807 | M6: 67.701072 | N6: 0 | O6: 4.4975648 | P6: 68.42131 | R6: 200 | S6: 64.21505 | T6: -3.900338 | U6: 0 | V6: 63.724595 | W6: -3.774445 | X6: 0 | Y6: 62.916265 | Z6: -3.489173 | AA6: 0 | AB6: -1.5813828 | AC6: 63.052771 | AD6: 0 | AE6: -3.2101256 | AF6: 63.804591
A7: =-D7 -> -5.602211 | B7: 550 | C7: 60.65126 | D7: 5.602211 | E7: 400 | F7: 60.214325 | G7: 4.880188 | H7: 400 | I7: 59.152435 | J7: 5.193269 | K7: 40 | L7: 5.5837646 | M7: 66.85168 | N7: 40 | O7: 4.448575 | P7: 67.561339 | R7: 550 | S7: 57.95844 | T7: -5.105896 | U7: 400 | V7: 57.005965 | W7: -4.2747485 | X7: 400 | Y7: 56.22318 | Z7: -3.6494025 | AA7: 40 | AB7: -1.6496057 | AC7: 62.337374 | AD7: 40 | AE7: -3.2651682 | AF7: 63.077318
A8: =-D8 -> -5.751088 | B8: 850 | C8: 54.79338 | D8: 5.751088 | E8: 1400 | F8: 41.682995 | G8: 6.058235 | H8: 3400 | I8: 6.282038 | J8: 7.2285355 | K8: 80 | L8: 5.5066266 | M8: 66.002353 | N8: 80 | O8: 4.4054002 | P8: 66.700897 | R8: 850 | S8: 52.77348 | T8: -4.996807 | U8: 1400 | V8: 40.631855 | W8: -4.511032 | X8: 3400 | Y8: 9.7367485 | Z8: -1.4660045 | AA8: 80 | AB8: -1.7153604 | AC8: 61.6184 | AD8: 80 | AE8: -3.3147707 | AF8: 62.347849
A9: =-D9 -> -5.909145 | B9: 1150 | C9: 48.98635 | D9: 5.909145 | E9: 2400 | F9: 23.737845 | G9: 6.6549395 | H9: 6400 | I9: -26.021655 | J9: 8.8695405 | K9: 120 | L9: 5.4391669 | M9: 65.153455 | N9: 120 | O9: 4.3680404 | P9: 65.840538 | R9: 1150 | S9: 47.63494 | T9: -4.864696 | U9: 2400 | V9: 24.955945 | W9: -3.874408 | X9: 6400 | Y9: -28.66663 | Z9: 10.750433 | AA9: 120 | AB9: -1.778647 | AC9: 60.897343 | AD9: 120 | AE9: -3.3589331 | AF9: 61.617235
A10: =-D10 -> -6.076988 | B10: 1450 | C10: 43.22853 | D10: 6.076988 | E10: 3400 | F10: 6.269418 | G10: 7.170469 | H10: 9400 | I10: -9.979832 | J10: 9.497472 | K10: 160 | L10: 5.3813853 | M10: 64.305354 | N10: 160 | O10: 4.3364955 | P10: 64.980813 | R10: 1450 | S10: 42.54467 | T10: -4.709347 | U10: 3400 | V10: 9.90224 | W10: -1.9373855 | X10: 9400 | Y10: -41.817195 | Z10: 22.388215 | AA10: 160 | AB10: -1.8394654 | AC10: 60.175698 | AD10: 160 | AE10: -3.3976552 | AF10: 60.886526
A11: =-D11 -> -6.254976 | B11: 1750 | C11: 37.51826 | D11: 6.254976 | E11: 4400 | F11: -11.14647 | G11: 7.7901025 | H11: 12400 | I11: -9.4814025 | J11: 9.3226695 | K11: 200 | L11: 5.3332819 | M11: 63.458416 | N11: 200 | O11: 4.3107656 | P11: 64.122274 | R11: 1750 | S11: 37.50446 | T11: -4.53044 | U11: 4400 | V11: -4.1425195 | W11: 0.2617815 | X11: 12400 | Y11: -42.291835 | Z11: 24.153185 | AA11: 200 | AB11: -1.8978155 | AC11: 59.454958 | AD11: 200 | AE11: -3.4309372 | AF11: 60.156773
A12: =-D12 -> -6.443438 | B12: 2050 | C12: 31.85391 | D12: 6.443438 | E12: 5400 | F12: -28.243105 | G12: 8.6845025 | K12: 240 | L12: 5.2948567 | M12: 62.613007 | N12: 240 | O12: 4.2908507 | P12: 63.265474 | R12: 2050 | S12: 32.51619 | T12: -4.327779 | U12: 5400 | V12: -17.456245 | W12: 1.6512355 | AA12: 240 | AB12: -1.9536975 | AC12: 58.736618 | AD12: 240 | AE12: -3.458779 | AF12: 59.429027
A13: =-D13 -> -6.642671 | B13: 2350 | C13: 26.23389 | D13: 6.642671 | E13: 6400 | F13: -26.340655 | G13: 9.292187 | K13: 280 | L13: 5.2661097 | M13: 61.769492 | N13: 280 | O13: 4.2767508 | P13: 62.410963 | R13: 2350 | S13: 27.5818 | T13: -4.10131 | U13: 6400 | V13: -28.305495 | W13: 10.95477 | AA13: 280 | AB13: -2.0071113 | AC13: 58.022172 | AD13: 280 | AE13: -3.4811806 | AF13: 58.704339
A14: =-D14 -> -6.852931 | B14: 2650 | C14: 20.65668 | D14: 6.852931 | E14: 7400 | F14: -9.0470915 | G14: 9.7472865 | K14: 320 | L14: 5.2470409 | M14: 60.928239 | N14: 320 | O14: 4.2684659 | P14: 61.559295 | R14: 2650 | S14: 22.70343 | T14: -3.851165 | U14: 7400 | V14: -32.89826 | W14: 20.638085 | AA14: 320 | AB14: -2.0580569 | AC14: 57.313113 | AD14: 320 | AE14: -3.498142 | AF14: 57.98376
A15: =-D15 -> -7.074413 | B15: 2950 | C15: 15.12089 | D15: 7.074413 | E15: 8400 | F15: -9.6611775 | G15: 10.40459 | K15: 360 | L15: 5.2376502 | M15: 60.089613 | N15: 360 | O15: 4.2659959 | P15: 60.711022 | R15: 2950 | S15: 17.88338 | T15: -3.577709 | U15: 8400 | V15: -37.50319 | W15: 22.90194 | AA15: 360 | AB15: -2.1065344 | AC15: 56.610935 | AD15: 360 | AE15: -3.5096632 | AF15: 57.26834
A16: =-D16 -> -7.306942 | B16: 3250 | C16: 9.625225 | D16: 7.306942 | E16: 9400 | F16: -9.781522 | G16: 10.175797 | K16: 400 | L16: 5.2379378 | M16: 59.25398 | N16: 400 | O16: 4.269341 | P16: 59.866695 | R16: 3250 | S16: 13.12415 | T16: -3.281475 | U16: 9400 | V16: -40.88011 | W16: 24.619065 | AA16: 400 | AB16: -2.1525436 | AC16: 55.917133 | AD16: 400 | AE16: -3.5157443 | AF16: 56.55913
A17: =-D17 -> -7.1374 | B17: 3550 | C17: 4.193748 | D17: 7.1374 | E17: 10400 | F17: -10.270175 | G17: 9.6360105 | K17: 400 | L17: 6.6447493 | M17: 61.72525 | N17: 400 | O17: 5.630149 | P17: 60.884279 | R17: 3550 | S17: 8.55264 | T17: -0.818768 | U17: 10400 | V17: -42.719125 | W17: 25.12693 | AA17: 400 | AB17: -3.2447946 | AC17: 58.932904 | AD17: 400 | AE17: -4.8721091 | AF17: 57.782316
A18: =-D18 -> -7.390285 | B18: 3850 | C18: -1.344442 | D18: 7.390285 | E18: 11400 | F18: -10.29495 | G18: 9.413424 | K18: 700 | L18: 6.6800577 | M18: 55.800489 | N18: 500 | O18: 5.6765362 | P18: 58.865791 | R18: 3850 | S18: 4.009755 | T18: -0.470653 | U18: 11400 | V18: -43.45232 | W18: 23.879285 | AA18: 700 | AB18: -3.3487359 | AC18: 53.57549 | AD18: 500 | AE18: -4.8445913 | AF18: 55.946812
A19: =-D19 -> -7.656996 | B19: 4150 | C19: -6.845893 | D19: 7.656996 | E19: 12400 | F19: -10.126029 | G19: 9.161528 | K19: 1000 | L19: 6.7304336 | M19: 49.941033 | N19: 600 | O19: 5.7225747 | P19: 56.857193 | R19: 4150 | S19: -0.46433 | T19: -0.0880388 | U19: 12400 | V19: -44.174205 | W19: 22.711545 | AA19: 1000 | AB19: -3.3969931 | AC19: 48.290113 | AD19: 600 | AE19: -4.8150588 | AF19: 54.122978
A20: =-D20 -> -7.93751 | B20: 4450 | C20: -12.31147 | D20: 7.93751 | K20: 1300 | L20: 6.795877 | M20: 44.14395 | N20: 700 | O20: 5.7682645 | P20: 54.857878 | R20: 4450 | S20: -4.866619 | T20: 0.327453 | AA20: 1300 | AB20: -3.3895663 | AC20: 43.074324 | AD20: 700 | AE20: -4.7835117 | AF20: 52.309833
A21: =-D21 -> -8.231382 | B21: 4750 | C21: -17.74175 | D21: 8.231382 | K21: 1600 | L21: 6.8763879 | M21: 38.406304 | N21: 800 | O21: 5.8136056 | P21: 52.867239 | R21: 4750 | S21: -9.193769 | T21: 0.773985 | AA21: 1600 | AB21: -3.3264554 | AC21: 37.925677 | AD21: 800 | AE21: -4.7499499 | AF21: 50.506395
A22: =-D22 -> -8.53793 | B22: 5050 | C22: -23.13709 | D22: 8.53793 | K22: 1900 | L22: 6.9719662 | M22: 32.725163 | N22: 900 | O22: 5.8585981 | P22: 50.884668 | R22: 5050 | S22: -13.4421 | T22: 1.249311 | AA22: 1900 | AB22: -3.2076604 | AC22: 32.841722 | AD22: 900 | AE22: -4.7143734 | AF22: 48.711685
A23: =-D23 -> -8.856133 | B23: 5350 | C23: -28.49759 | D23: 8.856133 | K23: 2200 | L23: 7.082612 | M23: 27.097593 | N23: 1000 | O23: 5.9032419 | P23: 48.909559 | R23: 5350 | S23: -17.60766 | T23: 1.750592 | AA23: 2200 | AB23: -3.0331814 | AC23: 27.820013 | AD23: 1000 | AE23: -4.6767823 | AF23: 46.92472
A24: =-D24 -> -9.18455 | B24: 5650 | C24: -33.8232 | D24: 9.18455 | K24: 2500 | L24: 7.2083252 | M24: 21.520659 | N24: 1100 | O24: 5.947537 | P24: 46.941303 | R24: 5650 | S24: -21.68634 | T24: 2.27422 | AA24: 2500 | AB24: -2.8030184 | AC24: 22.858102 | AD24: 1100 | AE24: -4.6371766 | AF24: 45.144521
A25: =-D25 -> -9.5212 | B25: 5950 | C25: -39.11376 | D25: 9.5212 | K25: 2800 | L25: 7.349106 | M25: 15.991429 | N25: 1200 | O25: 5.9914834 | P25: 44.979294 | R25: 5950 | S25: -25.67404 | T25: 2.815639 | AA25: 2800 | AB25: -2.5171713 | AC25: 17.95354 | AD25: 1200 | AE25: -4.5955562 | AF25: 43.370105
A26: =-D26 -> -9.863092 | B26: 6250 | C26: -44.36916 | D26: 9.863092 | K26: 3100 | L26: 7.5049542 | M26: 10.506968 | N26: 1300 | O26: 6.0350812 | P26: 43.022924 | R26: 6250 | S26: -29.56695 | T26: 3.369053 | AA26: 3100 | AB26: -2.1756402 | AC26: 13.10388 | AD26: 1300 | AE26: -4.5519211 | AF26: 41.600492
A27: =-D27 -> -9.659118 | B27: 6550 | C27: -8.365053 | D27: 9.659118 | K27: 3400 | L27: 7.6758699 | M27: 5.0643423 | N27: 1400 | O27: 6.0783302 | P27: 41.071587 | R27: 6550 | S27: -29.083 | T27: 19.60046 | AA27: 3400 | AB27: -1.778425 | AC27: 8.3066737 | AD27: 1400 | AE27: -4.5062714 | AF27: 39.834701
A28: =-D28 -> -9.822084 | B28: 6850 | C28: -8.855512 | D28: 9.822084 | K28: 3400 | L28: 7.1187201 | M28: 8.4967404 | N28: 1400 | O28: 6.0783302 | P28: 42.342516 | R28: 6850 | S28: -31.31954 | T28: 20.25934 | AA28: 3400 | AB28: -0.39048963 | AC28: 12.413515 | AD28: 1400 | AE28: -4.5062714 | AF28: 41.481251
A29: =-D29 -> -10.01176 | B29: 7150 | C29: -9.277869 | D29: 10.01176 | K29: 3700 | L29: 7.3254524 | M29: 2.9698871 | N29: 1500 | O29: 6.1289063 | P29: 40.397014 | R29: 7150 | S29: -33.38216 | T29: 20.97894 | AA29: 3700 | AB29: -0.24326642 | AC29: 7.8368538 | AD29: 1500 | AE29: -4.4702468 | AF29: 39.72125
A30: =-D30 -> -10.2216 | B30: 7450 | C30: -9.630631 | D30: 10.2216 | K30: 4000 | L30: 7.5465941 | M30: -2.5234844 | N30: 1600 | O30: 6.1825866 | P30: 38.458411 | R30: 7450 | S30: -35.262 | T30: 21.74229 | AA30: 4000 | AB30: -0.015751548 | AC30: 3.3201312 | AD30: 1600 | AE30: -4.4255983 | AF30: 37.969487
A31: =-D31 -> -10.4448 | B31: 7750 | C31: -9.913186 | D31: 10.4448 | K31: 4300 | L31: 7.7821452 | M31: -7.9832382 | N31: 1700 | O31: 6.2393711 | P31: 36.526487 | R31: 7750 | S31: -36.95292 | T31: 22.53056 | AA31: 4300 | AB31: 0.29205498 | AC31: -1.1313996 | AD31: 1700 | AE31: -4.3723257 | AF31: 36.225701
... A46: =-D46 -> -9.347061 | B46: 12250 | C46: -11.00253 | D46: 9.347061 | K46: 8500 | L46: 10.220655 | M46: -9.1579918 | N46: 3100 | O46: 7.1866996 | P46: 11.257164 | R46: 12250 | S46: -48.65465 | T46: 21.33914 | AA46: 8500 | AB46: 22.769742 | AC46: -36.528168 | AD46: 3100 | AE46: -3.2060972 | AF46: 14.111027
K47: 8800 | L47: 10.456456 | M47: -9.0249077 | N47: 3200 | O47: 7.3087588 | P47: 9.4077779 | AA47: 8800 | AB47: 23.763758 | AC47: -37.270751 | AD47: 3200 | AE47: -2.9678718 | AF47: 12.476903
K48: 9100 | L48: 10.708878 | M48: -8.8063205 | N48: 3300 | O48: 7.4447999 | P48: 7.5630618 | AA48: 9100 | AB48: 24.815586 | AC48: -37.744091 | AD48: 3300 | AE48: -2.6897988 | AF48: 10.849862
K49: 9400 | L49: 10.977923 | M49: -8.4974407 | N49: 3400 | O49: 7.594823 | P49: 5.7228779 | AA49: 9400 | AB49: 25.925227 | AC49: -37.923289 | AD49: 3400 | AE49: -2.3718783 | AF49: 9.2297452
K50: 9400 | L50: 8.7549352 | M50: -10.516531 | N50: 3400 | O50: 6.8179341 | P50: 6.862901 | AA50: 9400 | AB50: 20.987791 | AC50: -42.280465 | AD50: 3400 | AE50: -1.4549556 | AF50: 10.625974
K51: 9700 | L51: 8.9965488 | M51: -10.574674 | N51: 3500 | O51: 6.962747 | P51: 4.9858362 | AA51: 9700 | AB51: 22.355241 | AC51: -42.918471 | AD51: 3500 | AE51: -1.1494994 | AF51: 9.0543598
K52: 10000 | L52: 9.1757371 | M52: -10.58048 | N52: 3600 | O52: 7.0971665 | P52: 3.1136264 | AA52: 10000 | AB52: 23.375041 | AC52: -43.319917 | AD52: 3600 | AE52: -0.87465595 | AF52: 7.4909497
K53: 10300 | L53: 9.2925002 | M53: -10.544807 | N53: 3700 | O53: 7.2211926 | P53: 1.24615 | AA53: 10300 | AB53: 24.04719 | AC53: -43.544831 | AD53: 3700 | AE53: -0.63042509 | AF53: 5.9357896
K54: 10600 | L54: 9.3468381 | M54: -10.478511 | N54: 3800 | O54: 7.3348253 | P54: -0.6167146 | AA54: 10600 | AB54: 24.371689 | AC54: -43.653238 | AD54: 3800 | AE54: -0.41680686 | AF54: 4.3889255
K55: 10900 | L55: 9.3387507 | M55: -10.392448 | N55: 3900 | O55: 7.4380645 | P55: -2.4750892 | AA55: 10900 | AB55: 24.348539 | AC55: -43.705165 | AD55: 3900 | AE55: -0.23380126 | AF55: 2.8504033
K56: 11200 | L56: 9.2682381 | M56: -10.297475 | N56: 4000 | O56: 7.5309103 | P56: -4.3290953 | AA56: 11200 | AB56: 23.977737 | AC56: -43.76064 | AD56: 4000 | AE56: -0.081408292 | AF56: 1.3202688
K57: 11500 | L57: 9.1353003 | M57: -10.204449 | N57: 4100 | O57: 7.6133627 | P57: -6.1788546 | AA57: 11500 | AB57: 23.259286 | AC57: -43.879688 | AD57: 4100 | AE57: 0.040372047 | AF57: -0.20143184
K58: 11800 | L58: 8.9399372 | M58: -10.124226 | N58: 4200 | O58: 7.6854216 | P58: -8.0244888 | AA58: 11800 | AB58: 22.193185 | AC58: -44.122337 | AD58: 4200 | AE58: 0.13153976 | AF58: -1.7146528
... K60: 12400 | L60: 8.3619354 | M60: -10.045616 | N60: 4400 | O60: 7.7983592 | P60: -11.703868 | AA60: 12400 | AB60: 19.018031 | AC60: -45.218542 | AD60: 4400 | AE60: 0.22203728 | AF60: -4.7154721
N61: 4400 | O61: 7.7983592 | P61: -10.583117 | AD61: 4400 | AE61: 0.22203728 | AF61: -3.4727279
N62: 4500 | O62: 7.8865514 | P62: -12.416871 | AD62: 4500 | AE62: 0.3418586 | AF62: -4.9600932
N63: 4600 | O63: 7.9777243 | P63: -14.246492 | AD63: 4600 | AE63: 0.47398391 | AF63: -6.438441
N64: 4700 | O64: 8.0718779 | P64: -16.072066 | AD64: 4700 | AE64: 0.61841321 | AF64: -7.9076172
N65: 4800 | O65: 8.1690122 | P65: -17.893677 | AD65: 4800 | AE65: 0.7751465 | AF65: -9.3674679
N66: 4900 | O66: 8.2691271 | P66: -19.71141 | AD66: 4900 | AE66: 0.94418378 | AF66: -10.817839
N67: 5000 | O67: 8.3722227 | P67: -21.525351 | AD67: 5000 | AE67: 1.125525 | AF67: -12.258577
N68: 5100 | O68: 8.478299 | P68: -23.335584 | AD68: 5100 | AE68: 1.3191703 | AF68: -13.689527
N69: 5200 | O69: 8.5873559 | P69: -25.142194 | AD69: 5200 | AE69: 1.5251195 | AF69: -15.110536
N70: 5300 | O70: 8.6993935 | P70: -26.945267 | AD70: 5300 | AE70: 1.7433728 | AF70: -16.521449
N71: 5400 | O71: 8.8144118 | P71: -28.744887 | AD71: 5400 | AE71: 1.97393 | AF71: -17.922113
N72: 5400 | O72: 8.8144118 | P72: -27.668253 | AD72: 5400 | AE72: 1.97393 | AF72: -16.80902
... N148: 12400 | O148: 8.692518 | P148: -10.115432 | AD148: 12400 | AE148: 20.732071 | AF148: -44.380964

Sheet x=37,5m
B2: 187500 outer | C2: A | R2: 187500 inner
C3: Normal | D3: Shear | F3: Normal | G3: Shear | I3: Normal | J3: Shear | K3: coarse | L3: shear | M3: normal | N3: fine | O3: shear | P3: normal | S3: Normal | T3: Shear | AA3: ciarse | AB3: shear | AC3: normal | AD3: fine | AE3: shear | AF3: normal
B4: Z C,G, | C4: Lin, el, outer, 1500x1500 | D4: Lin, el, outer, 1500x1500 | E4: Z C,G, | F4: Lin, el, outer, 5000x5000 | G4: Lin, el, outer, 5000x5000 | H4: Z C,G, | I4: Lin, el, outer, 15000x15000 | J4: Lin, el, outer, 15000x15000 | K4: Z | L4: Sh, el, outer, 15000x15000 | M4: Sh, el, outer, 15000x15000 | N4: Z | O4: Sh, el, outer, 5000x5000 | P4: Sh, el, outer, 5000x5000 | R4: Z C,G, | S4: Lin, el, inner, 1500x1500 | T4: Lin, el, inner, 1500x1500 | U4: Z C,G, | V4: Lin, el, inner, 5000x5000 | W4: Lin, el, inner, 5000x5000 | X4: Z C,G, | Y4: Lin, el, inner, 15000x15000 | Z4: Lin, el, inner, 15000x15000 | AA4: Z | AB4: Sh, el, inner, 15000x15000 | AC4: Sh, el, inner, 15000x15000 | AD4: Z | AE4: Sh, el, inner, 5000x5000 | AF4: Sh, el, inner, 5000x5000
A6: =-D6 -> -6.804337 | B6: 200 | C6: 65.60502 | D6: 6.804337 | E6: 0 | F6: 65.88511 | G6: 6.875245 | H6: 0 | I6: 64.796915 | J6: 6.9337995 | K6: 0 | L6: 9.3177572 | M6: 65.241135 | N6: 0 | O6: 7.6567928 | P6: 66.100204 | R6: 200 | S6: 62.88669 | T6: -4.486794 | U6: 0 | V6: 62.33016 | W6: -4.292978 | X6: 0 | Y6: 61.279775 | Z6: -3.7181435 | AA6: 0 | AB6: -1.2921182 | AC6: 61.567011 | AD6: 0 | AE6: -3.4107771 | AF6: 62.501437
A7: =-D7 -> -9.733881 | B7: 550 | C7: 58.35714 | D7: 9.733881 | E7: 400 | F7: 57.861065 | G7: 8.541983 | H7: 400 | I7: 56.666105 | J7: 9.157122 | K7: 40 | L7: 9.1992447 | M7: 64.395573 | N7: 40 | O7: 7.5512664 | P7: 65.240764 | R7: 550 | S7: 56.39586 | T7: -5.644043 | U7: 400 | V7: 55.315775 | W7: -4.664073 | X7: 400 | Y7: 54.30352 | Z7: -3.4178025 | AA7: 40 | AB7: -1.4630008 | AC7: 60.824422 | AD7: 40 | AE7: -3.5790859 | AF7: 61.742968
A8: =-D8 -> -10.0556 | B8: 850 | C8: 52.46618 | D8: 10.0556 | E8: 1400 | F8: 39.338675 | G8: 10.71903 | H8: 3400 | I8: 3.8856035 | J8: 12.36759 | K8: 80 | L8: 9.0942706 | M8: 63.5514 | N8: 80 | O8: 7.4669657 | P8: 64.380483 | R8: 850 | S8: 51.00933 | T8: -5.414461 | U8: 1400 | V8: 38.474145 | W8: -4.5773105 | X8: 3400 | Y8: 6.5671935 | Z8: -0.069204 | AA8: 80 | AB8: -1.6090222 | AC8: 60.082181 | AD8: 80 | AE8: -3.7121987 | AF8: 60.981322
A9: =-D9 -> -10.37302 | B9: 1150 | C9: 46.62654 | D9: 10.37302 | E9: 2400 | F9: 21.338125 | G9: 11.7105 | H9: 6400 | I9: -28.231285 | J9: 13.43739 | K9: 120 | L9: 9.002835 | M9: 62.708542 | N9: 120 | O9: 7.4038905 | P9: 63.520044 | R9: 1150 | S9: 45.66984 | T9: -5.168574 | U9: 2400 | V9: 22.23658 | W9: -3.5866645 | X9: 6400 | Y9: -34.282875 | Z9: 15.433545 | AA9: 120 | AB9: -1.7301824 | AC9: 59.3405 | AD9: 120 | AE9: -3.8101155 | AF9: 60.217891
A10: =-D10 -> -10.68618 | B10: 1450 | C10: 40.8353 | D10: 10.68618 | E10: 3400 | F10: 3.7664585 | G10: 12.23806 | H10: 9400 | I10: -12.69394 | J10: 13.153055 | K10: 160 | L10: 8.9249379 | M10: 61.86693 | N10: 160 | O10: 7.362041 | P10: 62.660132 | R10: 1450 | S10: 40.37768 | T10: -4.907091 | U10: 3400 | V10: 6.5788755 | W10: -1.2918535 | X10: 9400 | Y10: -51.779625 | Z10: 31.42196 | AA10: 160 | AB10: -1.8264814 | AC10: 58.599595 | AD10: 160 | AE10: -3.8728364 | AF10: 59.454066
A11: =-D11 -> -10.99498 | B11: 1750 | C11: 35.08954 | D11: 10.99498 | E11: 4400 | F11: -13.78692 | G11: 12.721125 | H11: 12400 | I11: -6.256463 | J11: 12.78606 | K11: 200 | L11: 8.8605793 | M11: 61.02649 | N11: 200 | O11: 7.3414171 | P11: 61.801429 | R11: 1750 | S11: 35.13317 | T11: -4.630102 | U11: 4400 | V11: -8.2598235 | W11: 1.1624015 | X11: 12400 | Y11: -26.36764 | Z11: 34.955875 | AA11: 200 | AB11: -1.8979191 | AC11: 57.859681 | AD11: 200 | AE11: -3.9003613 | AF11: 58.691238
A12: =-D12 -> -11.29957 | B12: 2050 | C12: 29.38639 | D12: 11.29957 | E12: 5400 | F12: -31.086255 | G12: 13.615065 | K12: 240 | L12: 8.8097593 | M12: 60.187151 | N12: 240 | O12: 7.3420188 | P12: 60.944618 | R12: 2050 | S12: 29.9368 | T12: -4.337304 | U12: 5400 | V12: -22.44454 | W12: 2.6981655 | AA12: 240 | AB12: -1.9444957 | AC12: 57.120973 | AD12: 240 | AE12: -3.8926902 | AF12: 57.930798
A13: =-D13 -> -11.60037 | B13: 2350 | C13: 23.72303 | D13: 11.60037 | E13: 6400 | F13: -28.783085 | G13: 13.518365 | K13: 280 | L13: 8.7724777 | M13: 59.348843 | N13: 280 | O13: 7.3638461 | P13: 60.090384 | R13: 2350 | S13: 24.7893 | T13: -4.027956 | U13: 6400 | V13: -34.440905 | W13: 14.35403 | AA13: 280 | AB13: -1.966211 | AC13: 56.383685 | AD13: 280 | AE13: -3.8498231 | AF13: 57.174138
A14: =-D14 -> -11.89806 | B14: 2650 | C14: 18.09679 | D14: 11.89806 | E14: 7400 | F14: -11.83214 | G14: 13.51801 | K14: 320 | L14: 8.7487346 | M14: 58.511493 | N14: 320 | O14: 7.406899 | P14: 59.23941 | R14: 2650 | S14: 19.69185 | T14: -3.700835 | U14: 7400 | V14: -42.718515 | W14: 27.15082 | AA14: 320 | AB14: -1.9630651 | AC14: 55.648033 | AD14: 320 | AE14: -3.77176 | AF14: 56.422648
A15: =-D15 -> -12.19366 | B15: 2950 | C15: 12.50523 | D15: 12.19366 | E15: 8400 | F15: -12.689445 | G15: 14.68678 | K15: 360 | L15: 8.7385301 | M15: 57.675029 | N15: 360 | O15: 7.4711775 | P15: 58.392379 | R15: 2950 | S15: 14.64634 | T15: -3.35418 | U15: 8400 | V15: -48.1493 | W15: 31.41988 | AA15: 360 | AB15: -1.9350579 | AC15: 54.914232 | AD15: 360 | AE15: -3.658501 | AF15: 55.67772
A16: =-D16 -> -12.48802 | B16: 3250 | C16: 6.946209 | D16: 12.48802 | E16: 9400 | F16: -12.214895 | G16: 14.52194 | K16: 400 | L16: 8.741864 | M16: 56.839381 | N16: 400 | O16: 7.5566816 | P16: 57.549974 | R16: 3250 | S16: 9.655594 | T16: -2.985523 | U16: 9400 | V16: -49.11308 | W16: 35.845825 | AA16: 400 | AB16: -1.8821896 | AC16: 54.182495 | AD16: 400 | AE16: -3.510046 | AF16: 54.940745
A17: =-D17 -> -11.9091 | B17: 3550 | C17: 1.424092 | D17: 11.9091 | E17: 10400 | F17: -10.99447 | G17: 13.92764 | K17: 400 | L17: 11.126129 | M17: 59.326606 | N17: 400 | O17: 9.7033998 | P17: 58.584632 | R17: 3550 | S17: 4.803277 | T17: -0.223707 | U17: 10400 | V17: -43.86328 | W17: 38.36966 | AA17: 400 | AB17: -3.6821373 | AC17: 57.051834 | AD17: 400 | AE17: -5.5998638 | AF17: 56.107249
A18: =-D18 -> -12.19263 | B18: 3850 | C18: -4.171275 | D18: 12.19263 | E18: 11400 | F18: -8.723245 | G18: 13.83369 | K18: 700 | L18: 11.324892 | M18: 53.372445 | N18: 500 | O18: 9.8373706 | P18: 56.557837 | R18: 3850 | S18: -0.0121801 | T18: 0.171462 | U18: 11400 | V18: -35.362155 | W18: 37.17405 | AA18: 700 | AB18: -3.5291573 | AC18: 51.477818 | AD18: 500 | AE18: -5.4668051 | AF18: 54.222182
A19: =-D19 -> -12.47393 | B19: 4150 | C19: -9.741199 | D19: 12.47393 | E19: 12400 | F19: -5.9315265 | G19: 13.554035 | K19: 1000 | L19: 11.515267 | M19: 47.506486 | N19: 600 | O19: 9.9638734 | P19: 54.541663 | R19: 4150 | S19: -4.770136 | T19: 0.580892 | U19: 12400 | V19: -25.76428 | W19: 35.59594 | AA19: 1000 | AB19: -3.370946 | AC19: 46.055976 | AD19: 600 | AE19: -5.3438645 | AF19: 52.350824
A20: =-D20 -> -12.75643 | B20: 4450 | C20: -15.28775 | D20: 12.75643 | K20: 1300 | L20: 11.697253 | M20: 41.718237 | N20: 700 | O20: 10.082908 | P20: 52.535321 | R20: 4450 | S20: -9.470557 | T20: 1.00984 | AA20: 1300 | AB20: -3.2075034 | AC20: 40.759879 | AD20: 700 | AE20: -5.2310421 | AF20: 50.49175
A21: =-D21 -> -13.04363 | B21: 4750 | C21: -20.81193 | D21: 13.04363 | K21: 1600 | L21: 11.870851 | M21: 35.997207 | N21: 800 | O21: 10.194475 | P21: 50.538022 | R21: 4750 | S21: -14.11085 | T21: 1.464423 | AA21: 1600 | AB21: -3.0388297 | AC21: 35.563098 | AD21: 800 | AE21: -5.1283379 | AF21: 48.643532
A22: =-D22 -> -13.33953 | B22: 5050 | C22: -26.31331 | D22: 13.33953 | K22: 1900 | L22: 12.036061 | M22: 30.332905 | N22: 900 | O22: 10.298574 | P22: 48.548976 | R22: 5050 | S22: -18.68537 | T22: 1.951551 | AA22: 1900 | AB22: -2.8649247 | AC22: 30.439206 | AD22: 900 | AE22: -5.0357518 | AF22: 46.804741
A23: =-D23 -> -13.64858 | B23: 5350 | C23: -31.78978 | D23: 13.64858 | K23: 2200 | L23: 12.192882 | M23: 24.71484 | N23: 1000 | O23: 10.395205 | P23: 46.567396 | R23: 5350 | S23: -23.18485 | T23: 2.478761 | AA23: 2200 | AB23: -2.6857884 | AC23: 25.361772 | AD23: 1000 | AE23: -4.953284 | AF23: 44.973951
A24: =-D24 -> -13.97562 | B24: 5650 | C24: -37.23692 | D24: 13.97562 | K24: 2500 | L24: 12.341315 | M24: 19.132521 | N24: 1100 | O24: 10.484368 | P24: 44.592491 | R24: 5650 | S24: -27.59554 | T24: 3.053808 | AA24: 2500 | AB24: -2.5014209 | AC24: 20.30437 | AD24: 1100 | AE24: -4.8809342 | AF24: 43.149734
A25: =-D25 -> -14.32544 | B25: 5950 | C25: -42.64771 | D25: 14.32544 | K25: 2800 | L25: 12.48136 | M25: 13.575457 | N25: 1200 | O25: 10.566063 | P25: 42.623472 | R25: 5950 | S25: -31.89842 | T25: 3.683949 | AA25: 2800 | AB25: -2.3118222 | AC25: 15.240571 | AD25: 1200 | AE25: -4.8187027 | AF25: 41.330663
A26: =-D26 -> -14.70181 | B26: 6250 | C26: -48.01167 | D26: 14.70181 | K26: 3100 | L26: 12.613016 | M26: 8.0331563 | N26: 1300 | O26: 10.640291 | P26: 40.659552 | R26: 6250 | S26: -36.06846 | T26: 4.374596 | AA26: 3100 | AB26: -2.1169922 | AC26: 10.143945 | AD26: 1300 | AE26: -4.7665893 | AF26: 39.515311
A27: =-D27 -> -13.04071 | B27: 6550 | C27: -10.69819 | D27: 13.04071 | K27: 3400 | L27: 12.736284 | M27: 2.4951288 | N27: 1400 | O27: 10.70705 | P27: 38.699939 | R27: 6550 | S27: -37.44201 | T27: 24.73514 | AA27: 3400 | AB27: -1.916931 | AC27: 4.9880644 | AD27: 1400 | AE27: -4.7245941 | AF27: 37.702249
A28: =-D28 -> -13.37538 | B28: 6850 | C28: -11.47602 | D28: 13.37538 | K28: 3400 | L28: 11.747214 | M28: 6.1327125 | N28: 1400 | O28: 10.70705 | P28: 40.00564 | R28: 6850 | S28: -40.69146 | T28: 25.82496 | AA28: 3400 | AB28: -4.566272e-05 | AC28: 9.1111663 | AD28: 1400 | AE28: -4.7245941 | AF28: 39.254541
A29: =-D29 -> -13.71586 | B29: 7150 | C29: -12.11911 | D29: 13.71586 | K29: 3700 | L29: 12.071983 | M29: 0.51018336 | N29: 1500 | O29: 10.812109 | P29: 38.051519 | R29: 7150 | S29: -43.58855 | T29: 27.0166 | AA29: 3700 | AB29: 0.43563014 | AC29: 4.1698097 | AD29: 1500 | AE29: -4.6303481 | AF29: 37.446836
A30: =-D30 -> -14.0654 | B30: 7450 | C30: -12.63797 | D30: 14.0654 | K30: 4000 | L30: 12.390468 | M30: -5.0339268 | N30: 1600 | O30: 10.917114 | P30: 36.10436 | R30: 7450 | S30: -46.12336 | T30: 28.31018 | AA30: 4000 | AB30: 0.8919748 | AC30: -0.56353029 | AD30: 1600 | AE30: -4.532482 | AF30: 35.6481
A31: =-D31 -> -14.42782 | B31: 7750 | C31: -13.03641 | D31: 14.42782 | K31: 4300 | L31: 12.702669 | M31: -10.511598 | N31: 1700 | O31: 11.022065 | P31: 34.163807 | R31: 7750 | S31: -48.27196 | T31: 29.70384 | AA31: 4300 | AB31: 1.3689883 | AC31: -5.1282314 | AD31: 1700 | AE31: -4.4309959 | AF31: 33.85773
... A46: =-D46 -> -13.47215 | B46: 12250 | C46: -6.73327 | D46: 13.47215 | K46: 8500 | L46: 14.5758 | M46: -11.919185 | N46: 3100 | O46: 12.416092 | P46: 8.7669334 | R46: 12250 | S46: -29.09763 | T46: 32.74483 | AA46: 8500 | AB46: 31.639975 | AC46: -46.017991 | AD46: 3100 | AE46: -2.8285391 | AF46: 10.968034
K47: 8800 | L47: 14.909473 | M47: -11.698446 | N47: 3200 | O47: 12.550926 | P47: 6.9010475 | AA47: 8800 | AB47: 33.453352 | AC47: -46.278182 | AD47: 3200 | AE47: -2.5958589 | AF47: 9.2792116
K48: 9100 | L48: 15.242362 | M48: -11.377206 | N48: 3300 | O48: 12.695866 | P48: 5.0381273 | AA48: 9100 | AB48: 35.413491 | AC48: -45.996172 | AD48: 3300 | AE48: -2.3332476 | AF48: 7.5930306
K49: 9400 | L49: 15.574469 | M49: -10.970213 | N49: 3400 | O49: 12.850912 | P49: 3.1777269 | AA49: 9400 | AB49: 37.52039 | AC49: -45.145947 | AD49: 3400 | AE49: -2.0407053 | AF49: 5.9082894
K50: 9400 | L50: 12.05865 | M50: -12.268781 | N50: 3400 | O50: 11.658509 | P50: 4.3693442 | AA50: 9400 | AB50: 30.085435 | AC50: -48.723479 | AD50: 3400 | AE50: -0.73541865 | AF50: 7.2659481
K51: 9700 | L51: 12.493339 | M51: -12.089853 | N51: 3500 | O51: 11.813717 | P51: 2.475184 | AA51: 9700 | AB51: 32.431106 | AC51: -48.096712 | AD51: 3500 | AE51: -0.43853698 | AF51: 5.6189813
K52: 10000 | L52: 12.872358 | M52: -11.84037 | N52: 3600 | O52: 11.957985 | P52: 0.58510671 | AA52: 10000 | AB52: 34.35349 | AC52: -47.137309 | AD52: 3600 | AE52: -0.1683463 | AF52: 3.9783392
K53: 10300 | L53: 13.195707 | M53: -11.505608 | N53: 3700 | O53: 12.091313 | P53: -1.3010803 | AA53: 10300 | AB53: 35.852587 | AC53: -45.828536 | AD53: 3700 | AE53: 0.075153394 | AF53: 2.3440508
K54: 10600 | L54: 13.463387 | M54: -11.070845 | N54: 3800 | O54: 12.213701 | P54: -3.1835698 | AA54: 10600 | AB54: 36.928397 | AC54: -44.153654 | AD54: 3800 | AE54: 0.2919621 | AF54: 0.71614498
K55: 10900 | L55: 13.675397 | M55: -10.521357 | N55: 3900 | O55: 12.325148 | P55: -5.0625545 | AA55: 10900 | AB55: 37.58092 | AC55: -42.095928 | AD55: 3900 | AE55: 0.48207983 | AF55: -0.90534934
K56: 11200 | L56: 13.831738 | M56: -9.8424212 | N56: 4000 | O56: 12.425656 | P56: -6.9382269 | AA56: 11200 | AB56: 37.810155 | AC56: -39.638622 | AD56: 4000 | AE56: 0.64550657 | AF56: -2.5204032
K57: 11500 | L57: 13.932409 | M57: -9.0193146 | N57: 4100 | O57: 12.515224 | P57: -8.8107798 | AA57: 11500 | AB57: 37.616104 | AC57: -36.764999 | AD57: 4100 | AE57: 0.78224233 | AF57: -4.1289878
K58: 11800 | L58: 13.977411 | M58: -8.0373139 | N58: 4200 | O58: 12.593851 | P58: -10.680406 | AA58: 11800 | AB58: 36.998766 | AC58: -33.458322 | AD58: 4200 | AE58: 0.8922871 | AF58: -5.7310742
... K60: 12400 | L60: 13.900406 | M60: -5.5377374 | N60: 4400 | O60: 12.718287 | P60: -14.411648 | AA60: 12400 | AB60: 34.494228 | AC60: -25.478863 | AD60: 4400 | AE60: 1.0323037 | AF60: -8.9156365
N61: 4400 | O61: 12.718287 | P61: -13.213497 | AD61: 4400 | AE61: 1.0323037 | AF61: -7.6386144
N62: 4500 | O62: 12.812286 | P62: -15.074182 | AD62: 4500 | AE62: 1.1764616 | AF62: -9.2174872
N63: 4600 | O63: 12.907286 | P63: -16.930223 | AD63: 4600 | AE63: 1.3289892 | AF63: -10.783547
N64: 4700 | O64: 13.003286 | P64: -18.782034 | AD64: 4700 | AE64: 1.4898866 | AF64: -12.338103
N65: 4800 | O65: 13.100285 | P65: -20.630028 | AD65: 4800 | AE65: 1.6591537 | AF65: -13.882464
N66: 4900 | O66: 13.198285 | P66: -22.474617 | AD66: 4900 | AE66: 1.8367906 | AF66: -15.41794
N67: 5000 | O67: 13.297284 | P67: -24.316216 | AD67: 5000 | AE67: 2.0227972 | AF67: -16.945839
N68: 5100 | O68: 13.397284 | P68: -26.155236 | AD68: 5100 | AE68: 2.2171735 | AF68: -18.467469
N69: 5200 | O69: 13.498283 | P69: -27.992091 | AD69: 5200 | AE69: 2.4199196 | AF69: -19.984141
N70: 5300 | O70: 13.600283 | P70: -29.827194 | AD70: 5300 | AE70: 2.6310354 | AF70: -21.497164
N71: 5400 | O71: 13.703282 | P71: -31.660959 | AD71: 5400 | AE71: 2.850521 | AF71: -23.007845
N72: 5400 | O72: 13.703282 | P72: -30.476697 | AD72: 5400 | AE72: 2.850521 | AF72: -21.790102
... N148: 12400 | O148: 12.996105 | P148: -5.7930076 | AD148: 12400 | AE148: 32.782899 | AF148: -25.564722

Sheet x=40,5m
B2: 202500 outer | C2: A | R2: 202500 inner
C3: Normal | D3: Shear | F3: Normal | G3: Shear | I3: Normal | J3: Shear | K3: coarse | L3: shear | M3: normal | N3: fine | O3: shear | P3: normal | S3: Normal | T3: Shear | AA3: ciarse | AB3: shear | AC3: normal | AD3: fine | AE3: shear | AF3: normal
B4: Z C,G, | C4: Lin, el, outer, 1500x1500 | D4: Lin, el, outer, 1500x1500 | E4: Z C,G, | F4: Lin, el, outer, 5000x5000 | G4: Lin, el, outer, 5000x5000 | H4: Z C,G, | I4: Lin, el, outer, 15000x15000 | J4: Lin, el, outer, 15000x15000 | K4: Z | L4: Sh, el, outer, 15000x15000 | M4: Sh, el, outer, 15000x15000 | N4: Z | O4: Sh, el, outer, 5000x5000 | P4: Sh, el, outer, 5000x5000 | R4: Z C,G, | S4: Lin, el, inner, 1500x1500 | T4: Lin, el, inner, 1500x1500 | U4: Z C,G, | V4: Lin, el, inner, 5000x5000 | W4: Lin, el, inner, 5000x5000 | X4: Z C,G, | Y4: Lin, el, inner, 15000x15000 | Z4: Lin, el, inner, 15000x15000 | AA4: Z | AB4: Sh, el, inner, 15000x15000 | AC4: Sh, el, inner, 15000x15000 | AD4: Z | AE4: Sh, el, inner, 5000x5000 | AF4: Sh, el, inner, 5000x5000
B6: 200 | C6: 61.02042 | D6: 9.560656 | E6: 0 | F6: 61.24287 | G6: 9.6322465 | H6: 0 | I6: 59.974265 | J6: 9.515406 | K6: 0 | L6: 12.64756 | M6: 60.688538 | N6: 0 | O6: 10.645684 | P6: 61.593288 | R6: 200 | S6: 59.93672 | T6: -3.231338 | U6: 0 | V6: 59.24305 | W6: -3.1395575 | X6: 0 | Y6: 57.95929 | Z6: -2.900319 | AA6: 0 | AB6: 0.56337309 | AC6: 58.5595 | AD6: 0 | AE6: -1.8608933 | AF6: 59.570337
B7: 550 | C7: 54.01609 | D7: 13.85623 | E7: 400 | F7: 53.470595 | G7: 12.090055 | H7: 400 | I7: 52.167915 | J7: 12.719205 | K7: 40 | L7: 12.45756 | M7: 59.868555 | N7: 40 | O7: 10.468367 | P7: 60.754114 | R7: 550 | S7: 53.23765 | T7: -3.526361 | U7: 400 | V7: 51.91901 | W7: -2.990375 | X7: 400 | Y7: 50.63325 | Z7: -1.8861065 | AA7: 40 | AB7: 0.095306253 | AC7: 57.802692 | AD7: 40 | AE7: -2.2067591 | AF7: 58.783564
B8: 850 | C8: 48.24543 | D8: 14.40862 | E8: 1400 | F8: 35.45548 | G8: 15.348365 | H8: 3400 | I8: 0.8298865 | J8: 17.27083 | K8: 80 | L8: 12.300407 | M8: 59.045187 | N8: 80 | O8: 10.335652 | P8: 59.91303 | R8: 850 | S8: 47.71784 | T8: -3.085776 | U8: 1400 | V8: 34.91364 | W8: -2.0809475 | X8: 3400 | Y8: 2.1493275 | Z8: 3.4374555 | AA8: 80 | AB8: -0.26559584 | AC8: 57.028736 | AD8: 80 | AE8: -2.4651361 | AF8: 57.990287
B9: 1150 | C9: 42.52975 | D9: 14.93995 | E9: 2400 | F9: 17.880915 | G9: 16.84204 | H9: 6400 | I9: -30.556505 | J9: 18.857655 | K9: 120 | L9: 12.176101 | M9: 58.219978 | N9: 120 | O9: 10.247537 | P9: 59.071121 | R9: 1150 | S9: 42.25354 | T9: -2.631917 | U9: 2400 | V9: 18.3811 | W9: -0.519264 | X9: 6400 | Y9: -41.30532 | Z9: 25.24933 | AA9: 120 | AB9: -0.51933319 | AC9: 56.243697 | AD9: 120 | AE9: -2.6360243 | AF9: 57.193083
B10: 1450 | C10: 36.86422 | D10: 15.45121 | E10: 3400 | F10: 0.58590075 | G10: 17.684295 | H10: 9400 | I10: -15.183 | J10: 17.138995 | K10: 160 | L10: 12.084642 | M10: 57.394474 | N10: 160 | O10: 10.204024 | P10: 58.229474 | R10: 1450 | S10: 36.84252 | T10: -2.165194 | U10: 3400 | V10: 2.123484 | W10: 2.809572 | X10: 9400 | Y10: -62.869085 | Z10: 42.19004 | AA10: 160 | AB10: -0.6659058 | AC10: 55.453642 | AD10: 160 | AE10: -2.7194235 | AF10: 56.394532
B11: 1750 | C11: 31.24415 | D11: 15.94286 | E11: 4400 | F11: -16.41576 | G11: 18.33963 | H11: 12400 | I11: -4.437173 | J11: 13.53686 | K11: 200 | L11: 12.026029 | M11: 56.57022 | N11: 200 | O11: 10.205111 | P11: 57.389175 | R11: 1750 | S11: 31.48243 | T11: -1.685905 | U11: 4400 | V11: -12.498685 | W11: 6.22612 | X11: 12400 | Y11: -13.906985 | Z11: 38.998425 | AA11: 200 | AB11: -0.70531367 | AC11: 54.664636 | AD11: 200 | AE11: -2.715334 | AF11: 55.597212
B12: 2050 | C12: 25.66492 | D12: 16.41536 | E12: 5400 | F12: -33.475875 | G12: 19.28774 | K12: 240 | L12: 12.000263 | M12: 55.74876 | N12: 240 | O12: 10.250799 | P12: 56.55131 | R12: 2050 | S12: 26.17055 | T12: -1.19439 | U12: 5400 | V12: -27.08764 | W12: 8.068843 | AA12: 240 | AB12: -0.6375568 | AC12: 53.882746 | AD12: 240 | AE12: -2.6237556 | AF12: 54.803702
B13: 2350 | C13: 20.1218 | D13: 16.86917 | E13: 6400 | F13: -32.249945 | G13: 18.83301 | K13: 280 | L13: 12.007345 | M13: 54.93164 | N13: 280 | O13: 10.341088 | P13: 55.716964 | R13: 2350 | S13: 20.90346 | T13: -0.69103 | U13: 6400 | V13: -43.264735 | W13: 22.93708 | AA13: 280 | AB13: -0.46263519 | AC13: 53.114036 | AD13: 280 | AE13: -2.4446883 | AF13: 54.01658
B14: 2650 | C14: 14.60983 | D14: 17.30468 | E14: 7400 | F14: -12.20199 | G14: 17.53963 | K14: 320 | L14: 12.047273 | M14: 54.120405 | N14: 320 | O14: 10.475978 | P14: 54.887224 | R14: 2650 | S14: 15.67665 | T14: -0.176201 | U14: 7400 | V14: -46.744375 | W14: 36.05666 | AA14: 320 | AB14: -0.18054884 | AC14: 52.364574 | AD14: 320 | AE14: -2.1781322 | AF14: 53.238426
B15: 2950 | C15: 9.123549 | D15: 17.72229 | E15: 8400 | F15: -14.088295 | G15: 16.701195 | K15: 360 | L15: 12.120047 | M15: 53.3166 | N15: 360 | O15: 10.655468 | P15: 54.063175 | R15: 2950 | S15: 10.48396 | T15: 0.34984 | U15: 8400 | V15: -57.854855 | W15: 35.033765 | AA15: 360 | AB15: 0.20870225 | AC15: 51.640424 | AD15: 360 | AE15: -1.8240873 | AF15: 52.471819
B16: 3250 | C16: 3.656763 | D16: 18.12165 | E16: 9400 | F16: -18.7195 | G16: 15.930055 | K16: 400 | L16: 12.225669 | M16: 52.521769 | N16: 400 | O16: 10.87956 | P16: 53.245904 | R16: 3250 | S16: 5.316881 | T16: 0.887157 | U16: 9400 | V16: -74.73536 | W16: 42.06059 | AA16: 400 | AB16: 0.70511809 | AC16: 50.947654 | AD16: 400 | AE16: -1.3825535 | AF16: 51.719337
B17: 3550 | C17: -1.772605 | D17: 17.51568 | E17: 10400 | F17: -8.948784 | G17: 14.045695 | K17: 400 | L17: 15.459204 | M17: 54.860838 | N17: 400 | O17: 13.628707 | P17: 54.246868 | R17: 3550 | S17: 0.383222 | T17: 4.854343 | U17: 10400 | V17: -32.88735 | W17: 43.06686 | AA17: 400 | AB17: -1.5910172 | AC17: 53.251735 | AD17: 400 | AE17: -3.984766 | AF17: 52.685331
B18: 3850 | C18: -7.197292 | D18: 17.87408 | E18: 11400 | F18: -3.966069 | G18: 10.998323 | K18: 700 | L18: 15.775135 | M18: 49.162213 | N18: 500 | O18: 13.877539 | P18: 52.266009 | R18: 3850 | S18: -4.344627 | T18: 5.402117 | U18: 11400 | V18: -14.575456 | W18: 31.028655 | AA18: 700 | AB18: -1.4488563 | AC18: 48.012094 | AD18: 500 | AE18: -3.6907984 | AF18: 50.797378
B19: 4150 | C19: -12.61655 | D19: 18.21611 | E19: 12400 | F19: -2.143243 | G19: 9.505815 | K19: 1000 | L19: 16.082068 | M19: 43.473825 | N19: 600 | O19: 14.109555 | P19: 50.297214 | R19: 4150 | S19: -9.053332 | T19: 5.955829 | U19: 12400 | V19: -6.545398 | W19: 25.238795 | AA19: 1000 | AB19: -1.261803 | AC19: 42.661451 | AD19: 600 | AE19: -3.4243863 | AF19: 48.92659
B20: 4450 | C20: -18.03476 | D20: 18.54139 | K20: 1300 | L20: 16.380005 | M20: 37.805817 | N20: 700 | O20: 14.324755 | P20: 48.339513 | R20: 4450 | S20: -13.74132 | T20: 6.512019 | AA20: 1300 | AB20: -1.0298575 | AC20: 37.248932 | AD20: 700 | AE20: -3.1855298 | AF20: 47.071162
B21: 4750 | C21: -23.45912 | D21: 18.8487 | K21: 1600 | L21: 16.668945 | M21: 32.168331 | N21: 800 | O21: 14.523139 | P21: 46.391936 | R21: 4750 | S21: -18.41329 | T21: 7.06543 | AA21: 1600 | AB21: -0.75301967 | AC21: 31.823667 | AD21: 800 | AE21: -2.9742288 | AF21: 45.229288
B22: 5050 | C22: -28.89998 | D22: 19.1366 | K22: 1900 | L22: 16.948888 | M22: 26.57151 | N22: 900 | O22: 14.704706 | P22: 44.453514 | R22: 5050 | S22: -23.08135 | T22: 7.610374 | AA22: 1900 | AB22: -0.43128958 | AC22: 26.434783 | AD22: 900 | AE22: -2.7904833 | AF22: 43.399162
B23: 5350 | C23: -34.37226 | D23: 19.40466 | K23: 2200 | L23: 17.219834 | M23: 21.025496 | N23: 1000 | O23: 14.869457 | P23: 42.523277 | R23: 5350 | S23: -27.76664 | T23: 8.142497 | AA23: 2200 | AB23: -0.064667206 | AC23: 21.13141 | AD23: 1000 | AE23: -2.6342933 | AF23: 41.578979
B24: 5650 | C24: -39.89595 | D24: 19.65385 | K24: 2500 | L24: 17.481783 | M24: 15.540434 | N24: 1100 | O24: 15.017391 | P24: 40.600256 | R24: 5650 | S24: -32.50124 | T24: 8.661419 | AA24: 2500 | AB24: 0.34684745 | AC24: 15.962674 | AD24: 1100 | AE24: -2.5056588 | AF24: 39.766933
B25: 5950 | C25: -45.49863 | D25: 19.88935 | K25: 2800 | L25: 17.734736 | M25: 10.126464 | N25: 1200 | O25: 15.14851 | P25: 38.683482 | R25: 5950 | S25: -37.33039 | T25: 9.175331 | AA25: 2800 | AB25: 0.8032544 | AC25: 10.977706 | AD25: 1200 | AE25: -2.4045798 | AF25: 37.961218
B26: 6250 | C26: -51.21573 | D26: 20.12181 | K26: 3100 | L26: 17.978691 | M26: 4.7937306 | N26: 1300 | O26: 15.262812 | P26: 36.771983 | R26: 6250 | S26: -42.31425 | T26: 9.708165 | AA26: 3100 | AB26: 1.3045536 | AC26: 6.2256317 | AD26: 1300 | AE26: -2.3310564 | AF26: 36.16003
B27: 6550 | C27: -14.12985 | D27: 18.36862 | K27: 3400 | L27: 18.21365 | M27: -0.44762404 | N27: 1400 | O27: 15.360298 | P27: 34.864791 | R27: 6550 | S27: -46.84916 | T27: 36.51453 | AA27: 3400 | AB27: 1.8507451 | AC27: 1.7555808 | AD27: 1400 | AE27: -2.2850885 | AF27: 34.361562
B28: 6850 | C28: -13.54286 | D28: 18.43366 | K28: 3400 | L28: 16.971373 | M28: 2.710049 | N28: 1400 | O28: 15.360298 | P28: 36.115445 | R28: 6850 | S28: -47.9916 | T28: 36.76857 | AA28: 3400 | AB28: 4.2644455 | AC28: 4.1219894 | AD28: 1400 | AE28: -2.2850885 | AF28: 35.561192
B29: 7150 | C29: -13.28698 | D29: 18.25637 | K29: 3700 | L29: 17.255555 | M29: -2.5415648 | N29: 1500 | O29: 15.527088 | P29: 34.21269 | R29: 7150 | S29: -49.79633 | T29: 36.40311 | AA29: 3700 | AB29: 4.2554802 | AC29: -0.23673779 | AD29: 1500 | AE29: -2.1241575 | AF29: 33.765446
B30: 7450 | C30: -13.35172 | D30: 17.87996 | K30: 4000 | L30: 17.538765 | M30: -7.8646686 | N30: 1600 | O30: 15.691868 | P30: 32.315178 | R30: 7450 | S30: -52.36537 | T30: 35.52356 | AA30: 4000 | AB30: 4.3918367 | AC30: -4.9108243 | AD30: 1600 | AE30: -1.9603986 | AF30: 31.974092
B31: 7750 | C31: -13.77067 | D31: 17.33596 | K31: 4300 | L31: 17.821004 | M31: -13.244242 | N31: 1700 | O31: 15.854638 | P31: 30.422954 | R31: 7750 | S31: -55.8633 | T31: 34.2516 | AA31: 4300 | AB31: 4.673515 | AC31: -9.7895477 | AD31: 1700 | AE31: -1.7938118 | AF31: 30.187823
... B46: 12250 | C46: -0.78946 | D46: 8.842371 | K46: 8500 | L46: 14.121488 | M46: -14.979867 | N46: 3100 | O46: 17.847581 | P46: 5.5335093 | R46: 12250 | S46: -1.172436 | T46: 21.5573 | AA46: 8500 | AB46: 29.073539 | AC46: -60.532235 | AD46: 3100 | AE46: 0.57266864 | AF46: 6.7731528
K47: 8800 | L47: 14.048252 | M47: -15.888286 | N47: 3200 | O47: 18.03335 | P47: 3.7019035 | AA47: 8800 | AB47: 31.818106 | AC47: -62.969439 | AD47: 3200 | AE47: 0.91706971 | AF47: 5.0703937
K48: 9100 | L48: 14.118918 | M48: -16.698152 | N48: 3300 | O48: 18.233067 | P48: 1.8789798 | AA48: 9100 | AB48: 35.585882 | AC48: -63.95234 | AD48: 3300 | AE48: 1.3075285 | AF48: 3.3927503
K49: 9400 | L49: 14.333484 | M49: -17.311904 | N49: 3400 | O49: 18.446732 | P49: 0.066170192 | AA49: 9400 | AB49: 40.37687 | AC49: -63.005318 | AD49: 3400 | AE49: 1.744045 | AF49: 1.7454098
K50: 9400 | L50: 12.520736 | M50: -16.054236 | N50: 3400 | O50: 16.959868 | P50: 1.1184173 | AA50: 9400 | AB50: 27.770888 | AC50: -61.304116 | AD50: 3400 | AE50: 3.4044101 | AF50: 2.5279425
K51: 9700 | L51: 13.251727 | M51: -15.073714 | N51: 3500 | O51: 17.174063 | P51: -0.70253312 | AA51: 9700 | AB51: 34.459137 | AC51: -59.942815 | AD51: 3500 | AE51: 3.8541292 | AF51: 0.9423721
K52: 10000 | L52: 13.801206 | M52: -13.7659 | N52: 3600 | O52: 17.369643 | P52: -2.5169786 | AA52: 10000 | AB52: 39.609325 | AC52: -55.8712 | AD52: 3600 | AE52: 4.2559318 | AF52: -0.62076573
K53: 10300 | L53: 14.169174 | M53: -12.217543 | N53: 3700 | O53: 17.546608 | P53: -4.3258823 | AA53: 10300 | AB53: 43.221452 | AC53: -49.744043 | AD53: 3700 | AE53: 4.609818 | AF53: -2.1648264
K54: 10600 | L54: 14.35563 | M54: -10.51539 | N54: 3800 | O54: 17.704957 | P54: -6.1302077 | AA54: 10600 | AB54: 45.295518 | AC54: -42.216114 | AD54: 3800 | AE54: 4.9157876 | AF54: -3.6931655
K55: 10900 | L55: 14.360575 | M55: -8.7461897 | N55: 3900 | O55: 17.844692 | P55: -7.9309181 | AA55: 10900 | AB55: 45.831524 | AC55: -33.942184 | AD55: 3900 | AE55: 5.1738408 | AF55: -5.2091383
K56: 11200 | L56: 14.184008 | M56: -6.9966904 | N56: 4000 | O56: 17.965811 | P56: -9.7289766 | AA56: 11200 | AB56: 44.829469 | AC56: -25.577024 | AD56: 4000 | AE56: 5.3839776 | AF56: -6.7161003
K57: 11500 | L57: 13.82593 | M57: -5.3536401 | N57: 4100 | O57: 18.068316 | P57: -11.525347 | AA57: 11500 | AB57: 42.289353 | AC57: -17.775405 | AD57: 4100 | AE57: 5.5461979 | AF57: -8.2174069
K58: 11800 | L58: 13.28634 | M58: -3.903787 | N58: 4200 | O58: 18.152205 | P58: -13.320992 | AA58: 11800 | AB58: 38.211176 | AC58: -11.192097 | AD58: 4200 | AE58: 5.6605017 | AF58: -9.7164136
... K60: 12400 | L60: 11.662625 | M60: -1.9306648 | N60: 4400 | O60: 18.264138 | P60: -16.91396 | AA60: 12400 | AB60: 25.440639 | AC60: -4.299501 | AD60: 4400 | AE60: 5.7453598 | AF60: -12.720949
N61: 4400 | O61: 18.264138 | P61: -15.947801 | AD61: 4400 | AE61: 5.7453598 | AF61: -12.267816
N62: 4500 | O62: 18.380233 | P62: -17.74661 | AD62: 4500 | AE62: 5.9659591 | AF62: -13.776647
N63: 4600 | O63: 18.491435 | P63: -19.547017 | AD63: 4600 | AE63: 6.1793466 | AF63: -15.286794
N64: 4700 | O64: 18.597745 | P64: -21.349012 | AD64: 4700 | AE64: 6.3855226 | AF64: -16.797131
N65: 4800 | O65: 18.699162 | P65: -23.152586 | AD65: 4800 | AE65: 6.5844869 | AF65: -18.306533
N66: 4900 | O66: 18.795686 | P66: -24.95773 | AD66: 4900 | AE66: 6.7762396 | AF66: -19.813875
N67: 5000 | O67: 18.887318 | P67: -26.764433 | AD67: 5000 | AE67: 6.9607807 | AF67: -21.318031
N68: 5100 | O68: 18.974057 | P68: -28.572686 | AD68: 5100 | AE68: 7.1381102 | AF68: -22.817875
N69: 5200 | O69: 19.055904 | P69: -30.382479 | AD69: 5200 | AE69: 7.308228 | AF69: -24.312281
N70: 5300 | O70: 19.132858 | P70: -32.193802 | AD70: 5300 | AE70: 7.4711342 | AF70: -25.800124
N71: 5400 | O71: 19.20492 | P71: -34.006647 | AD71: 5400 | AE71: 7.6268288 | AF71: -27.280278
N72: 5400 | O72: 19.20492 | P72: -33.087124 | AD72: 5400 | AE72: 7.6268288 | AF72: -27.019711
... N148: 12400 | O148: 9.8179037 | P148: -1.9451582 | AD148: 12400 | AE148: 25.380096 | AF148: -5.4124186

Sheet x=22,5m; x=43,5m
E2: 112500 outer | F2: A | U2: 112500 inner | AK2: 217500 outer | AL2: B | BA2: 217500 inner
F3: Normal | G3: Shear | I3: Normal | J3: Shear | L3: Normal | M3: Shear | N3: coarse | O3: shear | P3: normal | Q3: fine | R3: shear | S3: normal | V3: Normal | W3: Shear | AD3: ciarse | AE3: shear | AF3: normal | AG3: fine | AH3: shear | AI3: normal | AL3: Normal | AM3: Shear | AO3: Normal | AP3: Shear | AR3: Normal | AS3: Shear | AT3: coarse | AU3: shear | AV3: normal | AW3: fine | AX3: shear | AY3: normal | BB3: Normal | BC3: Shear | BE3: Normal | BF3: Shear | BH3: Normal | BI3: Shear | BJ3: coarse | BK3: shear | BL3: normal | BM3: fine | BN3: shear | BO3: normal
A4: Z C,G, | B4: 10,,Simcenter NASTRAN Case 1, 7020,,Plate Top X Normal Stress | C4: 10,,Simcenter NASTRAN Case 1, 7023,,Plate Top XY Shear Stress | E4: Z C,G, | F4: Linear el, fine | G4: Linear el, fine | H4: Z C,G, | I4: Linear el, semi-coarse | J4: Linear el, semi-coarse | K4: Z C,G, | L4: Linear el, coarse | M4: Linear el, coarse | N4: Z | O4: HSD el, coarse | P4: HSD el, coarse | Q4: Z | R4: HSD el, semi-coarse | S4: HSD el, semi-coarse | U4: Z C,G, | V4: Linear el, fine | W4: Linear el, fine | X4: Z C,G, | Y4: Linear el, semi-coarse | Z4: Linear el, semi-coarse | AA4: Z C,G, | AB4: Linear el, coarse | AC4: Linear el, coarse | AD4: Z | AE4: HSD el, coarse | AF4: HSD el, coarse | AG4: Z | AH4: HSD el, semi-coarse | AI4: HSD el, semi-coarse | AK4: Z C,G, | AL4: Linear el, fine | AM4: Linear el, fine | AN4: Z C,G, | AO4: Linear el, semi-coarse | AP4: Linear el, semi-coarse | AQ4: Z C,G, | AR4: Linear el, coarse | AS4: Linear el, coarse | AT4: Z | AU4: HSD el, coarse | AV4: HSD el, coarse | AW4: Z | AX4: HSD el, semi-coarse | AY4: HSD el, semi-coarse | BA4: Z C,G, | BB4: Linear el, fine | BC4: Linear el, fine | BD4: Z C,G, | BE4: Linear el, semi-coarse | BF4: Linear el, semi-coarse | BG4: Z C,G, | BH4: Linear el, coarse | BI4: Linear el, coarse | BJ4: Z | BK4: HSD el, coarse | BL4: HSD el, coarse | BM4: Z | BN4: HSD el, semi-coarse | BO4: HSD el, semi-coarse
A6: 1000 | B6: 52.03261 | C6: -0.753081 | D6: =K6/5 -> 0 | E6: 200 | F6: 55.56651 | G6: -9.134892 | H6: 0 | I6: 55.975425 | J6: -9.1320245 | K6: 0 | L6: 55.39529 | M6: -8.9629345 | N6: 0 | O6: -11.51231 | P6: 55.719329 | Q6: 0 | R6: -9.9635774 | S6: 56.088692 | U6: 200 | V6: 52.7154 | W6: -2.259733 | X6: 0 | Y6: 52.417085 | Z6: -2.497209 | AA6: 0 | AB6: 51.886725 | AC6: -2.441906 | AD6: 0 | AE6: -5.6866252 | AF6: 52.134123 | AG6: 0 | AH6: -3.81071 | AI6: 52.488974 | AJ6: =AW6/5 -> 0 | AK6: 200 | AL6: 53.63286 | AM6: 11.92701 | AN6: 0 | AO6: 53.91992 | AP6: 12.023635 | AQ6: 0 | AR6: 52.53248 | AS6: 11.9564 | AT6: 0 | AU6: 15.169383 | AV6: 53.645544 | AW6: 0 | AX6: 13.165704 | AY6: 54.387663 | AZ6: =BM6/5 -> 0 | BA6: 200 | BB6: 54.42838 | BC6: -0.225429 | BD6: 0 | BE6: 53.793825 | BF6: -0.176063 | BG6: 0 | BH6: 52.383635 | BI6: 0.162725 | BJ6: 0 | BK6: 3.7445255 | BL6: 53.40433 | BM6: 0 | BN6: 1.4961402 | BO6: 54.242661
A7: 2750 | B7: 45.1455 | C7: -2.382169 | D7: =K7/5 -> 80 | E7: 550 | F7: 49.95699 | G7: -13.40625 | H7: 400 | I7: 49.736145 | J7: -11.587525 | K7: 400 | L7: 49.00583 | M7: -12.03841 | N7: 40 | O7: -11.34336 | P7: 55.06245 | Q7: 40 | R7: -9.7512982 | S7: 55.426888 | U7: 550 | V7: 47.92047 | W7: -4.074849 | X7: 400 | Y7: 47.245275 | Z7: -3.7317015 | AA7: 400 | AB7: 46.724255 | AC7: -4.3267125 | AD7: 40 | AE7: -4.9199836 | AF7: 51.582866 | AG7: 40 | AH7: -3.3051949 | AI7: 51.932116 | AJ7: =AW7/5 -> 8 | AK7: 550 | AL7: 47.1663 | AM7: 17.45384 | AN7: 400 | AO7: 46.716895 | AP7: 15.22162 | AQ7: 400 | AR7: 45.401255 | AS7: 16.04358 | AT7: 40 | AU7: 14.976467 | AV7: 52.870256 | AW7: 40 | AX7: 12.909026 | AY7: 53.601128 | AZ7: =BM7/5 -> 8 | BA7: 550 | BB7: 47.66056 | BC7: 0.989831 | BD7: 400 | BE7: 46.35765 | BF7: 0.82362108 | BG7: 400 | BH7: 44.91631 | BI7: 2.100886 | BJ7: 40 | BK7: 3.1104448 | BL7: 52.619951 | BM7: 40 | BN7: 0.92934379 | BO7: 53.44501
A8: 4250 | B8: 39.55083 | C8: -3.054809 | D8: =K8/5 -> 680 | E8: 850 | F8: 45.5015 | G8: -14.03202 | H8: 1400 | I8: 35.509345 | J8: -14.81411 | K8: 3400 | L8: 8.2775385 | M8: -15.201915 | N8: 80 | O8: -11.214129 | P8: 54.405539 | Q8: 80 | R8: -9.6036836 | S8: 54.764576 | U8: 850 | V8: 44.00297 | W8: -4.65209 | X8: 1400 | Y8: 34.77965 | Z8: -5.7073075 | AA8: 3400 | AB8: 11.06647 | AC8: -8.0708385 | AD8: 80 | AE8: -4.3610092 | AF8: 51.028065 | AG8: 80 | AH8: -2.9449797 | AI8: 51.372949 | AJ8: =AW8/5 -> 16 | AK8: 850 | AL8: 41.72155 | AM8: 18.23198 | AN8: 1400 | AO8: 29.852975 | AP8: 19.46779 | AQ8: 3400 | AR8: -2.0371565 | AS8: 21.199515 | AT8: 80 | AU8: 14.821179 | AV8: 52.099791 | AW8: 80 | AX8: 12.726118 | AY8: 52.812716 | AZ8: =BM8/5 -> 16 | BA8: 850 | BB8: 42.05456 | BC8: 1.653726 | BD8: 1400 | BE8: 29.45182 | BF8: 2.8328165 | BG8: 3400 | BH8: -2.3985095 | BI8: 8.4271775 | BJ8: 80 | BK8: 2.6342706 | BL8: 51.843712 | BM8: 80 | BN8: 0.51909904 | BO8: 52.641149
A9: 5750 | B9: 33.99197 | C9: -3.709867 | D9: =K9/5 -> 1280 | E9: 1150 | F9: 41.08593 | G9: -14.59764 | H9: 2400 | I9: 21.74386 | J9: -16.056675 | K9: 6400 | L9: -18.02969 | M9: -13.27522 | N9: 120 | O9: -11.124617 | P9: 53.748939 | Q9: 120 | R9: -9.5207336 | S9: 54.10225 | U9: 1150 | V9: 40.12308 | W9: -5.186267 | X9: 2400 | Y9: 22.82634 | Z9: -6.979238 | AA9: 6400 | AB9: -18.871545 | AC9: -17.22572 | AD9: 120 | AE9: -4.0097019 | AF9: 50.471192 | AG9: 120 | AH9: -2.7300645 | AI9: 50.812525 | AJ9: =AW9/5 -> 24 | AK9: 1150 | AL9: 36.31951 | AM9: 18.95893 | AN9: 2400 | AO9: 13.27513 | AP9: 21.3123 | AQ9: 6400 | AR9: -33.22246 | AS9: 23.46431 | AT9: 120 | AU9: 14.70352 | AV9: 51.332967 | AW9: 120 | AX9: 12.616981 | AY9: 52.02351 | AZ9: =BM9/5 -> 24 | BA9: 1150 | BB9: 36.49384 | BC9: 2.307555 | BD9: 2400 | BE9: 12.819685 | BF9: 4.7995255 | BG9: 6400 | BH9: -52.45295 | BI9: 37.087575 | BJ9: 120 | BK9: 2.3160029 | BL9: 51.073338 | BM9: 120 | BN9: 0.26540602 | BO9: 51.833603
A10: 7250 | B10: 28.45806 | C10: -4.350299 | D10: =K10/5 -> 1880 | E10: 1450 | F10: 36.70827 | G10: -15.10508 | H10: 3400 | I10: 8.3124875 | J10: -16.240105 | K10: 9400 | L10: -7.561245 | M10: -9.1618685 | N10: 160 | O10: -11.074822 | P10: 53.092993 | Q10: 160 | R10: -9.502448 | S10: 53.440406 | U10: 1450 | V10: 36.2803 | W10: -5.679018 | X10: 3400 | Y10: 11.238805 | Z10: -8.6680575 | AA10: 9400 | AB10: -32.41941 | AC10: -20.295145 | AD10: 160 | AE10: -3.8660618 | AF10: 49.913719 | AG10: 160 | AH10: -2.6604492 | AI10: 50.251894 | AJ10: =AW10/5 -> 32 | AK10: 1450 | AL10: 30.95302 | AM10: 19.63682 | AN10: 3400 | AO10: -3.106702 | AP10: 22.165195 | AQ10: 9400 | AR10: -13.1952 | AS10: 23.015865 | AT10: 160 | AU10: 14.623488 | AV10: 50.568602 | AW10: 160 | AX10: 12.581615 | AY10: 51.234595 | AZ10: =BM10/5 -> 32 | BA10: 1450 | BB10: 30.97166 | BC10: 2.953743 | BD10: 3400 | BE10: -3.3633575 | BF10: 8.6823225 | BG10: 9400 | BH10: -55.361135 | BI10: 58.73006 | BJ10: 160 | BK10: 2.1556417 | BL10: 50.306559 | BM10: 160 | BN10: 0.1682647 | BO10: 51.024892
A11: 8750 | B11: 22.93409 | C11: -4.98145 | D11: =K11/5 -> 2480 | E11: 1750 | F11: 32.36659 | G11: -15.55562 | H11: 4400 | I11: -5.070538 | J11: -15.852425 | K11: 12400 | L11: -11.118275 | M11: -7.063242 | N11: 200 | O11: -11.064746 | P11: 52.438045 | Q11: 200 | R11: -9.5488271 | S11: 52.779538 | U11: 1750 | V11: 32.47413 | W11: -6.131592 | X11: 4400 | Y11: 0.581738 | Z11: -10.008886 | AA11: 12400 | AB11: -48.177395 | AC11: -16.068995 | AD11: 200 | AE11: -3.9300887 | AF11: 49.35712 | AG11: 200 | AH11: -2.7361338 | AI11: 49.69211 | AJ11: =AW11/5 -> 40 | AK11: 1750 | AL11: 25.61507 | AM11: 20.26797 | AN11: 4400 | AO11: -20.417255 | AP11: 22.94208 | AT11: 200 | AU11: 14.581084 | AV11: 49.805513 | AW11: 200 | AX11: 12.62002 | AY11: 50.447052 | AZ11: =BM11/5 -> 40 | BA11: 1750 | BB11: 25.4823 | BC11: 3.59627 | BD11: 4400 | BE11: -21.06183 | BF11: 13.385855 | BJ11: 200 | BK11: 2.1531869 | BL11: 49.541101 | BM11: 200 | BN11: 0.22767511 | BO11: 50.217539
A12: 10250 | B12: 17.40618 | C12: -5.610999 | D12: =H12/5 -> 1080 | E12: 2050 | F12: 28.05896 | G12: -15.95039 | H12: 5400 | I12: -18.31059 | J12: -15.365795 | N12: 240 | O12: -11.094388 | P12: 51.784435 | Q12: 240 | R12: -9.6598707 | S12: 52.120141 | U12: 2050 | V12: 28.70411 | W12: -6.545037 | X12: 5400 | Y12: -9.789302 | Z12: -10.216967 | AD12: 240 | AE12: -4.2017829 | AF12: 48.802865 | AG12: 240 | AH12: -2.9571184 | AI12: 49.134221 | AJ12: =AW12/5 -> 48 | AK12: 2050 | AL12: 20.29913 | AM12: 20.85548 | AN12: 5400 | AO12: -37.351115 | AP12: 24.41203 | AT12: 240 | AU12: 14.576308 | AV12: 49.042518 | AW12: 240 | AX12: 12.732196 | AY12: 49.661963 | AZ12: =BM12/5 -> 48 | BA12: 2050 | BB12: 20.02185 | BC12: 4.240511 | BD12: 5400 | BE12: -37.19937 | BF12: 17.38965 | BJ12: 240 | BK12: 2.3086386 | BL12: 48.774693 | BM12: 240 | BN12: 0.44363722 | BO12: 49.414067
A13: 11750 | B13: 11.86296 | C13: -6.250938 | D13: =H13/5 -> 1280 | E13: 2350 | F13: 23.7835 | G13: -16.29035 | H13: 6400 | I13: -18.341485 | J13: -13.258195 | N13: 280 | O13: -11.163749 | P13: 51.132509 | Q13: 280 | R13: -9.8355788 | S13: 51.46271 | U13: 2350 | V13: 24.96976 | W13: -6.920204 | X13: 6400 | Y13: -18.76693 | Z13: -17.703195 | AD13: 280 | AE13: -4.6811441 | AF13: 48.252427 | AG13: 280 | AH13: -3.3234029 | AI13: 48.579282 | AJ13: =AW13/5 -> 56 | AK13: 2350 | AL13: 14.99962 | AM13: 21.40324 | AN13: 6400 | AO13: -33.61858 | AP13: 26.391175 | AT13: 280 | AU13: 14.60916 | AV13: 48.278435 | AW13: 280 | AX13: 12.918142 | AY13: 48.880413 | AZ13: =BM13/5 -> 56 | BA13: 2350 | BB13: 14.58906 | BC13: 4.892854 | BD13: 6400 | BE13: -51.74467 | BF13: 45.30331 | BJ13: 280 | BK13: 2.6219968 | BL13: 48.005063 | BM13: 280 | BN13: 0.81615106 | BO13: 48.616998
A14: 13250 | B14: 6.29921 | C14: -6.916494 | D14: =H14/5 -> 1480 | E14: 2650 | F14: 19.53834 | G14: -16.57631 | H14: 7400 | I14: -6.1402995 | J14: -11.503665 | N14: 320 | O14: -11.272827 | P14: 50.482607 | Q14: 320 | R14: -10.075952 | S14: 50.807738 | U14: 2650 | V14: 21.2706 | W14: -7.257748 | X14: 7400 | Y14: -22.67482 | Z14: -25.11083 | AD14: 320 | AE14: -5.3681725 | AF14: 47.707278 | AG14: 320 | AH14: -3.8349874 | AI14: 48.028342 | AJ14: =AW14/5 -> 64 | AK14: 2650 | AL14: 9.712329 | AM14: 21.91574 | AN14: 7400 | AO14: -14.501995 | AP14: 28.212145 | AT14: 320 | AU14: 14.67964 | AV14: 47.512082 | AW14: 320 | AX14: 13.177859 | AY14: 48.103483 | AZ14: =BM14/5 -> 64 | BA14: 2650 | BB14: 9.18631 | BC14: 5.560037 | BD14: 7400 | BE14: -54.95898 | BF14: 73.067125 | BJ14: 320 | BK14: 3.0932615 | BL14: 47.229938 | BM14: 320 | BN14: 1.3452166 | BO14: 47.828854
A15: 14750 | B15: 0.721669 | C15: -7.623065 | D15: =H15/5 -> 1680 | E15: 2950 | F15: 15.32162 | G15: -16.80895 | H15: 8400 | I15: -6.8752325 | J15: -11.462145 | N15: 360 | O15: -11.421624 | P15: 49.835074 | Q15: 360 | R15: -10.380989 | S15: 50.155721 | U15: 2950 | V15: 17.60611 | W15: -7.558128 | X15: 8400 | Y15: -27.576825 | Z15: -24.97037 | AD15: 360 | AE15: -6.2628681 | AF15: 47.168891 | AG15: 360 | AH15: -4.4918718 | AI15: 47.482452 | AJ15: =AW15/5 -> 72 | AK15: 2950 | AL15: 4.434949 | AM15: 22.39778 | AN15: 8400 | AO15: -15.108255 | AP15: 28.552895 | AT15: 360 | AU15: 14.787749 | AV15: 46.742277 | AW15: 360 | AX15: 13.511347 | AY15: 47.332257 | AZ15: =BM15/5 -> 72 | BA15: 2950 | BB15: 3.820535 | BC15: 6.248101 | BD15: 8400 | BE15: -60.092555 | BF15: 73.01188 | BJ15: 360 | BK15: 3.7224326 | BL15: 46.447046 | BM15: 360 | BN15: 2.0308339 | BO15: 47.052157
A16: 16250 | B16: -4.857452 | C16: -8.378001 | D16: =H16/5 -> 1880 | E16: 3250 | F16: 11.13148 | G16: -16.98814 | H16: 9400 | I16: -7.5876875 | J16: -9.493514 | N16: 400 | O16: -11.61014 | P16: 49.190252 | Q16: 400 | R16: -10.750691 | S16: 49.507154 | U16: 3250 | V16: 13.97572 | W16: -7.821272 | X16: 9400 | Y16: -32.50954 | Z16: -21.39392 | AD16: 400 | AE16: -7.3652307 | AF16: 46.638738 | AG16: 400 | AH16: -5.2940561 | AI16: 46.942666 | AJ16: =AW16/5 -> 80 | AK16: 3250 | AL16: -0.832409 | AM16: 22.85313 | AN16: 9400 | AO16: -12.752963 | AP16: 28.302175 | AT16: 400 | AU16: 14.933485 | AV16: 45.967837 | AW16: 400 | AX16: 13.918606 | AY16: 46.567817 | AZ16: =BM16/5 -> 80 | BA16: 3250 | BB16: -1.495865 | BC16: 6.960509 | BD16: 9400 | BE16: -61.071325 | BF16: 70.880635 | BJ16: 400 | BK16: 4.5095103 | BL16: 45.654114 | BM16: 400 | BN16: 2.8730029 | BO16: 46.28943
A17: 17750 | B17: -10.60073 | C17: -12.1786 | D17: =H17/5 -> 2080 | E17: 3550 | F17: 7.010502 | G17: -16.12244 | H17: 10400 | I17: -8.996826 | J17: -7.4061795 | N17: 400 | O17: -14.432011 | P17: 51.056655 | Q17: 400 | R17: -12.883342 | S17: 50.273045 | U17: 3550 | V17: 10.53079 | W17: -9.765084 | X17: 10400 | Y17: -38.105175 | Z17: -17.289365 | AD17: 400 | AE17: -5.3449407 | AF17: 48.850435 | AG17: 400 | AH17: -3.4152005 | AI17: 47.839503 | AJ17: =AW17/5 -> 80 | AK17: 3550 | AL17: -6.229202 | AM17: 21.99269 | AT17: 400 | AU17: 18.832463 | AV17: 48.228556 | AW17: 400 | AX17: 17.010247 | AY17: 47.541115 | AZ17: =BM17/5 -> 80 | BA17: 3550 | BB17: -7.03371 | BC17: 11.52139 | BJ17: 400 | BK17: 2.0005693 | BL17: 47.608548 | BM17: 400 | BN17: 0.045748323 | BO17: 47.120368
A18: 19250 | B18: -16.52086 | C18: -13.09571 | D18: =H18/5 -> 2280 | E18: 3850 | F18: 2.790672 | G18: -16.19355 | H18: 11400 | I18: -10.274625 | J18: -7.0306205 | N18: 700 | O18: -14.929587 | P18: 46.490156 | Q18: 500 | R18: -13.211008 | S18: 48.724633 | U18: 3850 | V18: 7.112599 | W18: -9.961384 | X18: 11400 | Y18: -43.51367 | Z18: -15.60084 | AD18: 700 | AE18: -5.8918078 | AF18: 44.76015 | AG18: 500 | AH18: -3.875067 | AI18: 46.443823 | AJ18: =AW18/5 -> 100 | AK18: 3850 | AL18: -11.69607 | AM18: 22.43388 | AT18: 700 | AU18: 19.493719 | AV18: 42.661167 | AW18: 500 | AX18: 17.397531 | AY18: 45.665845 | AZ18: =BM18/5 -> 100 | BA18: 3850 | BB18: -12.72259 | BC18: 12.4144 | BJ18: 700 | BK18: 2.7293598 | BL18: 41.837416 | BM18: 500 | BN18: 0.55154988 | BO18: 45.23921
A19: 20750 | B19: -22.46037 | C19: -14.12352 | D19: =H19/5 -> 2480 | E19: 4150 | F19: -1.408005 | G19: -16.21256 | H19: 12400 | I19: -11.52193 | J19: -6.7813845 | N19: 1000 | O19: -15.366113 | P19: 41.974259 | Q19: 600 | R19: -13.510452 | S19: 47.184134 | U19: 4150 | V19: 3.727727 | W19: -10.13121 | X19: 12400 | Y19: -49.182645 | Z19: -14.527545 | AD19: 1000 | AE19: -6.3754083 | AF19: 40.719101 | AG19: 600 | AH19: -4.2823248 | AI19: 45.057999 | AJ19: =AW19/5 -> 120 | AK19: 4150 | AL19: -17.14573 | AM19: 22.89327 | AT19: 1000 | AU19: 20.090598 | AV19: 37.273454 | AW19: 600 | AX19: 17.754802 | AY19: 43.804921 | AZ19: =BM19/5 -> 120 | BA19: 4150 | BB19: -18.31562 | BC19: 13.46847 | BJ19: 1000 | BK19: 3.4087498 | BL19: 36.468832 | BM19: 600 | BN19: 1.0044888 | BO19: 43.381163
A20: 22250 | B20: -28.45237 | C20: -15.26341 | D20: =H20/5 -> 0 | E20: 4450 | F20: -5.587289 | G20: -16.17999 | N20: 1300 | O20: -15.74159 | P20: 37.506447 | Q20: 700 | R20: -13.781675 | S20: 45.651049 | U20: 4450 | V20: 0.376213 | W20: -10.27443 | AD20: 1300 | AE20: -6.7957423 | AF20: 36.726438 | AG20: 700 | AH20: -4.6369741 | AI20: 43.681142 | AJ20: =AW20/5 -> 140 | AK20: 4450 | AL20: -22.57213 | AM20: 23.37391 | AT20: 1300 | AU20: 20.623098 | AV20: 32.023703 | AW20: 700 | AX20: 18.082059 | AY20: 41.956583 | AZ20: =BM20/5 -> 140 | BA20: 4450 | BB20: -23.79216 | BC20: 14.68068 | BJ20: 1300 | BK20: 4.0387394 | BL20: 31.399823 | BM20: 700 | BN20: 1.4045651 | BO20: 41.542699
A21: 23750 | B21: -34.52184 | C21: -16.52118 | D21: =H21/5 -> 0 | E21: 4750 | F21: -9.748975 | G21: -16.09556 | N21: 1600 | O21: -16.056016 | P21: 33.084201 | Q21: 800 | R21: -14.024677 | S21: 44.124878 | U21: 4750 | V21: -2.94205 | W21: -10.3903 | AD21: 1600 | AE21: -7.1528097 | AF21: 32.781308 | AG21: 800 | AH21: -4.9390147 | AI21: 42.312368 | AJ21: =AW21/5 -> 160 | AK21: 4750 | AL21: -27.96493 | AM21: 23.87545 | AT21: 1600 | AU21: 21.091221 | AV21: 26.870201 | AW21: 800 | AX21: 18.379303 | AY21: 40.119069 | AZ21: =BM21/5 -> 160 | BA21: 4750 | BB21: -29.12396 | BC21: 16.04284 | BJ21: 1600 | BK21: 4.6193286 | BL21: 26.527418 | BM21: 800 | BN21: 1.7517789 | BO21: 39.720287
A22: 25250 | B22: -40.68351 | C22: -17.89793 | D22: =H22/5 -> 0 | E22: 5050 | F22: -13.89493 | G22: -15.95884 | N22: 1900 | O22: -16.309393 | P22: 28.705004 | Q22: 900 | R22: -14.239457 | S22: 42.605123 | U22: 5050 | V22: -6.227349 | W22: -10.47783 | AD22: 1900 | AE22: -7.4466106 | AF22: 28.882859 | AG22: 900 | AH22: -5.1884469 | AI22: 40.950791 | AJ22: =AW22/5 -> 180 | AK22: 5050 | AL22: -33.3103 | AM22: 24.39252 | AT22: 1900 | AU22: 21.494967 | AV22: 21.771234 | AW22: 900 | AX22: 18.646533 | AY22: 38.290618 | AZ22: =BM22/5 -> 180 | BA22: 5050 | BB22: -34.27687 | BC22: 17.53673 | BJ22: 1900 | BK22: 5.1505173 | BL22: 21.748646 | BM22: 900 | BN22: 2.0461299 | BO22: 37.910401
A23: 26750 | B23: -46.90652 | C23: -19.41137 | D23: =E23/5 -> 1070 | E23: 5350 | F23: -18.0271 | G23: -15.7692 | N23: 2200 | O23: -16.50172 | P23: 24.366339 | Q23: 1000 | R23: -14.426016 | S23: 41.091284 | U23: 5350 | V23: -9.480183 | W23: -10.53582 | AD23: 2200 | AE23: -7.6771449 | AF23: 25.030241 | AG23: 1000 | AH23: -5.3852704 | AI23: 39.595523 | AJ23: =AW23/5 -> 200 | AK23: 5350 | AL23: -38.59168 | AM23: 24.91265 | AT23: 2200 | AU23: 21.834334 | AV23: 16.685088 | AW23: 1000 | AX23: 18.883749 | AY23: 36.469469 | AZ23: =BM23/5 -> 200 | BA23: 5350 | BB23: -39.21396 | BC23: 19.12904 | BJ23: 2200 | BK23: 5.6323056 | BL23: 16.960535 | BM23: 1000 | BN23: 2.2876184 | BO23: 36.10951
A24: 28250 | B24: -53.05951 | C24: -21.08796 | D24: =E24/5 -> 1130 | E24: 5650 | F24: -22.14755 | G24: -15.52582 | N24: 2500 | O24: -16.632997 | P24: 20.065687 | Q24: 1100 | R24: -14.584354 | S24: 39.582862 | U24: 5650 | V24: -12.70129 | W24: -10.5628 | AD24: 2500 | AE24: -7.8444126 | AF24: 21.222601 | AG24: 1100 | AH24: -5.5294853 | AI24: 38.245678 | AJ24: =AW24/5 -> 220 | AK24: 5650 | AL24: -43.79172 | AM24: 25.41392 | AT24: 2500 | AU24: 22.109324 | AV24: 11.57005 | AW24: 1100 | AX24: 19.090952 | AY24: 34.653859 | AZ24: =BM24/5 -> 220 | BA24: 5650 | BB24: -43.89896 | BC24: 20.76687 | BJ24: 2500 | BK24: 6.0646935 | BL24: 12.060114 | BM24: 1100 | BN24: 2.4762442 | BO24: 34.314085
A25: 29750 | B25: -58.84962 | C25: -22.93844 | D25: =E25/5 -> 1190 | E25: 5950 | F25: -26.25846 | G25: -15.22767 | N25: 2800 | O25: -16.703224 | P25: 15.800532 | Q25: 1200 | R25: -14.71447 | S25: 38.079358 | U25: 5950 | V25: -15.89169 | W25: -10.55711 | AD25: 2800 | AE25: -7.9484138 | AF25: 17.459088 | AG25: 1200 | AH25: -5.6210917 | AI25: 36.900372 | AJ25: =AW25/5 -> 240 | AK25: 5950 | AL25: -48.89242 | AM25: 25.86363 | AT25: 2800 | AU25: 22.319936 | AV25: 6.3844061 | AW25: 1200 | AX25: 19.26814 | AY25: 32.842028 | AZ25: =BM25/5 -> 240 | BA25: 5950 | BB25: -48.29912 | BC25: 22.37427 | BJ25: 2800 | BK25: 6.4476809 | BL25: 6.9444101 | BM25: 1200 | BN25: 2.6120075 | BO25: 32.520598
A26: 31250 | B26: -63.89995 | C26: -24.86924 | D26: =E26/5 -> 1250 | E26: 6250 | F26: -30.3622 | G26: -14.87293 | N26: 3100 | O26: -16.712402 | P26: 11.568355 | Q26: 1300 | R26: -14.816365 | S26: 36.580273 | U26: 6250 | V26: -19.05274 | W26: -10.51635 | AD26: 3100 | AE26: -7.9891485 | AF26: 13.738849 | AG26: 1300 | AH26: -5.6600895 | AI26: 35.558716 | AJ26: =AW26/5 -> 260 | AK26: 6250 | AL26: -53.87632 | AM26: 26.21597 | AT26: 3100 | AU26: 22.46617 | AV26: 1.0864434 | AW26: 1300 | AX26: 19.415316 | AY26: 31.032213 | AZ26: =BM26/5 -> 260 | BA26: 6250 | BB26: -52.38475 | BC26: 23.84911 | BJ26: 3100 | BK26: 6.7812679 | BL26: 1.5104531 | BM26: 1300 | BN26: 2.6949081 | BO26: 30.72552
A27: 32750 | B27: -68.30434 | C27: -70.31 | D27: =E27/5 -> 1310 | E27: 6550 | F27: -5.612029 | G27: -11.9019 | N27: 3400 | O27: -16.660529 | P27: 7.3666394 | Q27: 1400 | R27: -14.890039 | S27: 35.085107 | U27: 6550 | V27: -19.04611 | W27: -26.04416 | AD27: 3400 | AE27: -7.9666165 | AF27: 10.061035 | AG27: 1400 | AH27: -5.6464787 | AI27: 34.219826 | AJ27: =AW27/5 -> 280 | AK27: 6550 | AL27: -14.56339 | AM27: 28.60324 | AT27: 3400 | AU27: 22.548027 | AV27: -4.3655519 | AW27: 1400 | AX27: 19.532477 | AY27: 29.222654 | AZ27: =BM27/5 -> 280 | BA27: 6550 | BB27: -56.41577 | BC27: 72.47839 | BJ27: 3400 | BK27: 7.0654544 | BL27: -4.3447288 | BM27: 1400 | BN27: 2.7249461 | BO27: 28.925322
A28: 34250 | B28: -70.16067 | C28: -71.88112 | D28: =E28/5 -> 1370 | E28: 6850 | F28: -5.925232 | G28: -11.86163 | N28: 3400 | O28: -15.663086 | P28: 9.9144356 | Q28: 1400 | R28: -14.890039 | S28: 36.033205 | U28: 6850 | V28: -20.81933 | W28: -26.01138 | AD28: 3400 | AE28: -9.1807775 | AF28: 12.949028 | AG28: 1400 | AH28: -5.6464787 | AI28: 35.412863 | AJ28: =AW28/5 -> 280 | AK28: 6850 | AL28: -15.26579 | AM28: 28.66224 | AT28: 3400 | AU28: 20.884399 | AV28: -0.44677308 | AW28: 1400 | AX28: 19.532477 | AY28: 30.482792 | AZ28: =BM28/5 -> 280 | BA28: 6850 | BB28: -58.42168 | BC28: 73.63085 | BJ28: 3400 | BK28: 9.807687 | BL28: -1.3597894 | BM28: 1400 | BN28: 2.7249461 | BO28: 29.966311
A29: 35750 | B29: -71.4482 | C29: -73.18668 | D29: =E29/5 -> 1430 | E29: 7150 | F29: -6.224987 | G29: -11.83239 | N29: 3700 | O29: -15.839418 | P29: 5.6512024 | Q29: 1500 | R29: -15.063324 | S29: 34.542346 | U29: 7150 | V29: -22.5556 | W29: -25.98488 | AD29: 3700 | AE29: -9.7093774 | AF29: 9.4600708 | AG29: 1500 | AH29: -5.8351649 | AI29: 34.077707 | AJ29: =AW29/5 -> 300 | AK29: 7150 | AL29: -15.75165 | AM29: 28.84298 | AT29: 3700 | AU29: 21.508983 | AV29: -6.113719 | AW29: 1500 | AX29: 19.758834 | AY29: 28.676993 | AZ29: =BM29/5 -> 300 | BA29: 7150 | BB29: -60.13367 | BC29: 74.71556 | BJ29: 3700 | BK29: 10.342732 | BL29: -7.1535126 | BM29: 1500 | BN29: 2.9544557 | BO29: 28.169623
A30: 37250 | B30: -72.71664 | C30: -73.87002 | D30: =E30/5 -> 1490 | E30: 7450 | F30: -6.510363 | G30: -11.81282 | N30: 4000 | O30: -15.951937 | P30: 1.4118607 | Q30: 1600 | R30: -15.227437 | S30: 33.056443 | U30: 7450 | V30: -24.25387 | W30: -25.96117 | AD30: 4000 | AE30: -10.129698 | AF30: 6.0119326 | AG30: 1600 | AH30: -6.013885 | AI30: 32.747822 | AJ30: =AW30/5 -> 320 | AK30: 7450 | AL30: -16.09374 | AM30: 29.02435 | AT30: 4000 | AU30: 22.101115 | AV30: -11.60687 | AW30: 1600 | AX30: 19.979245 | AY30: 26.878768 | AZ30: =BM30/5 -> 320 | BA30: 7450 | BB30: -61.74156 | BC30: 75.41203 | BJ30: 4000 | BK30: 11.035318 | BL30: -12.483908 | BM30: 1600 | BN30: 3.1842527 | BO30: 26.385709
A31: 38750 | B31: -74.35957 | C31: -73.56994 | D31: =E31/5 -> 1550 | E31: 7750 | F31: -6.780792 | G31: -11.8009 | N31: 4300 | O31: -16.000641 | P31: -2.8061513 | Q31: 1700 | R31: -15.382376 | S31: 31.575389 | U31: 7750 | V31: -25.91399 | W31: -25.93526 | AD31: 4300 | AE31: -10.44174 | AF31: 2.603418 | AG31: 1700 | AH31: -6.1826389 | AI31: 31.42317 | AJ31: =AW31/5 -> 340 | AK31: 7750 | AL31: -16.31713 | AM31: 29.0739 | AT31: 4300 | AU31: 22.660797 | AV31: -16.959086 | AW31: 1700 | AX31: 20.193711 | AY31: 25.086824 | AZ31: =BM31/5 -> 340 | BA31: 7750 | BB31: -63.34492 | BC31: 75.3455 | BJ31: 4300 | BK31: 11.885445 | BL31: -17.453606 | BM31: 1700 | BN31: 3.4143369 | BO31: 24.611985
A32: 40250 | B32: -76.39355 | C32: -71.77979 | D32: =E32/5 -> 1610 | E32: 8050 | F32: -7.036086 | G32: -11.79462 | N32: 4600 | O32: -15.985532 | P32: -7.0053957 | Q32: 1800 | R32: -15.528143 | S32: 30.099074 | U32: 8050 | V32: -27.5368 | W32: -25.90187 | AD32: 4600 | AE32: -10.645503 | AF32: -0.76666817 | AG32: 1800 | AH32: -6.3414265 | AI32: 30.103714 | AJ32: =AW32/5 -> 360 | AK32: 8050 | AL32: -16.38874 | AM32: 28.85367 | AT32: 4600 | AU32: 23.188027 | AV32: -22.203229 | AW32: 1800 | AX32: 20.402232 | AY32: 23.299865 | AZ32: =BM32/5 -> 360 | BA32: 8050 | BB32: -64.81805 | BC32: 74.05399 | BJ32: 4600 | BK32: 12.893114 | BL32: -22.165241 | BM32: 1800 | BN32: 3.6447085 | BO32: 22.84587
A33: 41750 | B33: -78.40727 | C33: -67.98318 | D33: =E33/5 -> 1670 | E33: 8350 | F33: -7.276432 | G33: -11.79195 | N33: 4900 | O33: -15.906609 | P33: -11.188434 | Q33: 1900 | R33: -15.664737 | S33: 28.627392 | U33: 8350 | V33: -29.12413 | W33: -25.85556 | AD33: 4900 | AE33: -10.740987 | AF33: -4.0995213 | AG33: 1900 | AH33: -6.4902481 | AI33: 28.789417 | AJ33: =AW33/5 -> 380 | AK33: 8350 | AL33: -16.18723 | AM33: 28.24419 | AT33: 4900 | AU33: 23.682806 | AV33: -27.372158 | AW33: 1900 | AX33: 20.604808 | AY33: 21.516595 | AZ33: =BM33/5 -> 380 | BA33: 8350 | BB33: -65.75779 | BC33: 71.14312 | BJ33: 4900 | BK33: 14.058324 | BL33: -26.721445 | BM33: 1900 | BN33: 3.8753673 | BO33: 21.08478
A34: 43250 | B34: -79.42693 | C34: -61.82704 | D34: =E34/5 -> 1730 | E34: 8650 | F34: -7.502387 | G34: -11.79088 | N34: 5200 | O34: -15.763873 | P34: -15.357829 | Q34: 2000 | R34: -15.792159 | S34: 27.160233 | U34: 8650 | V34: -30.67886 | W34: -25.7908 | AD34: 5200 | AE34: -10.728192 | AF34: -7.3963367 | AG34: 2000 | AH34: -6.6291034 | AI34: 27.480241 | AJ34: =AW34/5 -> 400 | AK34: 8650 | AL34: -15.51059 | AM34: 27.23132 | AT34: 5200 | AU34: 24.145133 | AV34: -32.498736 | AW34: 2000 | AX34: 20.80144 | AY34: 19.735721 | AZ34: =BM34/5 -> 400 | BA34: 8650 | BB34: -65.39954 | BC34: 66.43495 | BJ34: 5200 | BK34: 15.381075 | BL34: -31.224849 | BM34: 2000 | BN34: 4.1063134 | BO34: 19.326133
... A36: 46250 | B36: -74.55351 | C36: -44.53117 | D36: =E36/5 -> 1850 | E36: 9250 | F36: -7.915156 | G36: -11.78523 | N36: 5800 | O36: -15.286958 | P36: -23.665936 | Q36: 2200 | R36: -16.019484 | S36: 24.239057 | U36: 9250 | V36: -33.70713 | W36: -25.58274 | AD36: 5800 | AE36: -10.377765 | AF36: -13.886635 | AG36: 2200 | AH36: -6.8769156 | AI36: 24.877102 | AJ36: =AW36/5 -> 440 | AK36: 9250 | AL36: -12.29519 | AM36: 24.67881 | AT36: 5800 | AU36: 24.972435 | AV36: -42.756279 | AW36: 2200 | AX36: 21.176867 | AY36: 16.175976 | AZ36: =BM36/5 -> 440 | BA36: 9250 | BB36: -58.62032 | BC36: 53.87346 | BJ36: 5800 | BK36: 18.499201 | BL36: -40.483787 | BM36: 2200 | BN36: 4.5690676 | BO36: 15.805838
D37: =E37/5 -> 1910 | E37: 9550 | F37: -8.464508 | G37: -7.880451 | N37: 6100 | O37: -14.952781 | P37: -27.809771 | Q37: 2300 | R37: -16.119388 | S37: 22.784823 | U37: 9550 | V37: -36.03352 | W37: -18.70221 | AD37: 6100 | AE37: -10.040133 | AF37: -17.082509 | AG37: 2300 | AH37: -6.9858724 | AI37: 23.583066 | AJ37: =AW37/5 -> 460 | AT37: 6100 | AU37: 25.337409 | AV37: -47.952965 | AW37: 2300 | AX37: 21.355663 | AY37: 14.394515 | AZ37: =BM37/5 -> 460 | BJ37: 6100 | BK37: 20.294576 | BL37: -45.444585 | BM37: 2300 | BN37: 4.8008757 | BO37: 14.039025
D38: =E38/5 -> 1970 | E38: 9850 | F38: -8.867126 | G38: -7.846061 | N38: 6400 | O38: -14.554789 | P38: -31.950211 | Q38: 2400 | R38: -16.210119 | S38: 21.334682 | U38: 9850 | V38: -37.78224 | W38: -18.46975 | AD38: 6400 | AE38: -9.5942217 | AF38: -20.247126 | AG38: 2400 | AH38: -7.084863 | AI38: 22.294001 | AJ38: =AW38/5 -> 480 | AT38: 6400 | AU38: 25.669932 | AV38: -53.238742 | AW38: 2400 | AX38: 21.528515 | AY38: 12.610269 | AZ38: =BM38/5 -> 480 | BJ38: 6400 | BK38: 22.247492 | BL38: -50.763112 | BM38: 2400 | BN38: 5.032971 | BO38: 12.264326
D39: =E39/5 -> 2030 | E39: 10150 | F39: -9.264798 | G39: -7.791561 | N39: 6400 | O39: -11.654883 | P39: -5.7251614 | Q39: 2400 | R39: -16.210119 | S39: 22.20705 | U39: 10150 | V39: -39.52943 | W39: -18.15835 | AD39: 6400 | AE39: -26.214137 | AF39: -17.478466 | AG39: 2400 | AH39: -7.084863 | AI39: 23.407362 | AJ39: =AW39/5 -> 480 | AT39: 6400 | AU39: 25.288967 | AV39: -13.64834 | AW39: 2400 | AX39: 21.528515 | AY39: 13.843356 | AZ39: =BM39/5 -> 480 | BJ39: 6400 | BK39: 61.216789 | BL39: -51.989882 | BM39: 2400 | BN39: 5.032971 | BO39: 13.293839
D40: =E40/5 -> 2090 | E40: 10450 | F40: -9.660436 | G40: -7.716088 | N40: 6700 | O40: -11.588202 | P40: -5.8892461 | Q40: 2500 | R40: -16.294134 | S40: 20.760409 | U40: 10450 | V40: -41.2859 | W40: -17.76499 | AD40: 6700 | AE40: -26.023672 | AF40: -19.000975 | AG40: 2500 | AH40: -7.1499832 | AI40: 22.121689 | AJ40: =AW40/5 -> 500 | AT40: 6700 | AU40: 25.882681 | AV40: -14.351528 | AW40: 2500 | AX40: 21.63288 | AY40: 12.063341 | AZ40: =BM40/5 -> 500 | BJ40: 6700 | BK40: 62.842842 | BL40: -54.460434 | BM40: 2500 | BN40: 5.0484624 | BO40: 11.530825
D41: =E41/5 -> 2150 | E41: 10750 | F41: -10.05713 | G41: -7.618502 | N41: 7000 | O41: -11.529468 | P41: -6.0463176 | Q41: 2600 | R41: -16.375214 | S41: 19.316872 | U41: 10750 | V41: -43.06297 | W41: -17.28624 | AD41: 7000 | AE41: -25.811867 | AF41: -20.499411 | AG41: 2600 | AH41: -7.224869 | AI41: 20.83839 | AJ41: =AW41/5 -> 520 | AT41: 7000 | AU41: 26.556095 | AV41: -14.540898 | AW41: 2600 | AX41: 21.751956 | AY41: 10.293381 | AZ41: =BM41/5 -> 520 | BJ41: 7000 | BK41: 64.902919 | BL41: -54.754142 | BM41: 2600 | BN41: 5.1245255 | BO41: 9.7953168
D42: =E42/5 -> 2210 | E42: 11050 | F42: -10.45814 | G42: -7.49777 | N42: 7300 | O42: -11.478681 | P42: -6.1947389 | Q42: 2700 | R42: -16.453359 | S42: 17.876619 | U42: 11050 | V42: -44.87255 | W42: -16.71911 | AD42: 7300 | AE42: -25.578723 | AF42: -21.970472 | AG42: 2700 | AH42: -7.3095205 | AI42: 19.558273 | AJ42: =AW42/5 -> 540 | AT42: 7300 | AU42: 27.309208 | AV42: -14.350369 | AW42: 2700 | AX42: 21.885744 | AY42: 8.5303887 | AZ42: =BM42/5 -> 540 | BJ42: 7300 | BK42: 67.397019 | BL42: -53.679562 | BM42: 2700 | BN42: 5.2611603 | BO42: 8.0791068
D43: =E43/5 -> 2270 | E43: 11350 | F43: -10.86688 | G43: -7.352974 | N43: 7600 | O43: -11.435841 | P43: -6.3328726 | Q43: 2800 | R43: -16.528568 | S43: 16.439834 | U43: 11350 | V43: -46.72695 | W43: -16.06115 | AD43: 7600 | AE43: -25.32424 | AF43: -23.410854 | AG43: 2800 | AH43: -7.4039378 | AI43: 18.282143 | AJ43: =AW43/5 -> 560 | AT43: 7600 | AU43: 28.14202 | AV43: -13.91386 | AW43: 2800 | AX43: 22.034242 | AY43: 6.7712774 | AZ43: =BM43/5 -> 560 | BJ43: 7600 | BK43: 70.325141 | BL43: -52.045249 | BM43: 2800 | BN43: 5.4583668 | BO43: 6.3739867
D44: =E44/5 -> 2330 | E44: 11650 | F44: -11.28691 | G44: -7.183324 | N44: 7900 | O44: -11.400948 | P44: -6.4590817 | Q44: 2900 | R44: -16.600842 | S44: 15.006698 | U44: 11650 | V44: -48.63884 | W44: -15.31045 | AD44: 7900 | AE44: -25.048417 | AF44: -24.817253 | AG44: 2900 | AH44: -7.5081207 | AI44: 17.010808 | AJ44: =AW44/5 -> 580 | AT44: 7900 | AU44: 29.05453 | AV44: -13.36529 | AW44: 2900 | AX44: 22.197452 | AY44: 5.0129606 | AZ44: =BM44/5 -> 580 | BJ44: 7900 | BK44: 73.687287 | BL44: -50.659757 | BM44: 2900 | BN44: 5.7161451 | BO44: 4.6717485
D45: =E45/5 -> 2390 | E45: 11950 | F45: -11.72187 | G45: -6.988151 | N45: 8200 | O45: -11.374001 | P45: -6.571729 | Q45: 3000 | R45: -16.670181 | S45: 13.577393 | U45: 11950 | V45: -50.62109 | W45: -14.46572 | AD45: 8200 | AE45: -24.751256 | AF45: -26.186367 | AG45: 3000 | AH45: -7.6220694 | AI45: 15.745075 | AJ45: =AW45/5 -> 600 | AT45: 8200 | AU45: 30.04674 | AV45: -12.838577 | AW45: 3000 | AX45: 22.375373 | AY45: 3.2523517 | AZ45: =BM45/5 -> 600 | BJ45: 8200 | BK45: 77.483455 | BL45: -50.331641 | BM45: 3000 | BN45: 6.034495 | BO45: 2.964184
D46: =E46/5 -> 2450 | E46: 12250 | F46: -12.17553 | G46: -6.766583 | N46: 8500 | O46: -11.355002 | P46: -6.6691773 | Q46: 3100 | R46: -16.736584 | S46: 12.152101 | U46: 12250 | V46: -52.68676 | W46: -13.52565 | AD46: 8500 | AE46: -24.432755 | AF46: -27.514892 | AG46: 3100 | AH46: -7.7457838 | AI46: 14.485749 | AJ46: =AW46/5 -> 620 | AT46: 8500 | AU46: 31.118649 | AV46: -12.46764 | AW46: 3100 | AX46: 22.568005 | AY46: 1.4863642 | AZ46: =BM46/5 -> 620 | BJ46: 8500 | BK46: 81.713647 | BL46: -51.869456 | BM46: 3100 | BN46: 6.4134168 | BO46: 1.2430851
N47: 8800 | O47: -11.343949 | P47: -6.7497894 | Q47: 3200 | R47: -16.800052 | S47: 10.731005 | AD47: 8800 | AE47: -24.092915 | AF47: -28.799524 | AG47: 3200 | AH47: -7.8792639 | AI47: 13.233637 | AJ47: =AW47/5 -> 640 | AT47: 8800 | AU47: 32.270257 | AV47: -12.386398 | AW47: 3200 | AX47: 22.775349 | AY47: -0.28808864 | AZ47: =BM47/5 -> 640 | BJ47: 8800 | BK47: 86.377861 | BL47: -56.081756 | BM47: 3200 | BN47: 6.8529102 | BO47: -0.49975624
N48: 9100 | O48: -11.340843 | P48: -6.8119281 | Q48: 3300 | R48: -16.860584 | S48: 9.3142864 | AD48: 9100 | AE48: -23.731736 | AF48: -30.03696 | AG48: 3300 | AH48: -8.0225097 | AI48: 11.989547 | AJ48: =AW48/5 -> 660 | AT48: 9100 | AU48: 33.501564 | AV48: -12.728768 | AW48: 3300 | AX48: 22.997403 | AY48: -2.0740933 | AZ48: =BM48/5 -> 660 | BJ48: 9100 | BK48: 91.476098 | BL48: -63.777098 | BM48: 3300 | BN48: 7.3529754 | BO48: -2.2725483
N49: 9400 | O49: -11.345684 | P49: -6.8539563 | Q49: 3400 | R49: -16.918181 | S49: 7.9021269 | AD49: 9400 | AE49: -23.349218 | AF49: -31.223897 | AG49: 3400 | AH49: -8.1755212 | AI49: 10.754285 | AJ49: =AW49/5 -> 680 | AT49: 9400 | AU49: 34.81257 | AV49: -13.62867 | AW49: 3400 | AX49: 23.234169 | AY49: -3.8747365 | AZ49: =BM49/5 -> 680 | BJ49: 9400 | BK49: 97.008358 | BL49: -75.764036 | BM49: 3400 | BN49: 7.9136123 | BO49: -4.083499
N50: 9400 | O50: -7.4070861 | P50: -8.0817647 | Q50: 3400 | R50: -15.8469 | S50: 8.7428221 | AD50: 9400 | AE50: -18.612379 | AF50: -33.230643 | AG50: 3400 | AH50: -9.2771684 | AI50: 11.732481 | AJ50: =AW50/5 -> 680 | AW50: 3400 | AX50: 21.525382 | AY50: -2.4930635 | AZ50: =BM50/5 -> 680 | BM50: 3400 | BN50: 9.8033204 | BO50: -2.7977712
N51: 9700 | O51: -7.3752468 | P51: -8.4309445 | Q51: 3500 | R51: -15.904742 | S51: 7.3010939 | AD51: 9700 | AE51: -18.016 | AF51: -34.872122 | AG51: 3500 | AH51: -9.4376939 | AI51: 10.543318 | AJ51: =AW51/5 -> 700 | AW51: 3500 | AX51: 21.747932 | AY51: -4.3435222 | AZ51: =BM51/5 -> 700 | BM51: 3500 | BN51: 10.324785 | BO51: -4.6416942
N52: 10000 | O52: -7.3268411 | P52: -8.7712526 | Q52: 3600 | R52: -15.95264 | S52: 5.8636467 | AD52: 10000 | AE52: -17.427294 | AF52: -36.461515 | AG52: 3600 | AH52: -9.5785685 | AI52: 9.3627622 | AJ52: =AW52/5 -> 720 | AW52: 3600 | AX52: 21.957539 | AY52: -6.2046578 | AZ52: =BM52/5 -> 720 | BM52: 3600 | BN52: 10.814444 | BO52: -6.5168777
N53: 10300 | O53: -7.2618688 | P53: -9.1066647 | Q53: 3700 | R53: -15.990595 | S53: 4.4301421 | AD53: 10300 | AE53: -16.846263 | AF53: -38.02356 | AG53: 3700 | AH53: -9.6997924 | AI53: 8.19001 | AJ53: =AW53/5 -> 740 | AW53: 3700 | AX53: 22.154203 | AY53: -8.074316 | AZ53: =BM53/5 -> 740 | BM53: 3700 | BN53: 11.272298 | BO53: -8.4155513
N54: 10600 | O54: -7.1803301 | P54: -9.4411565 | Q54: 3800 | R54: -16.018607 | S54: 3.000242 | AD54: 10600 | AE54: -16.272906 | AF54: -39.582992 | AG54: 3800 | AH54: -9.8013653 | AI54: 7.0242591 | AJ54: =AW54/5 -> 760 | AW54: 3800 | AX54: 22.337925 | AY54: -9.9503428 | AZ54: =BM54/5 -> 760 | BM54: 3800 | BN54: 11.698346 | BO54: -10.329945
N55: 10900 | O55: -7.0822248 | P55: -9.7787036 | Q55: 3900 | R55: -16.036675 | S55: 1.573608 | AD55: 10900 | AE55: -15.707223 | AF55: -41.164548 | AG55: 3900 | AH55: -9.8832875 | AI55: 5.8647074 | AJ55: =AW55/5 -> 780 | AW55: 3900 | AX55: 22.508704 | AY55: -11.830584 | AZ55: =BM55/5 -> 780 | BM55: 3900 | BN55: 12.092588 | BO55: -12.252288
N56: 11200 | O56: -6.9675531 | P56: -10.123282 | Q56: 4000 | R56: -16.0448 | S56: 0.14990196 | AD56: 11200 | AE56: -15.149213 | AF56: -42.792964 | AG56: 4000 | AH56: -9.9455588 | AI56: 4.7105522 | AJ56: =AW56/5 -> 800 | AW56: 4000 | AX56: 22.666541 | AY56: -13.712886 | AZ56: =BM56/5 -> 800 | BM56: 4000 | BN56: 12.455025 | BO56: -14.174811
N57: 11500 | O57: -6.8363148 | P57: -10.478867 | Q57: 4100 | R57: -16.042982 | S57: -1.2712145 | AD57: 11500 | AE57: -14.598878 | AF57: -44.492976 | AG57: 4100 | AH57: -9.9881792 | AI57: 3.5609913 | AJ57: =AW57/5 -> 820 | AW57: 4100 | AX57: 22.811435 | AY57: -15.595094 | AZ57: =BM57/5 -> 820 | BM57: 4100 | BN57: 12.785657 | BO57: -16.089743
N58: 11800 | O58: -6.6885101 | P58: -10.849435 | Q58: 4200 | R58: -16.03122 | S58: -2.6900795 | AD58: 11800 | AE58: -14.056217 | AF58: -46.28932 | AG58: 4200 | AH58: -10.011149 | AI58: 2.4152223 | AJ58: =AW58/5 -> 840 | AW58: 4200 | AX58: 22.943386 | AY58: -17.475055 | AZ58: =BM58/5 -> 840 | BM58: 4200 | BN58: 13.084482 | BO58: -17.989315
N59: 12100 | O59: -6.5241388 | P59: -11.238961 | Q59: 4300 | R59: -16.009514 | S59: -4.1070315 | AD59: 12100 | AE59: -13.52123 | AF59: -48.206733 | AG59: 4300 | AH59: -10.014468 | AI59: 1.2724426 | AJ59: =AW59/5 -> 860 | AW59: 4300 | AX59: 23.062395 | AY59: -19.350614 | AZ59: =BM59/5 -> 860 | BM59: 4300 | BN59: 13.351502 | BO59: -19.865755
N60: 12400 | O60: -6.3432011 | P60: -11.65142 | Q60: 4400 | R60: -15.977866 | S60: -5.5224087 | AD60: 12400 | AE60: -12.993916 | AF60: -50.269951 | AG60: 4400 | AH60: -9.9981355 | AI60: 0.13185 | AJ60: =AW60/5 -> 880 | AW60: 4400 | AX60: 23.16846 | AY60: -21.219617 | AZ60: =BM60/5 -> 880 | BM60: 4400 | BN60: 13.586717 | BO60: -21.711294
Q61: 4400 | R61: -15.977866 | S61: -4.6975154 | AG61: 4400 | AH61: -9.9981355 | AI61: 0.97770288 | AJ61: =AW61/5 -> 880 | AW61: 4400 | AX61: 23.16846 | AY61: -19.664988 | AZ61: =BM61/5 -> 880 | BM61: 4400 | BN61: 13.586717 | BO61: -20.217926
Q62: 4500 | R62: -15.967158 | S62: -6.1110935 | AG62: 4500 | AH62: -10.069277 | AI62: -0.15992049 | AJ62: =AW62/5 -> 900 | AW62: 4500 | AX62: 23.303649 | AY62: -21.529548 | AZ62: =BM62/5 -> 900 | BM62: 4500 | BN62: 13.861409 | BO62: -22.043206
Q63: 4600 | R63: -15.946081 | S63: -7.5225002 | AG63: 4600 | AH63: -10.127298 | AI63: -1.293236 | AJ63: =AW63/5 -> 920 | AW63: 4600 | AX63: 23.449103 | AY63: -23.392617 | AZ63: =BM63/5 -> 920 | BM63: 4600 | BN63: 14.190403 | BO63: -23.861768
Q64: 4700 | R64: -15.914637 | S64: -8.9318517 | AG64: 4700 | AH64: -10.172196 | AI64: -2.4222113 | AJ64: =AW64/5 -> 940 | AW64: 4700 | AX64: 23.604822 | AY64: -25.253301 | AZ64: =BM64/5 -> 940 | BM64: 4700 | BN64: 14.573699 | BO64: -25.670193
Q65: 4800 | R65: -15.872825 | S65: -10.339264 | AG65: 4800 | AH65: -10.203974 | AI65: -3.5468142 | AJ65: =AW65/5 -> 960 | AW65: 4800 | AX65: 23.770806 | AY65: -27.110707 | AZ65: =BM65/5 -> 960 | BM65: 4800 | BN65: 15.011297 | BO65: -27.46506
Q66: 4900 | R66: -15.820646 | S66: -11.744853 | AG66: 4900 | AH66: -10.222629 | AI66: -4.6670124 | AJ66: =AW66/5 -> 980 | AW66: 4900 | AX66: 23.947056 | AY66: -28.963942 | AZ66: =BM66/5 -> 980 | BM66: 4900 | BN66: 15.503197 | BO66: -29.242949
Q67: 5000 | R67: -15.758098 | S67: -13.148735 | AG67: 5000 | AH67: -10.228163 | AI67: -5.7827737 | AJ67: =AW67/5 -> 1000 | AW67: 5000 | AX67: 24.133571 | AY67: -30.812111 | AZ67: =BM67/5 -> 1000 | BM67: 5000 | BN67: 16.049399 | BO67: -31.000439
Q68: 5100 | R68: -15.685182 | S68: -14.551026 | AG68: 5100 | AH68: -10.220576 | AI68: -6.8940659 | AJ68: =AW68/5 -> 1020 | AW68: 5100 | AX68: 24.33035 | AY68: -32.654322 | AZ68: =BM68/5 -> 1020 | BM68: 5100 | BN68: 16.649903 | BO68: -32.734109
Q69: 5200 | R69: -15.601898 | S69: -15.951843 | AG69: 5200 | AH69: -10.199867 | AI69: -8.0008566 | AJ69: =AW69/5 -> 1040 | AW69: 5200 | AX69: 24.537395 | AY69: -34.48968 | AZ69: =BM69/5 -> 1040 | BM69: 5200 | BN69: 17.304709 | BO69: -34.440541
Q70: 5300 | R70: -15.508247 | S70: -17.3513 | AG70: 5300 | AH70: -10.166036 | AI70: -9.1031137 | AJ70: =AW70/5 -> 1060 | AW70: 5300 | AX70: 24.754705 | AY70: -36.317292 | AZ70: =BM70/5 -> 1060 | BM70: 5300 | BN70: 18.013817 | BO70: -36.116312
Q71: 5400 | R71: -15.404227 | S71: -18.749515 | AG71: 5400 | AH71: -10.119084 | AI71: -10.200805 | AJ71: =AW71/5 -> 1080 | AW71: 5400 | AX71: 24.982281 | AY71: -38.136265 | AZ71: =BM71/5 -> 1080 | BM71: 5400 | BN71: 18.777227 | BO71: -37.758003
Q72: 5400 | R72: -15.404227 | S72: -17.947823 | AG72: 5400 | AH72: -10.119084 | AI72: -9.4236635 | AJ72: =AW72/5 -> 1080 | AW72: 5400 | AX72: 24.982281 | AY72: -36.607529 | AZ72: =BM72/5 -> 1080 | BM72: 5400 | BN72: 18.777227 | BO72: -36.532246
... Q115: 9400 | R115: -11.361146 | S115: -7.251853 | AG115: 9400 | AH115: -24.214609 | AI115: -31.854932 | AJ115: =AW115/5 -> 1880 | AW115: 9400 | AX115: 25.317585 | AY115: -11.926549 | AZ115: =BM115/5 -> 1880 | BM115: 9400 | BN115: 57.931877 | BO115: -58.025475
Q116: 9400 | R116: -7.653992 | S116: -7.9176511 | AG116: 9400 | AH116: -18.740889 | AI116: -33.202621 | AJ116: =AW116/5 -> 0
Q117: 9500 | R117: -7.6179827 | S117: -8.0310246 | AG117: 9500 | AH117: -18.527944 | AI117: -33.720446
Q118: 9600 | R118: -7.5854856 | S118: -8.1397008 | AG118: 9600 | AH118: -18.336892 | AI118: -34.219649
Q119: 9700 | R119: -7.5565008 | S119: -8.2444768 | AG119: 9700 | AH119: -18.167732 | AI119: -34.7037
Q120: 9800 | R120: -7.5310283 | S120: -8.34615 | AG120: 9800 | AH120: -18.020464 | AI120: -35.17607
Q121: 9900 | R121: -7.509068 | S121: -8.4455175 | AG121: 9900 | AH121: -17.89509 | AI121: -35.640226
Q122: 10000 | R122: -7.49062 | S122: -8.5433765 | AG122: 10000 | AH122: -17.791607 | AI122: -36.099638
Q123: 10100 | R123: -7.4756842 | S123: -8.6405244 | AG123: 10100 | AH123: -17.710018 | AI123: -36.557776
Q124: 10200 | R124: -7.4642607 | S124: -8.7377583 | AG124: 10200 | AH124: -17.65032 | AI124: -37.018109
Q125: 10300 | R125: -7.4563494 | S125: -8.8358754 | AG125: 10300 | AH125: -17.612516 | AI125: -37.484106
Q126: 10400 | R126: -7.4519504 | S126: -8.9356731 | AG126: 10400 | AH126: -17.596604 | AI126: -37.959237
Q127: 10400 | R127: -7.4519504 | S127: -9.1852788 | AG127: 10400 | AH127: -17.596604 | AI127: -38.393175
Q128: 10500 | R128: -7.4213236 | S128: -9.2858214 | AG128: 10500 | AH128: -17.444116 | AI128: -38.873016
... Q148: 12400 | R148: -6.4920686 | S148: -11.589703 | AG148: 12400 | AH148: -13.27939 | AI148: -49.279321

Sheet deflection
A1: 12000 | B1: 0.762163 | D1: 0 | E1: 20.29247 | G1: X-Def | H1: 3,,Simcenter NASTRAN Case 1, 4,,T3 Translation | J1: X-Def | K1: 3,,Simcenter NASTRAN Case 1, 4,,T3 Translation | M1: X-Def | N1: 1,,linear, 4,,T3 Translation | P1: X-Def | Q1: 1,,linear, 4,,T3 Translation
A2: 15000 | B2: -1.103884 | D2: 3000 | E2: 15.99103 | G2: 12000 | H2: 0.471171 | J2: 0 | K2: 20.59208 | M2: 12000 | N2: 0.672105 | P2: 0 | Q2: 19.3137
A3: 18000 | B3: -4.183661 | D3: 6000 | E3: 11.66855 | G3: 12300 | H3: 0.365079 | J3: 300 | K3: 20.18819 | M3: 15000 | N3: -1.204203 | P3: 3000 | Q3: 15.38793
A4: 21000 | B4: -7.095301 | D4: 9000 | E4: 7.274345 | G4: 12600 | H4: 0.235836 | J4: 600 | K4: 19.77835 | M4: 18000 | N4: -4.410871 | P4: 6000 | Q4: 11.1652
A5: 24000 | B5: -9.433448 | D5: 12000 | E5: 2.963798 | G5: 12900 | H5: 0.0816119 | J5: 900 | K5: 19.36331 | M5: 21000 | N5: -7.261228 | P5: 9000 | Q5: 6.843861
A6: 27000 | B6: -11.01504 | D6: 15000 | E6: -1.110453 | G6: 13200 | H6: -0.0977289 | J6: 1200 | K6: 18.94367 | M6: 24000 | N6: -9.553799 | P6: 12000 | Q6: 2.597847
A7: 30000 | B7: -11.74087 | D7: 18000 | E7: -4.800268 | G7: 13500 | H7: -0.301007 | J7: 1500 | K7: 18.51979 | M7: 27000 | N7: -11.0729 | P7: 15000 | Q7: -1.415369
A8: 33000 | B8: -11.57997 | D8: 21000 | E8: -7.968199 | G8: 13800 | H8: -0.526088 | J8: 1800 | K8: 18.09192 | M8: 30000 | N8: -11.73506 | P8: 18000 | Q8: -5.048785
A9: 36000 | B9: -10.61645 | D9: 24000 | E9: -10.47372 | G9: 14100 | H9: -0.770392 | J9: 2100 | K9: 17.66031 | M9: 33000 | N9: -11.48706 | P9: 21000 | Q9: -8.156962
A10: 39000 | B10: -9.267299 | D10: 27000 | E10: -12.18937 | G10: 14400 | H10: -1.031189 | J10: 2400 | K10: 17.22516 | M10: 36000 | N10: -10.45365 | P10: 24000 | Q10: -10.60118
A11: 42000 | B11: -9.343775 | D11: 30000 | E11: -13.02158 | G11: 14700 | H11: -1.305854 | J11: 2700 | K11: 16.78666 | M11: 39000 | N11: -8.778386 | P11: 27000 | Q11: -12.25586
D12: 33000 | E12: -12.92096 | G12: 15000 | H12: -1.591965 | J12: 3000 | K12: 16.34502 | M12: 42000 | N12: -8.700889 | P12: 30000 | Q12: -13.02681
D13: 36000 | E13: -11.87793 | G13: 15300 | H13: -1.887367 | J13: 3300 | K13: 15.90043 | P13: 33000 | Q13: -12.86525
D14: 39000 | E14: -9.904884 | G14: 15600 | H14: -2.190161 | J14: 3600 | K14: 15.45311 | P14: 36000 | Q14: -11.75828
D15: 42000 | E15: -7.021883 | G15: 15900 | H15: -2.498695 | J15: 3900 | K15: 15.00327 | P15: 39000 | Q15: -9.714779
D16: 45000 | E16: -3.28012 | G16: 16200 | H16: -2.811523 | J16: 4200 | K16: 14.55113 | P16: 42000 | Q16: -6.765425
D17: 48000 | E17: 1.239309 | G17: 16500 | H17: -3.127384 | J17: 4500 | K17: 14.09691 | P17: 45000 | Q17: -2.95353
D18: 51000 | E18: 6.352303 | G18: 16800 | H18: -3.445169 | J18: 4800 | K18: 13.64087 | P18: 48000 | Q18: 1.636205
D19: 54000 | E19: 11.70112 | G19: 17100 | H19: -3.763896 | J19: 5100 | K19: 13.18325 | P19: 51000 | Q19: 6.799264
D20: 57000 | E20: 16.97148 | G20: 17400 | H20: -4.082696 | J20: 5400 | K20: 12.72427 | P20: 54000 | Q20: 12.20584
D21: 60000 | E21: 22.19343 | G21: 17700 | H21: -4.400789 | J21: 5700 | K21: 12.2642 | P21: 57000 | Q21: 17.52501
G22: 18000 | H22: -4.717475 | J22: 6000 | K22: 11.80325 | P22: 60000 | Q22: 22.51617
G23: 18300 | H23: -5.032123 | J23: 6300 | K23: 11.34168
G24: 18600 | H24: -5.344159 | J24: 6600 | K24: 10.87968
G25: 18900 | H25: -5.653065 | J25: 6900 | K25: 10.41748
G26: 19200 | H26: -5.958363 | J26: 7200 | K26: 9.955265
G27: 19500 | H27: -6.259618 | J27: 7500 | K27: 9.493222
G28: 19800 | H28: -6.556432 | J28: 7800 | K28: 9.031524
G29: 20100 | H29: -6.848435 | J29: 8100 | K29: 8.570333
G30: 20400 | H30: -7.135289 | J30: 8400 | K30: 8.109802
G31: 20700 | H31: -7.41668 | J31: 8700 | K31: 7.650085
G32: 21000 | H32: -7.692316 | J32: 9000 | K32: 7.191326
G33: 21300 | H33: -7.961927 | J33: 9300 | K33: 6.733672
G34: 21600 | H34: -8.225261 | J34: 9600 | K34: 6.27727
G35: 21900 | H35: -8.482084 | J35: 9900 | K35: 5.82227 | M35: Max | N35: 24.00299 | T35: Max | U35: 0.471171
G36: 22200 | H36: -8.732176 | J36: 10200 | K36: 5.368825 | M36: Min | N36: -13.78387 | T36: Min | U36: -12.42664
G37: 22500 | H37: -8.975332 | J37: 10500 | K37: 4.917092 | M37: delta | N37: =N35-N36 -> 37.78686 | T37: delta | U37: =U35-U36 -> 12.897811
G38: 22800 | H38: -9.211359 | J38: 10800 | K38: 4.467232 | M38: d1 | N38: -13.02158 | T38: d1 | U38: -11.74087
G39: 23100 | H39: -9.440076 | J39: 11100 | K39: 4.019409 | M39: % | N39: =(N36-N38)/N37 -> -0.020173415 | T39: % | U39: =(U36-U38)/U37 -> -0.053169487
G40: 23400 | H40: -9.661313 | J40: 11400 | K40: 3.57379 | M40: d2 | N40: -13.02681 | T40: d2 | U40: -11.73506
G41: 23700 | H41: -9.87491 | J41: 11700 | K41: 3.130544 | N41: =(N36-N40)/N37 -> -0.020035007 | U41: =(U36-U40)/U37 -> -0.053619951
G42: 24000 | H42: -10.08072 | J42: 12000 | K42: 2.689841
G43: 24300 | H43: -10.27859 | J43: 12300 | K43: 2.25185
G44: 24600 | H44: -10.46839 | J44: 12600 | K44: 1.816738
G45: 24900 | H45: -10.65 | J45: 12900 | K45: 1.384672
G46: 25200 | H46: -10.8233 | J46: 13200 | K46: 0.955813
G47: 25500 | H47: -10.98817 | J47: 13500 | K47: 0.530322
G48: 25800 | H48: -11.14451 | J48: 13800 | K48: 0.108351
G49: 26100 | H49: -11.29222 | J49: 14100 | K49: -0.309946
G50: 26400 | H50: -11.4312 | J50: 14400 | K50: -0.724425
G51: 26700 | H51: -11.56138 | J51: 14700 | K51: -1.134941
G52: 27000 | H52: -11.68266 | J52: 15000 | K52: -1.541356
G53: 27300 | H53: -11.79498 | J53: 15300 | K53: -1.943532
... G102: 42000 | H102: -9.600012 | J102: 30000 | K102: -13.72461
J103: 30300 | K103: -13.75412
J104: 30600 | K104: -13.77388
J105: 30900 | K105: -13.78387
J106: 31200 | K106: -13.78406
J107: 31500 | K107: -13.77445
J108: 31800 | K108: -13.75501
J109: 32100 | K109: -13.72574
J110: 32400 | K110: -13.68663
J111: 32700 | K111: -13.63766
J112: 33000 | K112: -13.57885
J113: 33300 | K113: -13.51018
J114: 33600 | K114: -13.43165
... J202: 60000 | K202: 24.00299

Sheet hor distribution of stress
E1: 29500 | AV1: 44500 | CJ1: 59500
E2: linear | AC2: dmig | AV2: linear | BS2: dmig | CJ2: linear | DD2: dmig
E3: outer linear | J3: inner linear | Q3: outer linear | T3: inner linear | W3: outer linear | Z3: inner linear | AC3: outer dmig | AH3: inner dmig | AL3: outer dmig | AQ3: inner dmig | AV3: outer linear | BA3: inner linear | BG3: outer linear | BJ3: inner linear | BM3: outer linear | BP3: inner linear | BS3: outer dmig | BW3: inner dmig | CA3: outer dmig | CE3: inner dmig | CJ3: outer linear | CM3: inner linear | CR3: outer linear | CU3: inner linear | CX3: outer linear | DA3: inner linear | DD3: outer dmig | DG3: inner dmig | DJ3: outer dmig | DM3: inner dmig
E4: finest mesh | F4: shear | H4: normal | K4: shear | M4: normal | P4: fine mesh | Q4: shear | R4: normal | T4: shear | U4: normal | W4: shear | X4: normal | Z4: shear | AA4: normal | AC4: fine mesh | AD4: shear | AF4: normal | AI4: shear | AK4: normal | AL4: coarse mesh | AM4: shear | AO4: normal | AR4: shear | AT4: normal | AV4: finest mesh | AW4: shear | AY4: normal | BB4: shear | BD4: normal | BF4: fine mesh | BG4: shear | BH4: normal | BJ4: shear | BK4: normal | BM4: shear | BN4: normal | BP4: shear | BQ4: normal | BS4: fine mesh | BT4: shear | BV4: normal | BX4: shear | BZ4: normal | CA4: coarse mesh | CB4: shear | CD4: normal | CF4: shear | CH4: normal | CJ4: finest mesh | CK4: shear | CL4: normal | CN4: shear | CO4: normal | CQ4: fine mesh | CR4: shear | CS4: normal | CU4: shear | CV4: normal | CX4: shear | CY4: normal | DA4: shear | DB4: normal | DD4: fine mesh | DE4: shear | DF4: normal | DH4: shear | DI4: normal | DJ4: coarse mesh | DK4: shear | DL4: normal | DN4: shear | DO4: normal
A5: X C.G. | B5: 34..Simcenter NASTRAN Case 1, 7020..Plate Top X Normal Stress | E5: X C.G. | F5: Linear el. fine | G5: Linear el. fine, top el. | H5: Linear el. fine | J5: X C.G. | K5: Linear bottom el. fine | L5: Linear top el. fine | M5: Linear el. fine | P5: X C.G. | Q5: Linear el. semi-coarse | R5: Linear el. semi-coarse | S5: X C.G. | T5: Linear el. semi-coarse | U5: Linear el. semi-coarse | V5: X C.G. | W5: Linear el. coarse | X5: Linear el. coarse | Y5: X C.G. | Z5: Linear el. coarse | AA5: Linear el. coarse | AC5: X C.G. | AD5: HSD el. semi-coarse | AE5: HSD el. semi-coarse, top el. | AF5: HSD el. semi-coarse | AH5: X C.G. | AI5: HSD el. semi-coarse | AJ5: HSD el. semi-coarse, top el. | AK5: HSD el. semi-coarse | AL5: X C.G. | AM5: HSD el. coarse | AN5: HSD el. coarse, top el. | AO5: HSD el. coarse | AQ5: X C.G. | AR5: HSD el. coarse | AS5: HSD el. coarse, top el. | AT5: HSD el. coarse | AV5: X C.G. | AW5: Linear el. fine | AX5: Linear el. fine, top el. | AY5: Linear el. fine | BA5: X C.G. | BB5: Linear el. fine | BC5: Linear el. fine, top el. | BD5: Linear el. fine | BF5: X C.G. | BG5: Linear el. semi-coarse | BH5: Linear el. semi-coarse | BI5: X C.G. | BJ5: Linear el. semi-coarse | BK5: Linear el. semi-coarse | BL5: X C.G. | BM5: Linear el. coarse | BN5: Linear el. coarse | BO5: X C.G. | BP5: Linear el. coarse | BQ5: Linear el. coarse | BS5: X C.G. | BT5: HSD el. semi-coarse | BU5: HSD el. semi-coarse, top el. | BV5: HSD el. semi-coarse | BW5: X C.G. | BX5: HSD el. semi-coarse | BY5: HSD el. semi-coarse, top el. | BZ5: HSD el. semi-coarse | CA5: X C.G. | CB5: HSD el. coarse | CC5: HSD el. coarse, top el. | CD5: HSD el. coarse | CE5: X C.G. | CF5: HSD el. coarse | CG5: HSD el. coarse, top el. | CH5: HSD el. coarse | CJ5: X C.G. | CK5: Linear el. fine | CL5: Linear el. fine | CM5: X C.G. | CN5: Linear el. fine | CO5: Linear el. fine | CQ5: X C.G. | CR5: Linear el. semi-coarse | CS5: Linear el. semi-coarse | CT5: X C.G. | CU5: Linear el. semi-coarse | CV5: Linear el. semi-coarse | CW5: X C.G. | CX5: Linear el. coarse | CY5: Linear el. coarse | CZ5: X C.G. | DA5: Linear el. coarse | DB5: Linear el. coarse | DD5: X C.G. | DE5: HSD el. semi-coarse | DF5: HSD el. semi-coarse | DG5: X C.G. | DH5: HSD el. semi-coarse | DI5: HSD el. semi-coarse | DJ5: X C.G. | DK5: HSD el. coarse | DL5: HSD el. coarse | DM5: X C.G. | DN5: HSD el. coarse | DO5: HSD el. coarse
A7: 37500 | B7: -18.50433 | E7: 150 | F7: -0.313924 | H7: 0.0422813 | J7: 150 | K7: 0.522734 | M7: -0.858782 | P7: 0 | Q7: -1.267511 | R7: 0.709913 | S7: 0 | T7: 0.0867109 | U7: -0.778124 | V7: 0 | W7: -3.735927 | X7: -0.498896 | Y7: 0 | Z7: -3.486459 | AA7: -4.250522 | AB7: =V7/5 -> 0 | AC7: =Input!AL2 -> 500 | AD7: =Input!AM2 -> -1.8217635 | AE7: =Input!AN2 -> 0 | AF7: =Input!AO2 -> 0.8179015 | AH7: =Input!AR2 -> 500 | AI7: =Input!AS2 -> 1.0176624 | AJ7: =Input!AT2 -> 0 | AK7: =Input!AU2 -> -0.42880705 | AL7: =Input!BP2 -> 1500 | AM7: =Input!BQ2 -> -2.5735336 | AN7: =Input!BR2 -> 0 | AO7: =Input!BS2 -> 1.8281389 | AQ7: =Input!BV2 -> 1500 | AR7: =Input!BW2 -> 1.4918522 | AS7: =Input!BX2 -> 0 | AT7: =Input!BY2 -> -1.8057935 | AV7: 6150 | AW7: -1.20036 | AY7: 0.0228388 | BA7: 6150 | BB7: -2.430713 | BD7: 0.742409 | BF7: 6000 | BG7: -4.169649 | BH7: -1.420457 | BI7: 6000 | BJ7: -8.383848 | BK7: -3.317747 | BL7: 6000 | BM7: -12.83301 | BN7: -4.476767 | BO7: 6000 | BP7: -32.51916 | BQ7: -12.98858 | BS7: =Input!AW2 -> 6500 | BT7: =Input!AX2 -> -3.7539314 | BU7: =Input!AY2 -> 0 | BV7: =Input!AZ2 -> -1.5682521 | BW7: =Input!BB2 -> 6500 | BX7: =Input!BC2 -> -6.7569013 | BY7: =Input!BD2 -> 0 | BZ7: =Input!BE2 -> -3.1886292 | CA7: =Input!CA2 -> 7500 | CB7: =Input!CB2 -> -12.083786 | CC7: =Input!CC2 -> 0 | CD7: =Input!CD2 -> -9.6832023 | CE7: =Input!CF2 -> 7500 | CF7: =Input!CG2 -> -24.734122 | CG7: =Input!CH2 -> 0 | CH7: =Input!CI2 -> -26.462833 | CJ7: 12150 | CK7: -0.759364 | CL7: -0.0058494 | CM7: 12150 | CN7: -1.909961 | CO7: 0.766827 | CQ7: 12000 | CR7: -2.834958 | CS7: -1.057518 | CT7: 12000 | CU7: -6.502327 | CV7: -2.373084 | CW7: 12000 | CX7: -10.55585 | CY7: -3.305729 | CZ7: 12000 | DA7: -29.353 | DB7: -8.427494 | DD7: =Input!BG2 -> 12500 | DE7: =Input!BH2 -> -2.537905 | DF7: =Input!BI2 -> -1.2046484 | DG7: =Input!BK2 -> 12500 | DH7: =Input!BL2 -> -5.4196364 | DI7: =Input!BM2 -> -2.4618208 | DJ7: =Input!CK2 -> 13500 | DK7: =Input!CL2 -> -9.3488448 | DL7: =Input!CM2 -> -8.6683315 | DM7: =Input!CO2 -> 13500 | DN7: =Input!CP2 -> -19.917585 | DO7: =Input!CQ2 -> -24.052554 | DP7: 13500
A8: 52500 | B8: -44.39456 | E8: 450 | F8: -0.957473 | H8: 0.146466 | J8: 450 | K8: 0.589464 | M8: -1.067132 | P8: 1000 | Q8: -2.394837 | R8: 1.218246 | S8: 1000 | T8: -0.693032 | U8: -1.793893 | V8: 3000 | W8: -8.776926 | X8: -3.615709 | Y8: 3000 | Z8: -9.749908 | AA8: -12.67984 | AB8: =V8/5 -> 600 | AC8: =Input!AL3 -> 1500 | AD8: =Input!AM3 -> -3.5799323 | AE8: =Input!AN3 -> 0 | AF8: =Input!AO3 -> 2.0145444 | AH8: =Input!AR3 -> 1500 | AI8: =Input!AS3 -> -0.37492772 | AJ8: =Input!AT3 -> 0 | AK8: =Input!AU3 -> -2.7907546 | AL8: =Input!BP3 -> 4500 | AM8: =Input!BQ3 -> -12.543604 | AN8: =Input!BR3 -> 0 | AO8: =Input!BS3 -> -5.3657486 | AQ8: =Input!BV3 -> 4500 | AR8: =Input!BW3 -> -17.469306 | AS8: =Input!BX3 -> 0 | AT8: =Input!BY3 -> -21.964489 | AV8: 6450 | AW8: -3.627854 | AY8: 0.0349229 | BA8: 6450 | BB8: -6.988016 | BD8: 1.122914 | BF8: 7000 | BG8: -7.737824 | BH8: -1.746546 | BI8: 7000 | BJ8: -16.68246 | BK8: -5.239663 | BL8: 9000 | BM8: -17.15381 | BN8: -7.066454 | BO8: 9000 | BP8: -42.62093 | BQ8: -28.54979 | BS8: =Input!AW3 -> 7500 | BT8: =Input!AX3 -> -10.733364 | BU8: =Input!AY3 -> 0 | BV8: =Input!AZ3 -> -2.3866014 | BW8: =Input!BB3 -> 7500 | BX8: =Input!BC3 -> -22.30072 | BY8: =Input!BD3 -> 0 | BZ8: =Input!BE3 -> -7.7712356 | CA8: =Input!CA3 -> 10500 | CB8: =Input!CB3 -> -24.519922 | CC8: =Input!CC3 -> 0 | CD8: =Input!CD3 -> -8.3621268 | CE8: =Input!CF3 -> 10500 | CF8: =Input!CG3 -> -65.23549 | CG8: =Input!CH3 -> 0 | CH8: =Input!CI3 -> -47.25894 | CJ8: 12450 | CK8: -2.406437 | CL8: 0.00277259 | CM8: 12450 | CN8: -5.511942 | CO8: 1.164589 | CQ8: 13000 | CR8: -5.579047 | CS8: -1.33082 | CT8: 13000 | CU8: -13.64856 | CV8: -3.579237 | CW8: 15000 | CX8: -11.65219 | CY8: -3.988462 | CZ8: 15000 | DA8: -30.81228 | DB8: -14.71798 | DD8: =Input!BG3 -> 13500 | DE8: =Input!BH3 -> -7.9625734 | DF8: =Input!BI3 -> -1.8421775 | DG8: =Input!BK3 -> 13500 | DH8: =Input!BL3 -> -19.315393 | DI8: =Input!BM3 -> -5.3147308 | DJ8: =Input!CK3 -> 16500 | DK8: =Input!CL3 -> -12.210733 | DL8: =Input!CM3 -> -5.4915714 | DM8: =Input!CO3 -> 16500 | DN8: =Input!CP3 -> -28.607213 | DO8: =Input!CQ3 -> -23.123685 | DP8: 16500
A9: 67500 | B9: -32.31212 | E9: 750 | F9: -1.608539 | H9: 0.284388 | J9: 750 | K9: 0.249791 | M9: -1.134991 | P9: 2000 | Q9: -4.666521 | R9: 1.426548 | S9: 2000 | T9: -2.743145 | U9: -4.125505 | V9: 6000 | W9: -14.72687 | X9: -8.491878 | Y9: 6000 | Z9: -20.68348 | AA9: -24.93524 | AB9: =V9/5 -> 1200 | AC9: =Input!AL4 -> 2500 | AD9: =Input!AM4 -> -5.2970459 | AE9: =Input!AN4 -> 0 | AF9: =Input!AO4 -> 1.3260566 | AH9: =Input!AR4 -> 2500 | AI9: =Input!AS4 -> -2.5241495 | AJ9: =Input!AT4 -> 0 | AK9: =Input!AU4 -> -5.5317012 | AL9: =Input!BP4 -> 7500 | AM9: =Input!BQ4 -> -12.84427 | AN9: =Input!BR4 -> -16.537535 | AO9: =Input!BS4 -> -16.367583 | AP9: =Input!BT4 -> -10.964689 | AQ9: =Input!BV4 -> 7500 | AR9: =Input!BW4 -> -8.3047407 | AS9: =Input!BX4 -> -38.198996 | AT9: =Input!BY4 -> -27.966973 | AV9: 6750 | AW9: -5.950976 | AY9: -0.084094 | BA9: 6750 | BB9: -11.51674 | BD9: 0.843782 | BF9: 8000 | BG9: -13.25863 | BH9: -2.684521 | BI9: 8000 | BJ9: -29.92133 | BK9: -10.5068 | BL9: 12000 | BM9: -15.76205 | BN9: -11.07874 | BO9: 12000 | BP9: -37.76732 | BQ9: -44.9776 | BS9: =Input!AW4 -> 8500 | BT9: =Input!AX4 -> -14.275339 | BU9: =Input!AY4 -> 0 | BV9: =Input!AZ4 -> -3.5006773 | BW9: =Input!BB4 -> 8500 | BX9: =Input!BC4 -> -30.638735 | BY9: =Input!BD4 -> 0 | BZ9: =Input!BE4 -> -14.565916 | CA9: =Input!CA4 -> 13500 | CB9: =Input!CB4 -> -13.177359 | CC9: =Input!CC4 -> -9.9858489 | CD9: =Input!CD4 -> -14.220717 | CE9: =Input!CF4 -> 13500 | CF9: =Input!CG4 -> -33.011136 | CG9: =Input!CH4 -> -23.480615 | CH9: =Input!CI4 -> -49.563645 | CJ9: 12750 | CK9: -4.091881 | CL9: -0.0630842 | CM9: 12750 | CN9: -9.312961 | CO9: 1.087771 | CQ9: 14000 | CR9: -9.912856 | CS9: -1.97796 | CT9: 14000 | CU9: -25.11235 | CV9: -6.779182 | CW9: 18000 | CX9: -11.50366 | CY9: -6.662113 | CZ9: 18000 | DA9: -28.1743 | DB9: -29.49216 | DD9: =Input!BG4 -> 14500 | DE9: =Input!BH4 -> -10.77337 | DF9: =Input!BI4 -> -2.4743516 | DG9: =Input!BK4 -> 14500 | DH9: =Input!BL4 -> -26.345059 | DI9: =Input!BM4 -> -9.2604462 | DJ9: =Input!CK4 -> 19500 | DK9: =Input!CL4 -> -9.1459094 | DL9: =Input!CM4 -> -8.8771337 | DM9: =Input!CO4 -> 19500 | DN9: =Input!CP4 -> -19.589151 | DO9: =Input!CQ4 -> -38.887908 | DP9: 19500
A10: 82500 | B10: -32.11195 | E10: 1050 | F10: -2.26419 | H10: 0.417581 | J10: 1050 | K10: -0.174903 | M10: -1.247168 | P10: 3000 | Q10: -7.068093 | R10: 0.137514 | S10: 3000 | T10: -5.534751 | U10: -7.542654 | V10: 9000 | W10: -18.39485 | X10: -9.749575 | Y10: 9000 | Z10: -28.65959 | AA10: -23.91451 | AB10: =V10/5 -> 1800 | AC10: =Input!AL5 -> 3500 | AD10: =Input!AM5 -> -7.2625791 | AE10: =Input!AN5 -> 0 | AF10: =Input!AO5 -> -0.68064659 | AH10: =Input!AR5 -> 3500 | AI10: =Input!AS5 -> -4.9911238 | AJ10: =Input!AT5 -> 0 | AK10: =Input!AU5 -> -9.6397308 | AL10: =Input!BP5 -> 10500 | AM10: =Input!BQ5 -> -21.650669 | AN10: =Input!BR5 -> -19.141326 | AO10: =Input!BS5 -> -15.978116 | AP10: =Input!BT5 -> -3.7793738 | AQ10: =Input!BV5 -> 10500 | AR10: =Input!BW5 -> -18.043404 | AS10: =Input!BX5 -> -47.276905 | AT10: =Input!BY5 -> -21.605353 | AV10: 7050 | AW10: -8.041179 | AY10: -0.373539 | BA10: 7050 | BB10: -15.79777 | BD10: -0.266614 | BF10: 9000 | BG10: -16.05892 | BH10: -4.284551 | BI10: 9000 | BJ10: -36.97429 | BK10: -18.88245 | BL10: 15000 | BM10: -13.64078 | BN10: -10.35255 | BO10: 15000 | BP10: -31.55317 | BQ10: -40.5722 | BS10: =Input!AW5 -> 9500 | BT10: =Input!AX5 -> -16.05549 | BU10: =Input!AY5 -> 0 | BV10: =Input!AZ5 -> -5.2222315 | BW10: =Input!BB5 -> 9500 | BX10: =Input!BC5 -> -34.991353 | BY10: =Input!BD5 -> 0 | BZ10: =Input!BE5 -> -24.064699 | CA10: =Input!CA5 -> 16500 | CB10: =Input!CB5 -> -16.722652 | CC10: =Input!CC5 -> -11.490226 | CD10: =Input!CD5 -> -9.616168 | CE10: =Input!CF5 -> 16500 | CF10: =Input!CG5 -> -36.539809 | CG10: =Input!CH5 -> -29.401866 | CH10: =Input!CI5 -> -35.777716 | CJ10: 13050 | CK10: -5.6922 | CL10: -0.260516 | CM10: 13050 | CN10: -13.11135 | CO10: 0.37817 | CQ10: 15000 | CR10: -11.88901 | CS10: -2.905727 | CT10: 15000 | CU10: -30.11358 | CV10: -11.63893 | CW10: 21000 | CX10: -8.698656 | CY10: -10.01706 | CZ10: 21000 | DA10: -20.08099 | DB10: -43.63043 | DD10: =Input!BG5 -> 15500 | DE10: =Input!BH5 -> -11.646325 | DF10: =Input!BI5 -> -3.5154231 | DG10: =Input!BK5 -> 15500 | DH10: =Input!BL5 -> -27.952685 | DI10: =Input!BM5 -> -14.788223 | DJ10: =Input!CK5 -> 22500 | DK10: =Input!CL5 -> -6.3038184 | DL10: =Input!CM5 -> -11.73072 | DM10: =Input!CO5 -> 22500 | DN10: =Input!CP5 -> -13.01267 | DO10: =Input!CQ5 -> -50.718323 | DP10: 22500
A11: 97500 | B11: -23.60188 | E11: 1350 | F11: -2.919575 | H11: 0.510611 | J11: 1350 | K11: -0.648323 | M11: -1.49045 | P11: 4000 | Q11: -9.763424 | R11: -2.383469 | S11: 4000 | T11: -9.00041 | U11: -12.34247 | V11: 12000 | W11: -20.18209 | X11: -11.08906 | Y11: 12000 | Z11: -28.24846 | AA11: -20.43585 | AB11: =V11/5 -> 2400 | AC11: =Input!AL6 -> 4500 | AD11: =Input!AM6 -> -9.5269825 | AE11: =Input!AN6 -> 0 | AF11: =Input!AO6 -> -4.0003526 | AH11: =Input!AR6 -> 4500 | AI11: =Input!AS6 -> -7.5811843 | AJ11: =Input!AT6 -> 0 | AK11: =Input!AU6 -> -15.584599 | AL11: =Input!BP6 -> 13500 | AM11: =Input!BQ6 -> -20.921734 | AN11: =Input!BR6 -> -17.610395 | AO11: =Input!BS6 -> -20.386682 | AP11: =Input!BT6 -> -8.3020048 | AQ11: =Input!BV6 -> 13500 | AR11: =Input!BW6 -> -12.705586 | AS11: =Input!BX6 -> -38.839744 | AT11: =Input!BY6 -> -20.335267 | AV11: 7350 | AW11: -9.839771 | AY11: -0.814419 | BA11: 7350 | BB11: -19.60374 | BD11: -2.09496 | BF11: 10000 | BG11: -17.69964 | BH11: -6.172861 | BI11: 10000 | BJ11: -41.20357 | BK11: -29.19468 | BL11: 18000 | BM11: -13.51231 | BN11: -8.317108 | BO11: 18000 | BP11: -30.59368 | BQ11: -33.80111 | BS11: =Input!AW6 -> 10500 | BT11: =Input!AX6 -> -17.710487 | BU11: =Input!AY6 -> 0 | BV11: =Input!AZ6 -> -7.3285549 | BW11: =Input!BB6 -> 10500 | BX11: =Input!BC6 -> -38.62979 | BY11: =Input!BD6 -> 0 | BZ11: =Input!BE6 -> -35.682132 | CA11: =Input!CA6 -> 19500 | CB11: =Input!CB6 -> -15.113287 | CC11: =Input!CC6 -> -10.240692 | CD11: =Input!CD6 -> -7.5228626 | CE11: =Input!CF6 -> 19500 | CF11: =Input!CG6 -> -31.889561 | CG11: =Input!CH6 -> -25.623353 | CH11: =Input!CI6 -> -31.251346 | CJ11: 13350 | CK11: -7.126567 | CL11: -0.576201 | CM11: 13350 | CN11: -16.61617 | CO11: -0.894476 | CQ11: 16000 | CR11: -12.20007 | CS11: -4.13662 | CT11: 16000 | CU11: -30.17575 | CV11: -17.6833 | CW11: 24000 | CX11: -5.427828 | CY11: -12.21949 | CZ11: 24000 | DA11: -12.057 | DB11: -52.72436 | DD11: =Input!BG6 -> 16500 | DE11: =Input!BH6 -> -11.5391 | DF11: =Input!BI6 -> -4.8106978 | DG11: =Input!BK6 -> 16500 | DH11: =Input!BL6 -> -26.943793 | DI11: =Input!BM6 -> -20.953477 | DJ11: =Input!CK6 -> 25500 | DK11: =Input!CL6 -> -3.2739305 | DL11: =Input!CM6 -> -13.421974 | DM11: =Input!CO6 -> 25500 | DN11: =Input!CP6 -> -6.5352053 | DO11: =Input!CQ6 -> -57.749846 | DP11: 25500
A12: 112500 | B12: -24.06237 | E12: 1650 | F12: -3.571035 | H12: 0.540961 | J12: 1650 | K12: -1.151789 | M12: -1.882759 | P12: 5000 | Q12: -14.27722 | R12: -7.500443 | S12: 5000 | T12: -17.28469 | U12: -22.71789 | V12: 15000 | W12: -18.57899 | X12: -12.95635 | Y12: 15000 | Z12: -22.11391 | AA12: -19.50892 | AB12: =V12/5 -> 3000 | AC12: =Input!AL7 -> 5500 | AD12: =Input!AM7 -> -15.734907 | AE12: =Input!AN7 -> 0 | AF12: =Input!AO7 -> -9.0720881 | AH12: =Input!AR7 -> 5500 | AI12: =Input!AS7 -> -28.012113 | AJ12: =Input!AT7 -> 0 | AK12: =Input!AU7 -> -27.559122 | AL12: =Input!BP7 -> 16500 | AM12: =Input!BQ7 -> -20.020233 | AN12: =Input!BR7 -> -15.393755 | AO12: =Input!BS7 -> -24.437497 | AP12: =Input!BT7 -> -5.7368737 | AQ12: =Input!BV7 -> 16500 | AR12: =Input!BW7 -> -10.701638 | AS12: =Input!BX7 -> -33.200233 | AT12: =Input!BY7 -> -21.651236 | AV12: 7650 | AW12: -11.33156 | AY12: -1.362697 | BA12: 7650 | BB12: -22.83003 | BD12: -4.48204 | BF12: 11000 | BG12: -22.24527 | BH12: -10.26944 | BI12: 11000 | BJ12: -54.4266 | BK12: -48.24374 | BL12: 21000 | BM12: -10.99973 | BN12: -7.584841 | BO12: 21000 | BP12: -24.51113 | BQ12: -32.00395 | BS12: =Input!AW7 -> 11500 | BT12: =Input!AX7 -> -31.501535 | BU12: =Input!AY7 -> 0 | BV12: =Input!AZ7 -> -10.143619 | BW12: =Input!BB7 -> 11500 | BX12: =Input!BC7 -> -90.412565 | BY12: =Input!BD7 -> 0 | BZ12: =Input!BE7 -> -55.525065 | CA12: =Input!CA7 -> 22500 | CB12: =Input!CB7 -> -11.35288 | CC12: =Input!CC7 -> -7.4128708 | CD12: =Input!CD7 -> -6.9966745 | CE12: =Input!CF7 -> 22500 | CF12: =Input!CG7 -> -23.322656 | CG12: =Input!CH7 -> -18.57382 | CH12: =Input!CI7 -> -31.34538 | CJ12: 13650 | CK12: -8.350492 | CL12: -0.982997 | CM12: 13650 | CN12: -19.64367 | CO12: -2.613652 | CQ12: 17000 | CR12: -11.83731 | CS12: -5.487546 | CT12: 17000 | CU12: -28.45713 | CV12: -23.87552 | CW12: 27000 | CX12: -1.831618 | CY12: -13.26952 | CZ12: 27000 | DA12: -3.676612 | DB12: -57.15134 | DD12: =Input!BG7 -> 17500 | DE12: =Input!BH7 -> -10.995623 | DF12: =Input!BI7 -> -6.1632418 | DG12: =Input!BK7 -> 17500 | DH12: =Input!BL7 -> -24.965026 | DI12: =Input!BM7 -> -27.0012 | DJ12: =Input!CK7 -> 28500 | DK12: =Input!CL7 -> 0.07611472 | DL12: =Input!CM7 -> -13.840458 | DM12: =Input!CO7 -> 28500 | DN12: =Input!CP7 -> 0.4901118 | DO12: =Input!CQ7 -> -59.721823 | DP12: 28500
A13: 127500 | B13: -25.41607 | E13: 1950 | F13: -4.217268 | H13: 0.495171 | J13: 1950 | K13: -1.676533 | M13: -2.429308 | P13: 6000 | Q13: -14.79417 | R13: -12.67521 | S13: 6000 | T13: -24.15927 | U13: -36.65572 | V13: 18000 | W13: -17.7847 | X13: -14.80795 | Y13: 18000 | Z13: -22.04326 | AA13: -18.74564 | AB13: =V13/5 -> 3600 | AC13: =Input!AL8 -> 6500 | AD13: =Input!AM8 -> -9.8630226 | AE13: =Input!AN8 -> -16.061617 | AF13: =Input!AO8 -> -18.313215 | AG13: =Input!AP8 -> -18.38619 | AH13: =Input!AR8 -> 6500 | AI13: =Input!AS8 -> -6.0069758 | AJ13: =Input!AT8 -> -37.078614 | AK13: =Input!AU8 -> -36.243129 | AL13: =Input!BP8 -> 19500 | AM13: =Input!BQ8 -> -18.326328 | AN13: =Input!BR8 -> -14.684866 | AO13: =Input!BS8 -> -28.270981 | AP13: =Input!BT8 -> -5.2826619 | AQ13: =Input!BV8 -> 19500 | AR13: =Input!BW8 -> -11.441419 | AS13: =Input!BX8 -> -32.466009 | AT13: =Input!BY8 -> -20.48809 | AV13: 7950 | AW13: -12.53519 | AY13: -1.976926 | BA13: 7950 | BB13: -25.46799 | BD13: -7.25988 | BF13: 12000 | BG13: -17.79241 | BH13: -15.65297 | BI13: 12000 | BJ13: -45.48134 | BK13: -64.00032 | BL13: 24000 | BM13: -7.324007 | BN13: -7.537649 | BO13: 24000 | BP13: -16.07916 | BQ13: -32.83487 | BS13: =Input!AW8 -> 12500 | BT13: =Input!AX8 -> -12.281823 | BU13: =Input!AY8 -> -9.6069648 | BV13: =Input!AZ8 -> -18.12033 | BW13: =Input!BB8 -> 12500 | BX13: =Input!BC8 -> -35.353879 | BY13: =Input!BD8 -> -21.091883 | BZ13: =Input!BE8 -> -67.555922 | CA13: =Input!CA8 -> 25500 | CB13: =Input!CB8 -> -6.5831175 | CC13: =Input!CC8 -> -3.97383 | CD13: =Input!CD8 -> -7.0393744 | CE13: =Input!CF8 -> 25500 | CF13: =Input!CG8 -> -12.933048 | CG13: =Input!CH8 -> -10.209755 | CH13: =Input!CI8 -> -32.764092 | CJ13: 13950 | CK13: -9.351901 | CL13: -1.447067 | CM13: 13950 | CN13: -22.11298 | CO13: -4.642046 | CQ13: 18000 | CR13: -11.15392 | CS13: -6.810187 | CT13: 18000 | CU13: -26.0971 | CV13: -29.6742 | CW13: 30000 | CX13: 2.222912 | CY13: -12.97974 | CZ13: 30000 | DA13: 5.825156 | DB13: -56.33735 | DD13: =Input!BG8 -> 18500 | DE13: =Input!BH8 -> -10.239173 | DF13: =Input!BI8 -> -7.4692582 | DG13: =Input!BK8 -> 18500 | DH13: =Input!BL8 -> -22.651556 | DI13: =Input!BM8 -> -32.618792 | DJ13: =Input!CK8 -> 31500 | DK13: =Input!CL8 -> 3.9073808 | DL13: =Input!CM8 -> -12.811923 | DM13: =Input!CO8 -> 31500 | DN13: =Input!CP8 -> 8.7470867 | DO13: =Input!CQ8 -> -55.969754 | DP13: 31500
A14: 142500 | B14: -26.91644 | E14: 2250 | F14: -4.857286 | H14: 0.364772 | J14: 2250 | K14: -2.218389 | M14: -3.128141 | P14: 7000 | Q14: -14.33662 | R14: -12.02956 | S14: 7000 | T14: -24.9202 | U14: -34.16647 | V14: 21000 | W14: -15.40849 | X14: -16.89375 | Y14: 21000 | Z14: -19.92387 | AA14: -18.50017 | AB14: =V14/5 -> 4200 | AC14: =Input!AL9 -> 7500 | AD14: =Input!AM9 -> -15.335756 | AE14: =Input!AN9 -> -13.753359 | AF14: =Input!AO9 -> -16.250736 | AG14: =Input!AP9 -> -7.7803412 | AH14: =Input!AR9 -> 7500 | AI14: =Input!AS9 -> -11.764335 | AJ14: =Input!AT9 -> -35.233095 | AK14: =Input!AU9 -> -29.5672 | AL14: =Input!BP9 -> 22500 | AM14: =Input!BQ9 -> -14.562306 | AN14: =Input!BR9 -> -11.662299 | AO14: =Input!BS9 -> -32.30322 | AP14: =Input!BT9 -> -5.8876363 | AQ14: =Input!BV9 -> 22500 | AR14: =Input!BW9 -> -9.6279487 | AS14: =Input!BX9 -> -26.264018 | AT14: =Input!BY9 -> -20.6304 | AV14: 8250 | AW14: -13.48731 | AY14: -2.619735 | BA14: 8250 | BB14: -27.57243 | BD14: -10.28905 | BF14: 13000 | BG14: -13.37518 | BH14: -14.6273 | BI14: 13000 | BJ14: -34.06198 | BK14: -56.67596 | BL14: 27000 | BM14: -2.971884 | BN14: -7.790521 | BO14: 27000 | BP14: -6.301415 | BQ14: -34.29824 | BS14: =Input!AW9 -> 13500 | BT14: =Input!AX9 -> -14.916532 | BU14: =Input!AY9 -> -10.081466 | BV14: =Input!AZ9 -> -14.434425 | BW14: =Input!BB9 -> 13500 | BX14: =Input!BC9 -> -35.580677 | BY14: =Input!BD9 -> -27.840319 | BZ14: =Input!BE9 -> -52.556037 | CA14: =Input!CA9 -> 28500 | CB14: =Input!CB9 -> -1.092632 | CC14: =Input!CC9 -> -0.090383587 | CD14: =Input!CD9 -> -7.2607893 | CE14: =Input!CF9 -> 28500 | CF14: =Input!CG9 -> -1.1167035 | CG14: =Input!CH9 -> -0.77964859 | CH14: =Input!CI9 -> -34.177478 | CJ14: 14250 | CK14: -10.14089 | CL14: -1.941226 | CM14: 14250 | CN14: -24.02082 | CO14: -6.857808 | CQ14: 19000 | CR14: -10.3021 | CS14: -8.059802 | CT14: 19000 | CU14: -23.52802 | CV14: -34.97336 | CW14: 33000 | CX14: 6.853709 | CY14: -11.23256 | CZ14: 33000 | DA14: 17.25256 | DB14: -49.58031 | DD14: =Input!BG9 -> 19500 | DE14: =Input!BH9 -> -9.3699752 | DF14: =Input!BI9 -> -8.6816429 | DG14: =Input!BK9 -> 19500 | DH14: =Input!BL9 -> -20.252799 | DI14: =Input!BM9 -> -37.704415 | DJ14: =Input!CK9 -> 34500 | DK14: =Input!CL9 -> 8.3619354 | DL14: =Input!CM9 -> -10.079158 | DM14: =Input!CO9 -> 34500 | DN14: =Input!CP9 -> 19.018031 | DO14: =Input!CQ9 -> -45.354154 | DP14: 34500
A15: 157500 | B15: -28.64843 | E15: 2550 | F15: -5.491146 | H15: 0.144591 | J15: 2550 | K15: -2.776638 | M15: -3.977056 | P15: 8000 | Q15: -16.38297 | R15: -10.0581 | S15: 8000 | T15: -27.2978 | U15: -26.53878 | V15: 24000 | W15: -11.14195 | X15: -19.16563 | Y15: 24000 | Z15: -14.52757 | AA15: -19.24292 | AB15: =V15/5 -> 4800 | AC15: =Input!AL10 -> 8500 | AD15: =Input!AM10 -> -18.271787 | AE15: =Input!AN10 -> -16.639245 | AF15: =Input!AO10 -> -15.038035 | AG15: =Input!AP10 -> -5.0043543 | AH15: =Input!AR10 -> 8500 | AI15: =Input!AS10 -> -16.100578 | AJ15: =Input!AT10 -> -41.563836 | AK15: =Input!AU10 -> -25.108451 | AL15: =Input!BP10 -> 25500 | AM15: =Input!BQ10 -> -9.217337 | AN15: =Input!BR10 -> -7.095588 | AO15: =Input!BS10 -> -36.212655 | AP15: =Input!BT10 -> -6.6465557 | AQ15: =Input!BV10 -> 25500 | AR15: =Input!BW10 -> -6.3879035 | AS15: =Input!BX10 -> -16.524012 | AT15: =Input!BY10 -> -21.853814 | AV15: 8550 | AW15: -14.23535 | AY15: -3.271214 | BA15: 8550 | BB15: -29.234 | BD15: -13.46844 | BF15: 14000 | BG15: -13.55091 | BH15: -11.67532 | BI15: 14000 | BJ15: -33.37358 | BK15: -44.98299 | BL15: 30000 | BM15: 1.899057 | BN15: -8.224614 | BO15: 30000 | BP15: 4.674955 | BQ15: -35.9714 | BS15: =Input!AW10 -> 14500 | BT15: =Input!AX10 -> -16.645923 | BU15: =Input!AY10 -> -11.394944 | BV15: =Input!AZ10 -> -11.793208 | BW15: =Input!BB10 -> 14500 | BX15: =Input!BC10 -> -38.054692 | BY15: =Input!BD10 -> -30.589168 | BZ15: =Input!BE10 -> -43.608333 | CA15: =Input!CA10 -> 31500 | CB15: =Input!CB10 -> 4.8842542 | CC15: =Input!CC10 -> 4.24007 | CD15: =Input!CD10 -> -7.6613966 | CE15: =Input!CF10 -> 31500 | CF15: =Input!CG10 -> 12.024435 | CG15: =Input!CH10 -> 9.7509178 | CH15: =Input!CI10 -> -35.627691 | CJ15: 14550 | CK15: -10.7399 | CL15: -2.446206 | CM15: 14550 | CN15: -25.41381 | CO15: -9.165907 | CQ15: 20000 | CR15: -9.35581 | CS15: -9.20545 | CT15: 20000 | CU15: -20.91943 | CV15: -39.72929 | CW15: 36000 | CX15: 11.79163 | CY15: -7.730245 | CZ15: 36000 | DA15: 31.05381 | DB15: -35.00336 | DD15: =Input!BG10 -> 20500 | DE15: =Input!BH10 -> -8.4368344 | DF15: =Input!BI10 -> -9.7789396 | DG15: =Input!BK10 -> 20500 | DH15: =Input!BL10 -> -17.863419 | DI15: =Input!BM10 -> -42.2352 | DJ15: =Input!CK10 -> 37500 | DK15: =Input!CL10 -> 13.900406 | DL15: =Input!CM10 -> -5.5638645 | DM15: =Input!CO10 -> 37500 | DN15: =Input!CP10 -> 34.494228 | DO15: =Input!CQ10 -> -25.666715 | DP15: 37500
A16: 172500 | B16: -31.59466 | E16: 2850 | F16: -6.118935 | H16: -0.169331 | J16: 2850 | K16: -3.35268 | M16: -4.97548 | P16: 9000 | Q16: -18.71581 | R16: -9.585997 | S16: 9000 | T16: -31.0748 | U16: -23.65292 | V16: 27000 | W16: -5.661994 | X16: -21.30595 | Y16: 27000 | Z16: -7.34421 | AA16: -20.74788 | AB16: =V16/5 -> 5400 | AC16: =Input!AL11 -> 9500 | AD16: =Input!AM11 -> -20.319347 | AE16: =Input!AN11 -> -18.91988 | AF16: =Input!AO11 -> -15.051856 | AG16: =Input!AP11 -> -4.3370505 | AH16: =Input!AR11 -> 9500 | AI16: =Input!AS11 -> -18.693764 | AJ16: =Input!AT11 -> -46.421619 | AK16: =Input!AU11 -> -22.727142 | AL16: =Input!BP11 -> 28500 | AM16: =Input!BQ11 -> -2.8948331 | AN16: =Input!BR11 -> -1.6534393 | AO16: =Input!BS11 -> -39.661944 | AP16: =Input!BT11 -> -7.2779083 | AQ16: =Input!BV11 -> 28500 | AR16: =Input!BW11 -> -2.4358703 | AS16: =Input!BX11 -> -4.8582229 | AT16: =Input!BY11 -> -23.731449 | AV16: 8850 | AW16: -14.8261 | AY16: -3.914075 | BA16: 8850 | BB16: -30.55385 | BD16: -16.73753 | BF16: 15000 | BG16: -14.31188 | BH16: -10.27816 | BI16: 15000 | BJ16: -34.39003 | BK16: -39.64287 | BL16: 33000 | BM16: 7.095694 | BN16: -9.075824 | BO16: 33000 | BP16: 16.65453 | BQ16: -38.60745 | BS16: =Input!AW11 -> 15500 | BT16: =Input!AX11 -> -17.313938 | BU16: =Input!AY11 -> -11.997657 | BV16: =Input!AZ11 -> -10.188695 | BW16: =Input!BB11 -> 15500 | BX16: =Input!BC11 -> -38.987112 | BY16: =Input!BD11 -> -31.278405 | BZ16: =Input!BE11 -> -38.432046 | CA16: =Input!CA11 -> 34500 | CB16: =Input!CB11 -> 10.976999 | CC16: =Input!CC11 -> 8.7558443 | CD16: =Input!CD11 -> -8.5142252 | CE16: =Input!CF11 -> 34500 | CF16: =Input!CG11 -> 25.921432 | CG16: =Input!CH11 -> 20.992927 | CH16: =Input!CI11 -> -38.33528 | CJ16: 14850 | CK16: -11.17649 | CL16: -2.949154 | CM16: 14850 | CN16: -26.36146 | CO16: -11.50035 | CQ16: 21000 | CR16: -8.353502 | CS16: -10.23331 | CT16: 21000 | CU16: -18.3337 | CV16: -43.9411 | CW16: 39000 | CX16: 13.78049 | CY16: -4.782681 | CZ16: 39000 | DA16: 38.85794 | DB16: -17.73192 | DD16: =Input!BG11 -> 21500 | DE16: =Input!BH11 -> -7.4641038 | DF16: =Input!BI11 -> -10.750654 | DG16: =Input!BK11 -> 21500 | DH16: =Input!BL11 -> -15.512853 | DI16: =Input!BM11 -> -46.213131 | DJ16: =Input!CK11 -> 40500 | DK16: =Input!CL11 -> 11.662625 | DL16: =Input!CM11 -> -1.2189615 | DM16: =Input!CO11 -> 40500 | DN16: =Input!CP11 -> 25.440639 | DO16: =Input!CQ11 -> -1.9658154 | DP16: 40500
A17: 187500 | B17: -47.89515 | E17: 3150 | F17: -6.741516 | H17: -0.581048 | J17: 3150 | K17: -3.950795 | M17: -6.126617 | P17: 10000 | Q17: -20.57668 | R17: -10.07174 | S17: 10000 | T17: -33.97203 | U17: -22.58014 | V17: 30000 | W17: 0.413979 | X17: -23.20249 | Y17: 30000 | Z17: 0.612635 | AA17: -22.91006 | AB17: =V17/5 -> 6000 | AC17: =Input!AL12 -> 10500 | AD17: =Input!AM12 -> -21.776901 | AE17: =Input!AN12 -> -20.448176 | AF17: =Input!AO12 -> -15.835571 | AG17: =Input!AP12 -> -4.7142904 | AH17: =Input!AR12 -> 10500 | AI17: =Input!AS12 -> -20.027319 | AJ17: =Input!AT12 -> -49.076092 | AK17: =Input!AU12 -> -21.345379 | AL17: =Input!BP12 -> 31500 | AM17: =Input!BQ12 -> 3.7053475 | AN17: =Input!BR12 -> 4.0123273 | AO17: =Input!BS12 -> -42.605978 | AP17: =Input!BT12 -> -7.7408925 | AQ17: =Input!BV12 -> 31500 | AR17: =Input!BW12 -> 1.5619389 | AS17: =Input!BX12 -> 7.1523716 | AT17: =Input!BY12 -> -26.330425 | AV17: 9150 | AW17: -15.30776 | AY17: -4.551167 | BA17: 9150 | BB17: -31.63508 | BD17: -20.06879 | BF17: 16000 | BG17: -14.63333 | BH17: -9.327735 | BI17: 16000 | BJ17: -34.60101 | BK17: -36.42909 | BL17: 36000 | BM17: 11.89925 | BN17: -10.88384 | BO17: 36000 | BP17: 28.1219 | BQ17: -45.02694 | BS17: =Input!AW12 -> 16500 | BT17: =Input!AX12 -> -17.385681 | BU17: =Input!AY12 -> -12.101796 | BV17: =Input!AZ12 -> -9.1104822 | BW17: =Input!BB12 -> 16500 | BX17: =Input!BC12 -> -38.748278 | BY17: =Input!BD12 -> -30.903208 | BZ17: =Input!BE12 -> -35.22323 | CA17: =Input!CA12 -> 37500 | CB17: =Input!CB12 -> 15.573363 | CC17: =Input!CC12 -> 12.060192 | CD17: =Input!CD12 -> -10.272215 | CE17: =Input!CF12 -> 37500 | CF17: =Input!CG12 -> 37.513124 | CG17: =Input!CH12 -> 30.093957 | CH17: =Input!CI12 -> -44.061553 | CJ17: 15150 | CK17: -11.47764 | CL17: -3.444209 | CM17: 15150 | CN17: -26.93899 | CO17: -13.81858 | CQ17: 22000 | CR17: -7.314766 | CS17: -11.13558 | CT17: 22000 | CU17: -15.78618 | CV17: -47.61346 | CW17: 42000 | CX17: 13.29323 | CY17: -4.091665 | CZ17: 42000 | DA17: 39.13891 | DB17: -10.08205 | DD17: =Input!BG12 -> 22500 | DE17: =Input!BH12 -> -6.4630514 | DF17: =Input!BI12 -> -11.592104 | DG17: =Input!BK12 -> 22500 | DH17: =Input!BL12 -> -13.200818 | DI17: =Input!BM12 -> -49.644115 | DJ17: =Input!CK12 -> 0 | DK17: =Input!CL12 -> 0 | DL17: =Input!CM12 -> 0 | DM17: 210000 | DN17: =Input!CP12 -> 0 | DO17: =Input!CQ12 -> 0
A18: 202500 | B18: -52.25789 | E18: 3450 | F18: -7.359887 | H18: -1.0966 | J18: 3450 | K18: -4.577424 | M18: -7.44052 | P18: 11000 | Q18: -21.39944 | R18: -11.08713 | S18: 11000 | T18: -34.0888 | U18: -22.44695 | V18: 33000 | W18: 6.396011 | X18: -24.98979 | Y18: 33000 | Z18: 8.197287 | AA18: -26.18508 | AB18: =V18/5 -> 6600 | AC18: =Input!AL13 -> 11500 | AD18: =Input!AM13 -> -22.273968 | AE18: =Input!AN13 -> -20.483556 | AF18: =Input!AO13 -> -17.108346 | AG18: =Input!AP13 -> -5.9501871 | AH18: =Input!AR13 -> 11500 | AI18: =Input!AS13 -> -19.049203 | AJ18: =Input!AT13 -> -47.603108 | AK18: =Input!AU13 -> -20.628728 | AL18: =Input!BP13 -> 34500 | AM18: =Input!BQ13 -> 9.8333211 | AN18: =Input!BR13 -> 9.0358502 | AO18: =Input!BS13 -> -45.212271 | AP18: =Input!BT13 -> -8.1145921 | AQ18: =Input!BV13 -> 34500 | AR18: =Input!BW13 -> 4.6918342 | AS18: =Input!BX13 -> 17.432248 | AT18: =Input!BY13 -> -30.063964 | AV18: 9450 | AW18: -15.71834 | AY18: -5.178859 | BA18: 9450 | BB18: -32.57013 | BD18: -23.46884 | BF18: 17000 | BG18: -14.52713 | BH18: -8.669291 | BI18: 17000 | BJ18: -33.97099 | BK18: -34.38353 | BL18: 39000 | BM18: 14.40686 | BN18: -14.50404 | BO18: 39000 | BP18: 34.72202 | BQ18: -58.53231 | BS18: =Input!AW13 -> 17500 | BT18: =Input!AX13 -> -16.998212 | BU18: =Input!AY13 -> -11.83746 | BV18: =Input!AZ13 -> -8.3701265 | BW18: =Input!BB13 -> 17500 | BX18: =Input!BC13 -> -37.578623 | BY18: =Input!BD13 -> -29.784181 | BZ18: =Input!BE13 -> -33.224762 | CA18: =Input!CA13 -> 40500 | CB18: =Input!CB13 -> 14.33253 | CC18: =Input!CC13 -> 12.523474 | CD18: =Input!CD13 -> -14.142349 | CE18: =Input!CF13 -> 40500 | CF18: =Input!CG13 -> 40.3592 | CG18: =Input!CH13 -> 27.795737 | CH18: =Input!CI13 -> -54.84325 | CJ18: 15450 | CK18: -11.66779 | CL18: -3.927401 | CM18: 15450 | CN18: -27.21667 | CO18: -16.09563 | CQ18: 23000 | CR18: -6.248003 | CS18: -11.90828 | CT18: 23000 | CU18: -13.26891 | CV18: -50.75183 | DD18: =Input!BG13 -> 23500 | DE18: =Input!BH13 -> -5.4370797 | DF18: =Input!BI13 -> -12.300473 | DG18: =Input!BK13 -> 23500 | DH18: =Input!BL13 -> -10.912108 | DI18: =Input!BM13 -> -52.533046
A19: 217500 | B19: -80.03487 | E19: 3750 | F19: -7.976679 | H19: -1.726797 | J19: 3750 | K19: -5.244881 | M19: -8.936961 | P19: 12000 | Q19: -20.92649 | R19: -12.17677 | S19: 12000 | T19: -30.77174 | U19: -22.4749 | V19: 36000 | W19: 11.34307 | X19: -27.05352 | Y19: 36000 | Z19: 13.30358 | AA19: -31.14818 | AB19: =V19/5 -> 7200 | AC19: =Input!AL14 -> 12500 | AD19: =Input!AM14 -> -21.608602 | AE19: =Input!AN14 -> -18.724572 | AF19: =Input!AO14 -> -18.674287 | AG19: =Input!AP14 -> -7.4258512 | AH19: =Input!AR14 -> 12500 | AI19: =Input!AS14 -> -15.341373 | AJ19: =Input!AT14 -> -41.474227 | AK19: =Input!AU14 -> -20.648032 | AL19: =Input!BP14 -> 37500 | AM19: =Input!BQ14 -> 14.711242 | AN19: =Input!BR14 -> 12.219299 | AO19: =Input!BS14 -> -47.574054 | AP19: =Input!BT14 -> -8.7150258 | AQ19: =Input!BV14 -> 37500 | AR19: =Input!BW14 -> 5.2847045 | AS19: =Input!BX14 -> 23.058032 | AT19: =Input!BY14 -> -34.879353 | AV19: 9750 | AW19: -16.10421 | AY19: -5.820543 | BA19: 9750 | BB19: -33.45591 | BD19: -26.97308 | BF19: 18000 | BG19: -14.05864 | BH19: -8.210017 | BI19: 18000 | BJ19: -32.58982 | BK19: -33.10689 | BL19: 42000 | BM19: 19.87113 | BN19: -15.86196 | BO19: 42000 | BP19: 49.65806 | BQ19: -67.20586 | BS19: =Input!AW14 -> 18500 | BT19: =Input!AX14 -> -16.269566 | BU19: =Input!AY14 -> -11.29903 | BV19: =Input!AZ14 -> -7.8727877 | BW19: =Input!BB14 -> 18500 | BX19: =Input!BC14 -> -35.695484 | BY19: =Input!BD14 -> -28.126147 | BZ19: =Input!BE14 -> -32.062736 | CA19: =Input!CA14 -> 43500 | CB19: =Input!CB14 -> 34.833896 | CC19: =Input!CC14 -> 0 | CD19: =Input!CD14 -> -16.604504 | CE19: =Input!CF14 -> 43500 | CF19: =Input!CG14 -> 97.256279 | CG19: =Input!CH14 -> 0 | CH19: =Input!CI14 -> -83.663536 | CJ19: 15750 | CK19: -11.76746 | CL19: -4.398641 | CM19: 15750 | CN19: -27.25585 | CO19: -18.3178 | CQ19: 24000 | CR19: -5.154743 | CS19: -12.54881 | CT19: 24000 | CU19: -10.76188 | CV19: -53.35817 | DD19: =Input!BG14 -> 24500 | DE19: =Input!BH14 -> -4.3852344 | DF19: =Input!BI14 -> -12.873637 | DG19: =Input!BK14 -> 24500 | DH19: =Input!BL14 -> -8.6241197 | DI19: =Input!BM14 -> -54.880638
A20: 232500 | B20: -43.12202 | E20: 4050 | F20: -8.596107 | H20: -2.490267 | J20: 4050 | K20: -5.971079 | M20: -10.65528 | P20: 13000 | Q20: -19.67726 | R20: -12.96923 | S20: 13000 | T20: -25.85232 | U20: -22.13663 | V20: 39000 | W20: 15.53171 | X20: -29.40905 | Y20: 39000 | Z20: 17.56351 | AA20: -37.41757 | AB20: =V20/5 -> 7800 | AC20: =Input!AL15 -> 13500 | AD20: =Input!AM15 -> -20.678671 | AE20: =Input!AN15 -> -16.688366 | AF20: =Input!AO15 -> -20.199578 | AG20: =Input!AP15 -> -7.711 | AH20: =Input!AR15 -> 13500 | AI20: =Input!AS15 -> -11.746018 | AJ20: =Input!AT15 -> -35.281912 | AK20: =Input!AU15 -> -21.171188 | AL20: =Input!BP15 -> 40500 | AM20: =Input!BQ15 -> 19.768552 | AN20: =Input!BR15 -> 18.659524 | AO20: =Input!BS15 -> -50.241473 | AP20: =Input!BT15 -> -10.883702 | AQ20: =Input!BV15 -> 40500 | AR20: =Input!BW15 -> 10.709703 | AS20: =Input!BX15 -> 38.495035 | AT20: =Input!BY15 -> -38.217959 | AV20: 10050 | AW20: -16.49206 | AY20: -6.48763 | BA20: 10050 | BB20: -34.37821 | BD20: -30.66507 | BF20: 19000 | BG20: -13.32399 | BH20: -7.90199 | BI20: 19000 | BJ20: -30.65837 | BK20: -32.38896 | BL20: 45000 | BM20: 26.1606 | BN20: -10.52844 | BO20: 45000 | BP20: 67.80206 | BQ20: -43.51641 | BS20: =Input!AW15 -> 19500 | BT20: =Input!AX15 -> -15.290748 | BU20: =Input!AY15 -> -10.565185 | BV20: =Input!AZ15 -> -7.5546046 | BW20: =Input!BB15 -> 19500 | BX20: =Input!BC15 -> -33.295565 | BY20: =Input!BD15 -> -26.094124 | BZ20: =Input!BE15 -> -31.493894 | CA20: =Input!CA15 -> 46500 | CB20: =Input!CB15 -> 20.599427 | CC20: =Input!CC15 -> 0 | CD20: =Input!CD15 -> -2.8196518 | CE20: =Input!CF15 -> 46500 | CF20: =Input!CG15 -> 43.2597 | CG20: =Input!CH15 -> 0 | CH20: =Input!CI15 -> -7.6546599 | CJ20: 16050 | CK20: -11.79368 | CL20: -4.857281 | CM20: 16050 | CN20: -27.10751 | CO20: -20.47881 | CQ20: 25000 | CR20: -4.032324 | CS20: -13.05482 | CT20: 25000 | CU20: -8.23856 | CV20: -55.42966 | DD20: =Input!BG15 -> 25500 | DE20: =Input!BH15 -> -3.3031215 | DF20: =Input!BI15 -> -13.309176 | DG20: =Input!BK15 -> 25500 | DH20: =Input!BL15 -> -6.3096211 | DI20: =Input!BM15 -> -56.681908
A21: 217500 | B21: -32.59137 | E21: 4350 | F21: -9.228697 | H21: -3.421919 | J21: 4350 | K21: -6.793281 | M21: -12.66107 | P21: 14000 | Q21: -18.57191 | R21: -13.39999 | S21: 14000 | T21: -22.19271 | U21: -21.35402 | V21: 42000 | W21: 22.1836 | X21: -31.70396 | Y21: 42000 | Z21: 32.93515 | AA21: -45.19307 | AB21: =V21/5 -> 8400 | AC21: =Input!AL16 -> 14500 | AD21: =Input!AM16 -> -20.161087 | AE21: =Input!AN16 -> -15.722136 | AF21: =Input!AO16 -> -21.544585 | AG21: =Input!AP16 -> -6.9617152 | AH21: =Input!AR16 -> 14500 | AI21: =Input!AS16 -> -10.317577 | AJ21: =Input!AT16 -> -32.596869 | AK21: =Input!AU16 -> -21.367585 | AL21: =Input!BP16 -> 43500 | AM21: =Input!BQ16 -> 25.673673 | AN21: =Input!BR16 -> 25.299553 | AO21: =Input!BS16 -> -53.130706 | AP21: =Input!BT16 -> -16.636473 | AQ21: =Input!BV16 -> 43500 | AR21: =Input!BW16 -> 22.254153 | AS21: =Input!BX16 -> 61.243384 | AT21: =Input!BY16 -> -50.388668 | AV21: 10350 | AW21: -16.9491 | AY21: -7.230789 | BA21: 10350 | BB21: -35.4714 | BD21: -34.67826 | BF21: 20000 | BG21: -12.39582 | BH21: -7.71088 | BI21: 20000 | BJ21: -28.33546 | BK21: -32.08905 | BL21: 48000 | BM21: 22.23206 | BN21: -7.269218 | BO21: 48000 | BP21: 58.75647 | BQ21: -20.11284 | BS21: =Input!AW16 -> 20500 | BT21: =Input!AX16 -> -14.123163 | BU21: =Input!AY16 -> -9.6923953 | BV21: =Input!AZ16 -> -7.368183 | BW21: =Input!BB16 -> 20500 | BX21: =Input!BC16 -> -30.519855 | BY21: =Input!BD16 -> -23.801462 | BZ21: =Input!BE16 -> -31.34391 | CJ21: 16350 | CK21: -11.7601 | CL21: -5.304619 | CM21: 16350 | CN21: -26.81318 | CO21: -22.57627 | CQ21: 26000 | CR21: -2.875588 | CS21: -13.42335 | CT21: 26000 | CU21: -5.668862 | CV21: -56.95792 | DD21: =Input!BG16 -> 26500 | DE21: =Input!BH16 -> -2.1857663 | DF21: =Input!BI16 -> -13.603791 | DG21: =Input!BK16 -> 26500 | DH21: =Input!BL16 -> -3.9394258 | DI21: =Input!BM16 -> -57.925362
A22: 232500 | B22: -37.41198 | E22: 4650 | F22: -9.895048 | H22: -4.584252 | J22: 4650 | K22: -7.77644 | M22: -15.09502 | P22: 15000 | Q22: -18.0954 | R22: -13.67989 | S22: 15000 | T22: -21.04173 | U22: -20.47035 | V22: 45000 | W22: 24.74502 | X22: -34.74096 | Y22: 45000 | Z22: 41.24 | AA22: -59.71283 | AB22: =V22/5 -> 9000 | AC22: =Input!AL17 -> 15500 | AD22: =Input!AM17 -> -19.912156 | AE22: =Input!AN17 -> -15.553024 | AF22: =Input!AO17 -> -22.776312 | AG22: =Input!AP17 -> -6.1139503 | AH22: =Input!AR17 -> 15500 | AI22: =Input!AS17 -> -10.280031 | AJ22: =Input!AT17 -> -32.287202 | AK22: =Input!AU17 -> -21.15986 | AL22: =Input!BP17 -> 46500 | AM22: =Input!BQ17 -> 17.119988 | AN22: =Input!BR17 -> 29.553258 | AO22: =Input!BS17 -> -59.017877 | AP22: =Input!BT17 -> -13.862079 | AQ22: =Input!BV17 -> 46500 | AR22: =Input!BW17 -> 12.417273 | AS22: =Input!BX17 -> 63.102892 | AT22: =Input!BY17 -> -62.537733 | AV22: 10650 | AW22: -17.50231 | AY22: -8.120186 | BA22: 10650 | BB22: -36.89082 | BD22: -39.30428 | BF22: 21000 | BG22: -11.32255 | BH22: -7.610313 | BI22: 21000 | BJ22: -25.72735 | BK22: -32.097 | BS22: =Input!AW17 -> 21500 | BT22: =Input!AX17 -> -12.806443 | BU22: =Input!AY17 -> -8.7179595 | BV22: =Input!AZ17 -> -7.277513 | BW22: =Input!BB17 -> 21500 | BX22: =Input!BC17 -> -27.460334 | BY22: =Input!BD17 -> -21.319432 | BZ22: =Input!BE17 -> -31.481572 | CJ22: 16650 | CK22: -11.67775 | CL22: -5.740791 | CM22: 16650 | CN22: -26.40601 | CO22: -24.6103 | CQ22: 27000 | CR22: -1.677966 | CS22: -13.65042 | CT22: 27000 | CU22: -3.02056 | CV22: -57.92861 | DD22: =Input!BG17 -> 27500 | DE22: =Input!BH17 -> -1.0256376 | DF22: =Input!BI17 -> -13.752912 | DG22: =Input!BK17 -> 27500 | DH22: =Input!BL17 -> -1.482989 | DI22: =Input!BM17 -> -58.593485
A23: 247500 | B23: -38.03747 | E23: 4950 | F23: -10.64403 | H23: -6.091734 | J23: 4950 | K23: -9.064013 | M23: -18.17325 | P23: 16000 | Q23: -17.99446 | R23: -14.02484 | S23: 16000 | T23: -21.36667 | U23: -19.75132 | V23: 48000 | W23: 24.29177 | X23: -40.098 | Y23: 48000 | Z23: 35.22572 | AA23: -69.52901 | AB23: =V23/5 -> 9600 | AC23: =Input!AL18 -> 16500 | AD23: =Input!AM18 -> -19.686522 | AE23: =Input!AN18 -> -15.634028 | AF23: =Input!AO18 -> -23.993205 | AG23: =Input!AP18 -> -5.5230116 | AH23: =Input!AR18 -> 16500 | AI23: =Input!AS18 -> -10.722725 | AJ23: =Input!AT18 -> -32.772452 | AK23: =Input!AU18 -> -20.767972 | AL23: =Input!BP18 -> 49500 | AM23: =Input!BQ18 -> 24.054025 | AN23: =Input!BR18 -> 0 | AO23: =Input!BS18 -> -50.696243 | AQ23: =Input!BV18 -> 49500 | AR23: =Input!BW18 -> 38.7034 | AS23: =Input!BX18 -> 0 | AT23: =Input!BY18 -> -83.599401 | AV23: 10950 | AW23: -18.32685 | AY23: -9.238738 | BA23: 10950 | BB23: -39.00858 | BD23: -44.94369 | BF23: 22000 | BG23: -10.13488 | BH23: -7.578393 | BI23: 22000 | BJ23: -22.89911 | BK23: -32.32333 | BS23: =Input!AW18 -> 22500 | BT23: =Input!AX18 -> -11.36557 | BU23: =Input!AY18 -> -7.66476 | BV23: =Input!AZ18 -> -7.2548105 | BW23: =Input!BB18 -> 22500 | BX23: =Input!BC18 -> -24.172542 | BY23: =Input!BD18 -> -18.688373 | BZ23: =Input!BE18 -> -31.807842 | CJ23: 16950 | CK23: -11.55543 | CL23: -6.166922 | CM23: 16950 | CN23: -25.91235 | CO23: -26.58185 | CQ23: 28000 | CR23: -0.432205 | CS23: -13.7308 | CT23: 28000 | CU23: -0.259952 | CV23: -58.32115 | DD23: =Input!BG18 -> 28500 | DE23: =Input!BH18 -> 0.1830513 | DF23: =Input!BI18 -> -13.750165 | DG23: =Input!BK18 -> 28500 | DH23: =Input!BL18 -> 1.0918702 | DI23: =Input!BM18 -> -58.662115
A24: 262500 | B24: -19.63783 | E24: 5250 | F24: -11.6326 | H24: -8.239306 | J24: 5250 | K24: -11.10567 | M24: -22.60139 | P24: 17000 | Q24: -17.87533 | R24: -14.49441 | S24: 17000 | T24: -21.88533 | U24: -19.20038 | V24: 51000 | W24: 23.09763 | X24: -34.92289 | Y24: 51000 | Z24: 25.31099 | AA24: -50.64484 | AB24: =V24/5 -> 10200 | AC24: =Input!AL19 -> 17500 | AD24: =Input!AM19 -> -19.330329 | AE24: =Input!AN19 -> -15.611797 | AF24: =Input!AO19 -> -25.238346 | AG24: =Input!AP19 -> -5.1999932 | AH24: =Input!AR19 -> 17500 | AI24: =Input!AS19 -> -11.136512 | AJ24: =Input!AT19 -> -33.098076 | AK24: =Input!AU19 -> -20.377357 | AL24: =Input!BP19 -> 52500 | AM24: =Input!BQ19 -> 12.279105 | AN24: =Input!BR19 -> 0 | AO24: =Input!BS19 -> -23.401339 | AQ24: =Input!BV19 -> 52500 | AR24: =Input!BW19 -> 8.8652864 | AS24: =Input!BX19 -> 0 | AT24: =Input!BY19 -> -32.569825 | AV24: 11250 | AW24: -19.64994 | AY24: -11.05902 | BA24: 11250 | BB24: -42.79736 | BD24: -53.05657 | BF24: 23000 | BG24: -8.852148 | BH24: -7.596982 | BI24: 23000 | BJ24: -19.88873 | BK24: -32.69575 | BS24: =Input!AW19 -> 23500 | BT24: =Input!AX19 -> -9.8172336 | BU24: =Input!AY19 -> -6.5462992 | BV24: =Input!AZ19 -> -7.2790135 | BW24: =Input!BB19 -> 23500 | BX24: =Input!BC19 -> -20.688661 | BY24: =Input!BD19 -> -15.92891 | BZ24: =Input!BE19 -> -32.247931 | CJ24: 17250 | CK24: -11.40024 | CL24: -6.583119 | CM24: 17250 | CN24: -25.3529 | CO24: -28.49251 | CQ24: 29000 | CR24: 0.869024 | CS24: -13.65793 | CT24: 29000 | CU24: 2.647749 | CV24: -58.10847 | DD24: =Input!BG19 -> 29500 | DE24: =Input!BH19 -> 1.447825 | DF24: =Input!BI19 -> -13.588626 | DG24: =Input!BK19 -> 29500 | DH24: =Input!BL19 -> 3.8174438 | DI24: =Input!BM19 -> -58.099962
A25: 277500 | B25: -8.828671 | E25: 5550 | F25: -13.21539 | H25: -11.65749 | J25: 5550 | K25: -14.77378 | M25: -29.62563 | P25: 18000 | Q25: -17.57009 | R25: -15.07067 | S25: 18000 | T25: -22.09946 | U25: -18.80164 | V25: 54000 | W25: 15.2478 | X25: -15.17502 | Y25: 54000 | Z25: 15.05786 | AA25: -23.00771 | AB25: =V25/5 -> 10800 | AC25: =Input!AL20 -> 18500 | AD25: =Input!AM20 -> -18.77288 | AE25: =Input!AN20 -> -15.349638 | AF25: =Input!AO20 -> -26.524583 | AG25: =Input!AP20 -> -5.0776875 | AH25: =Input!AR20 -> 18500 | AI25: =Input!AS20 -> -11.331941 | AJ25: =Input!AT20 -> -32.893441 | AK25: =Input!AU20 -> -20.084173 | AL25: =Input!BP20 -> 55500 | AM25: =Input!BQ20 -> 7.7652184 | AN25: =Input!BR20 -> 0 | AO25: =Input!BS20 -> -5.9538745 | AQ25: =Input!BV20 -> 55500 | AR25: =Input!BW20 -> 6.5520411 | AS25: =Input!BX20 -> 0 | AT25: =Input!BY20 -> -12.48311 | AV25: 11550 | AW25: -22.13036 | AY25: -13.80008 | BA25: 11550 | BB25: -50.12368 | BD25: -65.78896 | BF25: 24000 | BG25: -7.486691 | BH25: -7.651478 | BI25: 24000 | BJ25: -16.71741 | BK25: -33.15759 | BS25: =Input!AW20 -> 24500 | BT25: =Input!AX20 -> -8.1732301 | BU25: =Input!AY20 -> -5.3705339 | BV25: =Input!AZ20 -> -7.3344437 | BW25: =Input!BB20 -> 24500 | BX25: =Input!BC20 -> -17.027072 | BY25: =Input!BD20 -> -13.050216 | BZ25: =Input!BE20 -> -32.747051 | CJ25: 17550 | CK25: -11.21792 | CL25: -6.990029 | CM25: 17550 | CN25: -24.74399 | CO25: -30.34374 | CQ25: 30000 | CR25: 2.23244 | CS25: -13.42399 | CT25: 30000 | CU25: 5.737874 | CV25: -57.25683 | DD25: =Input!BG20 -> 30500 | DE25: =Input!BH20 -> 2.7739366 | DF25: =Input!BI20 -> -13.259176 | DG25: =Input!BK20 -> 30500 | DH25: =Input!BL20 -> 6.7269666 | DI25: =Input!BM20 -> -56.868277
A26: 292500 | B26: -2.131377 | E26: 5850 | F26: -20.81399 | H26: -18.88551 | J26: 5850 | K26: -35.22359 | M26: -45.00299 | P26: 19000 | Q26: -17.02514 | R26: -15.72658 | S26: 19000 | T26: -21.86722 | U26: -18.55407 | V26: 57000 | W26: 7.562633 | X26: -4.30123 | Y26: 57000 | Z26: 7.379157 | AA26: -8.674946 | AB26: =V26/5 -> 11400 | AC26: =Input!AL21 -> 19500 | AD26: =Input!AM21 -> -17.988769 | AE26: =Input!AN21 -> -14.81684 | AF26: =Input!AO21 -> -27.849299 | AG26: =Input!AP21 -> -5.0922516 | AH26: =Input!AR21 -> 19500 | AI26: =Input!AS21 -> -11.259041 | AJ26: =Input!AT21 -> -32.062455 | AK26: =Input!AU21 -> -19.926227 | AL26: =Input!BP21 -> 58500 | AM26: =Input!BQ21 -> 1.7754898 | AN26: =Input!BR21 -> 0 | AO26: =Input!BS21 -> 0.49964792 | AQ26: =Input!BV21 -> 58500 | AR26: =Input!BW21 -> -0.26349441 | AS26: =Input!BX21 -> 0 | AT26: =Input!BY21 -> -2.9968901 | AV26: 11850 | AW26: -35.92764 | AY26: -20.16279 | BA26: 11850 | BB26: -94.67204 | BD26: -93.78855 | BF26: 25000 | BG26: -6.046691 | BH26: -7.730794 | BI26: 25000 | BJ26: -13.39628 | BK26: -33.66658 | BS26: =Input!AW21 -> 25500 | BT26: =Input!AX21 -> -6.4415297 | BU26: =Input!AY21 -> -4.1409193 | BV26: =Input!AZ21 -> -7.4105052 | BW26: =Input!BB21 -> 25500 | BX26: =Input!BC21 -> -13.197243 | BY26: =Input!BD21 -> -10.054021 | BZ26: =Input!BE21 -> -33.26708 | CJ26: 17850 | CK26: -11.0131 | CL26: -7.387588 | CM26: 17850 | CN26: -24.09838 | CO26: -32.13706 | CQ26: 31000 | CR26: 3.663121 | CS26: -13.02022 | CT26: 31000 | CU26: 9.045067 | CV26: -55.72571 | DD26: =Input!BG21 -> 31500 | DE26: =Input!BH21 -> 4.1655834 | DF26: =Input!BI21 -> -12.752308 | DG26: =Input!BK21 -> 31500 | DH26: =Input!BL21 -> 9.8525129 | DI26: =Input!BM21 -> -54.922615
E27: 6150 | F27: -15.99162 | G27: -14.35048 | H27: -20.1666 | I27: -11.54603 | J27: 6150 | K27: -14.91645 | L27: -51.48193 | M27: -42.71414 | N27: -45.39998 | P27: 20000 | Q27: -16.23346 | R27: -16.43871 | S27: 20000 | T27: -21.17763 | U27: -18.45221 | V27: 60000 | W27: 3.498382 | X27: -1.152337 | Y27: 60000 | Z27: 3.333001 | AA27: -3.585489 | AB27: =V27/5 -> 12000 | AC27: =Input!AL22 -> 20500 | AD27: =Input!AM22 -> -16.975333 | AE27: =Input!AN22 -> -14.026068 | AF27: =Input!AO22 -> -29.203449 | AG27: =Input!AP22 -> -5.195918 | AH27: =Input!AR22 -> 20500 | AI27: =Input!AS22 -> -10.925288 | AJ27: =Input!AT22 -> -30.623924 | AK27: =Input!AU22 -> -19.910216 | AV27: 12150 | AW27: -17.64072 | AX27: -18.1612 | AY27: -19.90154 | AZ27: -16.13034 | BA27: 12150 | BB27: -38.87019 | BC27: -62.13101 | BD27: -82.85519 | BE27: -60.93902 | BF27: 26000 | BG27: -4.537966 | BH27: -7.827348 | BI27: 26000 | BJ27: -9.930622 | BK27: -34.19386 | BS27: =Input!AW22 -> 26500 | BT27: =Input!AX22 -> -4.6301725 | BU27: =Input!AY22 -> -2.859703 | BV27: =Input!AZ22 -> -7.4999938 | BW27: =Input!BB22 -> 26500 | BX27: =Input!BC22 -> -9.2045028 | BY27: =Input!BD22 -> -6.9388255 | BZ27: =Input!BE22 -> -33.783925 | CJ27: 18150 | CK27: -10.78961 | CL27: -7.77605 | CM27: 18150 | CN27: -23.42608 | CO27: -33.87372 | CQ27: 32000 | CR27: 5.162888 | CS27: -12.43749 | CT27: 32000 | CU27: 12.60076 | CV27: -53.46797 | DD27: =Input!BG22 -> 32500 | DE27: =Input!BH22 -> 5.6220536 | DF27: =Input!BI22 -> -12.058516 | DG27: =Input!BK22 -> 32500 | DH27: =Input!BL22 -> 13.221447 | DI27: =Input!BM22 -> -52.209462
E28: 6450 | F28: -13.14766 | G28: -14.09939 | H28: -19.18676 | I28: -10.87054 | J28: 6450 | K28: -8.73982 | L28: -43.37815 | M28: -38.13233 | N28: -42.78989 | P28: 21000 | Q28: -15.20845 | R28: -17.18719 | S28: 21000 | T28: -20.06972 | U28: -18.48511 | AC28: =Input!AL23 -> 21500 | AD28: =Input!AM23 -> -15.74332 | AE28: =Input!AN23 -> -13.003916 | AF28: =Input!AO23 -> -30.573691 | AG28: =Input!AP23 -> -5.3549286 | AH28: =Input!AR23 -> 21500 | AI28: =Input!AS23 -> -10.357116 | AJ28: =Input!AT23 -> -28.636353 | AK28: =Input!AU23 -> -20.028803 | AV28: 12450 | AW28: -13.53179 | AX28: -14.10065 | AY28: -17.72463 | AZ28: -15.30783 | BA28: 12450 | BB28: -29.42854 | BC28: -47.9994 | BD28: -71.66581 | BE28: -58.50458 | BF28: 27000 | BG28: -2.965138 | BH28: -7.937069 | BI28: 27000 | BJ28: -6.322638 | BK28: -34.72353 | BS28: =Input!AW23 -> 27500 | BT28: =Input!AX23 -> -2.7455851 | BU28: =Input!AY23 -> -1.5274979 | BV28: =Input!AZ23 -> -7.6003816 | BW28: =Input!BB23 -> 27500 | BX28: =Input!BC23 -> -5.0509797 | BY28: =Input!BD23 -> -3.7002833 | BZ28: =Input!BE23 -> -34.287876 | CJ28: 18450 | CK28: -10.55057 | CL28: -8.155229 | CM28: 18450 | CN28: -22.73489 | CO28: -35.55489 | CQ28: 33000 | CR28: 6.727692 | CS28: -11.66744 | CT28: 33000 | CU28: 16.4283 | CV28: -50.43071 | DD28: =Input!BG23 -> 33500 | DE28: =Input!BH23 -> 7.1374072 | DF28: =Input!BI23 -> -11.169231 | DG28: =Input!BK23 -> 33500 | DH28: =Input!BL23 -> 16.849265 | DI28: =Input!BM23 -> -48.669
E29: 6750 | F29: -14.23752 | G29: -13.74308 | H29: -17.36026 | I29: -9.519952 | J29: 6750 | K29: -10.56535 | L29: -39.96814 | M29: -33.71469 | N29: -38.40993 | P29: 22000 | Q29: -13.97117 | R29: -17.95508 | S29: 22000 | T29: -18.59617 | U29: -18.63817 | AC29: =Input!AL24 -> 22500 | AD29: =Input!AM24 -> -14.309757 | AE29: =Input!AN24 -> -11.780151 | AF29: =Input!AO24 -> -31.944437 | AG29: =Input!AP24 -> -5.5455269 | AH29: =Input!AR24 -> 22500 | AI29: =Input!AS24 -> -9.5870252 | AJ29: =Input!AT24 -> -26.169758 | AK29: =Input!AU24 -> -20.266097 | AV29: 12750 | AW29: -14.34778 | AX29: -12.80326 | AY29: -15.91346 | AZ29: -14.06818 | BA29: 12750 | BB29: -32.22342 | BC29: -41.81823 | BD29: -62.96637 | BE29: -54.12066 | BF29: 28000 | BG29: -1.332461 | BH29: -8.059448 | BI29: 28000 | BJ29: -2.573311 | BK29: -35.25239 | BS29: =Input!AW24 -> 28500 | BT29: =Input!AX24 -> -0.79476026 | BU29: =Input!AY24 -> -0.14525884 | BV29: =Input!AZ24 -> -7.7122742 | BW29: =Input!BB24 -> 28500 | BX29: =Input!BC24 -> -0.73905563 | BY29: =Input!BD24 -> -0.33422488 | BZ29: =Input!BE24 -> -34.781107 | CJ29: 18750 | CK29: -10.29855 | CL29: -8.525141 | CM29: 18750 | CN29: -22.03088 | CO29: -37.18152 | CQ29: 34000 | CR29: 8.343497 | CS29: -10.70417 | CT29: 34000 | CU29: 20.53393 | CV29: -46.55684 | DD29: =Input!BG24 -> 34500 | DE29: =Input!BH24 -> 8.692518 | DF29: =Input!BI24 -> -10.079038 | DG29: =Input!BK24 -> 34500 | DH29: =Input!BL24 -> 20.732071 | DI29: =Input!BM24 -> -44.242062
E30: 7050 | F30: -14.97637 | G30: -14.11467 | H30: -16.18689 | I30: -8.275595 | J30: 7050 | K30: -11.43276 | L30: -39.47849 | M30: -30.79136 | N30: -34.74491 | P30: 23000 | Q30: -12.54522 | R30: -18.72789 | S30: 23000 | T30: -16.81022 | U30: -18.89569 | AC30: =Input!AL25 -> 23500 | AD30: =Input!AM25 -> -12.695396 | AE30: =Input!AN25 -> -10.383967 | AF30: =Input!AO25 -> -33.301187 | AG30: =Input!AP25 -> -5.751482 | AH30: =Input!AR25 -> 23500 | AI30: =Input!AS25 -> -8.6467249 | AJ30: =Input!AT25 -> -23.293176 | AK30: =Input!AU25 -> -20.60724 | AV30: 13050 | AW30: -14.64069 | AX30: -12.39728 | AY30: -14.54136 | AZ30: -12.98789 | BA30: 13050 | BB30: -32.85102 | BC30: -39.09285 | BD30: -57.10486 | BE30: -50.37863 | BF30: 29000 | BG30: 0.355471 | BH30: -8.19764 | BI30: 29000 | BJ30: 1.315992 | BK30: -35.79041 | BS30: =Input!AW25 -> 29500 | BT30: =Input!AX25 -> 1.214413 | BU30: =Input!AY25 -> 1.2852675 | BV30: =Input!AZ25 -> -7.8407295 | BW30: =Input!BB25 -> 29500 | BX30: =Input!BC25 -> 3.7273323 | BY30: =Input!BD25 -> 3.162411 | BZ30: =Input!BE25 -> -35.280402 | CJ30: 19050 | CK30: -10.03568 | CL30: -8.88555 | CM30: 19050 | CN30: -21.31873 | CO30: -38.75449 | CQ30: 35000 | CR30: 9.979559 | CS30: -9.547887 | CT30: 35000 | CU30: 24.88916 | CV30: -41.79157 | DD30: =Input!BG25 -> 35500 | DE30: =Input!BH25 -> 10.250401 | DF30: =Input!BI25 -> -8.7903571 | DG30: =Input!BK25 -> 35500 | DH30: =Input!BL25 -> 24.820113 | DI30: =Input!BM25 -> -38.870238
E31: 7350 | F31: -15.75582 | G31: -14.6292 | H31: -15.39523 | I31: -7.388884 | J31: 7350 | K31: -12.4599 | L31: -39.78104 | M31: -28.66811 | N31: -32.26122 | P31: 24000 | Q31: -10.95469 | R31: -19.49344 | S31: 24000 | T31: -14.76167 | U31: -19.24307 | AC31: =Input!AL26 -> 24500 | AD31: =Input!AM26 -> -10.920832 | AE31: =Input!AN26 -> -8.841405 | AF31: =Input!AO26 -> -34.627773 | AG31: =Input!AP26 -> -5.9612873 | AH31: =Input!AR26 -> 24500 | AI31: =Input!AS26 -> -7.5660097 | AJ31: =Input!AT26 -> -20.072018 | AK31: =Input!AU26 -> -21.036834 | AV31: 13350 | AW31: -15.06277 | AX31: -12.28148 | AY31: -13.53117 | AZ31: -12.28728 | BA31: 13350 | BB31: -33.74542 | BC31: -37.46184 | BD31: -52.85857 | BE31: -47.76897 | BF31: 30000 | BG31: 2.092936 | BH31: -8.358632 | BI31: 30000 | BJ31: 5.341726 | BK31: -36.36148 | BS31: =Input!AW26 -> 30500 | BT31: =Input!AX26 -> 3.2735917 | BU31: =Input!AY26 -> 2.7618152 | BV31: =Input!AZ26 -> -7.9942125 | BW31: =Input!BB26 -> 30500 | BX31: =Input!BC26 -> 8.3418169 | BY31: =Input!BD26 -> 6.7912408 | BZ31: =Input!BE26 -> -35.816052 | CJ31: 19350 | CK31: -9.763741 | CL31: -9.236356 | CM31: 19350 | CN31: -20.60203 | CO31: -40.27454 | CQ31: 36000 | CR31: 11.57663 | CS31: -8.208349 | CT31: 36000 | CU31: 29.39389 | CV31: -36.09003 | DD31: =Input!BG26 -> 36500 | DE31: =Input!BH26 -> 11.735068 | DF31: =Input!BI26 -> -7.3182418 | DG31: =Input!BK26 -> 36500 | DH31: =Input!BL26 -> 28.963797 | DI31: =Input!BM26 -> -32.521292
E32: 7650 | F32: -16.50445 | G32: -15.24104 | H32: -14.90908 | I32: -6.72599 | J32: 7650 | K32: -13.43163 | L32: -40.59121 | M32: -27.13247 | N32: -30.42109 | P32: 25000 | Q32: -9.22362 | R32: -20.24191 | S32: 25000 | T32: -12.49663 | U32: -19.66851 | AC32: =Input!AL27 -> 25500 | AD32: =Input!AM27 -> -9.0134379 | AE32: =Input!AN27 -> -7.1780139 | AF32: =Input!AO27 -> -35.914026 | AG32: =Input!AP27 -> -6.1678285 | AH32: =Input!AR27 -> 25500 | AI32: =Input!AS27 -> -6.373417 | AJ32: =Input!AT27 -> -16.568799 | AK32: =Input!AU27 -> -21.544947 | AV32: 13650 | AW32: -15.44499 | AX32: -12.3139 | AY32: -12.76075 | AZ32: -11.72616 | BA32: 13650 | BB32: -34.50257 | BC32: -36.49312 | BD32: -49.6764 | BE32: -45.70943 | BF32: 31000 | BG32: 3.872006 | BH32: -8.553458 | BI32: 31000 | BJ32: 9.495636 | BK32: -37.00481 | BS32: =Input!AW27 -> 31500 | BT32: =Input!AX27 -> 5.3699929 | BU32: =Input!AY27 -> 4.2773432 | BV32: =Input!AZ27 -> -8.185201 | BW32: =Input!BB27 -> 31500 | BX32: =Input!BC27 -> 13.08898 | BY32: =Input!BD27 -> 10.546412 | BZ32: =Input!BE27 -> -36.434014 | CJ32: 19650 | CK32: -9.484179 | CL32: -9.577316 | CM32: 19650 | CN32: -19.88351 | CO32: -41.74236 | CQ32: 37000 | CR32: 13.02171 | CS32: -6.720762 | CT32: 37000 | CU32: 33.78521 | CV32: -29.47236 | DD32: =Input!BG27 -> 37500 | DE32: =Input!BH27 -> 12.996105 | DF32: =Input!BI27 -> -5.7048352 | DG32: =Input!BK27 -> 37500 | DH32: =Input!BL27 -> 32.782899 | DI32: =Input!BM27 -> -25.240385
E33: 7950 | F33: -17.23405 | G33: -15.88847 | H33: -14.6361 | I33: -6.25052 | J33: 7950 | K33: -14.38459 | L33: -41.66493 | M33: -25.97942 | N33: -29.09056 | P33: 26000 | Q33: -7.375986 | R33: -20.96609 | S33: 26000 | T33: -10.05862 | U33: -20.16424 | AC33: =Input!AL28 -> 26500 | AD33: =Input!AM28 -> -6.9954901 | AE33: =Input!AN28 -> -5.41614 | AF33: =Input!AO28 -> -37.15026 | AG33: =Input!AP28 -> -6.3657765 | AH33: =Input!AR28 -> 26500 | AI33: =Input!AS28 -> -5.0964028 | AJ33: =Input!AT28 -> -12.844119 | AK33: =Input!AU28 -> -22.124824 | AV33: 13950 | AW33: -15.81182 | AX33: -12.41348 | AY33: -12.14735 | AZ33: -11.29905 | BA33: 13950 | BB33: -35.2202 | BC33: -35.8771 | BD33: -47.16966 | BE33: -44.0729 | BF33: 32000 | BG33: 5.680916 | BH33: -8.797432 | BI33: 32000 | BJ33: 13.76081 | BK33: -37.77669 | BS33: =Input!AW28 -> 32500 | BT33: =Input!AX28 -> 7.4883573 | BU33: =Input!AY28 -> 5.8212823 | BV33: =Input!AZ28 -> -8.4311729 | BW33: =Input!BB28 -> 32500 | BX33: =Input!BC28 -> 17.944261 | BY33: =Input!BD28 -> 14.415295 | BZ33: =Input!BE28 -> -37.198363 | CJ33: 19950 | CK33: -9.198209 | CL33: -9.908287 | CM33: 19950 | CN33: -19.1652 | CO33: -43.15854 | CQ33: 38000 | CR33: 14.08636 | CS33: -5.142291 | CT33: 38000 | CU33: 37.40667 | CV33: -22.0562 | DD33: =Input!BG28 -> 38500 | DE33: =Input!BH28 -> 13.70471 | DF33: =Input!BI28 -> -4.0424945 | DG33: =Input!BK28 -> 38500 | DH33: =Input!BL28 -> 35.327725 | DI33: =Input!BM28 -> -17.296108
E34: 8250 | F34: -17.94004 | G34: -16.54952 | H34: -14.52227 | I34: -5.921086 | J34: 8250 | K34: -15.30391 | L34: -42.89629 | M34: -25.09985 | N34: -28.12324 | P34: 27000 | Q34: -5.436033 | R34: -21.6616 | S34: 27000 | T34: -7.490047 | U34: -20.72739 | AC34: =Input!AL29 -> 27500 | AD34: =Input!AM29 -> -4.8924315 | AE34: =Input!AN29 -> -3.5786796 | AF34: =Input!AO29 -> -38.333018 | AG34: =Input!AP29 -> -6.5534844 | AH34: =Input!AR29 -> 27500 | AI34: =Input!AS29 -> -3.7627611 | AJ34: =Input!AT29 -> -8.9588537 | AK34: =Input!AU29 -> -22.775156 | AV34: 14250 | AW34: -16.14305 | AX34: -12.53776 | AY34: -11.64191 | AZ34: -10.93801 | BA34: 14250 | BB34: -35.86934 | BC34: -35.46381 | BD34: -45.12838 | BE34: -42.71276 | BF34: 33000 | BG34: 7.501493 | BH34: -9.110363 | BI34: 33000 | BJ34: 18.10537 | BK34: -38.75264 | BS34: =Input!AW29 -> 33500 | BT34: =Input!AX29 -> 9.603967 | BU34: =Input!AY29 -> 7.3728343 | BV34: =Input!AZ29 -> -8.7533967 | BW34: =Input!BB29 -> 33500 | BX34: =Input!BC29 -> 22.857995 | BY34: =Input!BD29 -> 18.363756 | BZ34: =Input!BE29 -> -38.192095 | CJ34: 20250 | CK34: -8.90682 | CL34: -10.22905 | CM34: 20250 | CN34: -18.44854 | CO34: -44.52366 | CQ34: 39000 | CR34: 14.25442 | CS34: -3.674753 | CT34: 39000 | CU34: 38.56089 | CV34: -14.59655 | DD34: =Input!BG29 -> 39500 | DE34: =Input!BH29 -> 13.086981 | DF34: =Input!BI29 -> -2.5288462 | DG34: =Input!BK29 -> 39500 | DH34: =Input!BL29 -> 34.194925 | DI34: =Input!BM29 -> -9.5526692
E35: 8550 | F35: -18.62043 | G35: -17.20938 | H35: -14.52935 | I35: -5.711506 | J35: 8550 | K35: -16.18397 | L35: -44.21393 | M35: -24.41523 | N35: -27.43511 | P35: 28000 | Q35: -3.428622 | R35: -22.32703 | S35: 28000 | T35: -4.833703 | U35: -21.36052 | AC35: =Input!AL30 -> 28500 | AD35: =Input!AM30 -> -2.7315734 | AE35: =Input!AN30 -> -1.6898755 | AF35: =Input!AO30 -> -39.460916 | AG35: =Input!AP30 -> -6.7301304 | AH35: =Input!AR30 -> 28500 | AI35: =Input!AS30 -> -2.3986894 | AJ35: =Input!AT30 -> -4.9733699 | AK35: =Input!AU30 -> -23.502057 | AV35: 14550 | AW35: -16.4357 | AX35: -12.66197 | AY35: -11.21238 | AZ35: -10.63618 | BA35: 14550 | BB35: -36.44308 | BC35: -35.15667 | BD35: -43.41857 | BE35: -41.55372 | BF35: 34000 | BG35: 9.305105 | BH35: -9.516754 | BI35: 34000 | BJ35: 22.47253 | BK35: -40.0299 | BS35: =Input!AW30 -> 34500 | BT35: =Input!AX30 -> 11.679135 | BU35: =Input!AY30 -> 8.8974742 | BV35: =Input!AZ30 -> -9.1784648 | BW35: =Input!BB30 -> 34500 | BX35: =Input!BC30 -> 27.747339 | BY35: =Input!BD30 -> 22.329959 | BZ35: =Input!BE30 -> -39.521961 | CJ35: 20550 | CK35: -8.610825 | CL35: -10.53946 | CM35: 20550 | CN35: -17.73456 | CO35: -45.83821 | CQ35: 40000 | CR35: 12.14539 | CS35: -2.555529 | CT35: 40000 | CU35: 32.69466 | CV35: -8.545397 | DD35: =Input!BG30 -> 40500 | DE35: =Input!BH30 -> 9.8179037 | DF35: =Input!BI30 -> -1.5243901 | DG35: =Input!BK30 -> 40500 | DH35: =Input!BL30 -> 25.380096 | DI35: =Input!BM30 -> -4.0265077
E36: 8850 | F36: -19.27193 | G36: -17.8596 | H36: -14.62875 | I36: -5.603401 | J36: 8850 | K36: -17.01492 | L36: -45.56886 | M36: -23.87129 | N36: -26.96211 | P36: 29000 | Q36: -1.379642 | R36: -22.96408 | S36: 29000 | T36: -2.134314 | U36: -22.072 | AC36: =Input!AL31 -> 29500 | AD36: =Input!AM31 -> -0.54053684 | AE36: =Input!AN31 -> 0.2256012 | AF36: =Input!AO31 -> -40.535916 | AG36: =Input!AP31 -> -6.8978293 | AH36: =Input!AR31 -> 29500 | AI36: =Input!AS31 -> -1.0360418 | AJ36: =Input!AT31 -> -0.95587458 | AK36: =Input!AU31 -> -24.314458 | AV36: 14850 | AW36: -16.68281 | AX36: -12.77083 | AY36: -10.83763 | AZ36: -10.36788 | BA36: 14850 | BB36: -36.92912 | BC36: -34.89468 | BD36: -41.95398 | BE36: -40.5471 | BF36: 35000 | BG36: 11.04649 | BH36: -10.04629 | BI36: 35000 | BJ36: 26.7656 | BK36: -41.73032 | BS36: =Input!AW31 -> 35500 | BT36: =Input!AX31 -> 13.656947 | BU36: =Input!AY31 -> 10.341916 | BV36: =Input!AZ31 -> -9.7402662 | BW36: =Input!BB31 -> 35500 | BX36: =Input!BC31 -> 32.480688 | BY36: =Input!BD31 -> 26.211212 | BZ36: =Input!BE31 -> -41.32135 | CJ36: 20850 | CK36: -8.310879 | CL36: -10.83932 | CM36: 20850 | CN36: -17.0239 | CO36: -47.10268 | CQ36: 41000 | CR36: 6.86624 | CS36: -1.730957 | CT36: 41000 | CU36: 17.78293 | CV36: -4.545399 | DD36: =Input!BG31 -> 41500 | DE36: =Input!BH31 -> 3.0822152 | DF36: =Input!BI31 -> -1.3149011 | DG36: =Input!BK31 -> 41500 | DH36: =Input!BL31 -> 7.0438747 | DI36: =Input!BM31 -> -3.0252462
E37: 9150 | F37: -19.89088 | G37: -18.49254 | H37: -14.80031 | I37: -5.579504 | J37: 9150 | K37: -17.78512 | L37: -46.91855 | M37: -23.42759 | N37: -26.65285 | P37: 30000 | Q37: 0.683571 | R37: -23.57762 | S37: 30000 | T37: 0.55982 | U37: -22.87602 | AC37: =Input!AL32 -> 30500 | AD37: =Input!AM32 -> 1.6503395 | AE37: =Input!AN32 -> 2.1389647 | AF37: =Input!AO32 -> -41.567475 | AG37: =Input!AP32 -> -7.0605038 | AH37: =Input!AR32 -> 30500 | AI37: =Input!AS32 -> 0.29349811 | AJ37: =Input!AT32 -> 3.0224849 | AK37: =Input!AU32 -> -25.226541 | AV37: 15150 | AW37: -16.88239 | AX37: -12.85484 | AY37: -10.50538 | AZ37: -10.1314 | BA37: 15150 | BB37: -37.31988 | BC37: -34.63765 | BD37: -40.68201 | BE37: -39.661 | BF37: 36000 | BG37: 12.6549 | BH37: -10.735 | BI37: 36000 | BJ37: 30.82764 | BK37: -44.00583 | BS37: =Input!AW32 -> 36500 | BT37: =Input!AX32 -> 15.44798 | BU37: =Input!AY32 -> 11.624346 | BV37: =Input!AZ32 -> -10.479973 | BW37: =Input!BB32 -> 36500 | BX37: =Input!BC32 -> 36.850038 | BY37: =Input!BD32 -> 29.838393 | BZ37: =Input!BE32 -> -43.753805 | CJ37: 21150 | CK37: -8.007505 | CL37: -11.12849 | CM37: 21150 | CN37: -16.31693 | CO37: -48.31746 | CQ37: 42000 | CR37: 3.465474 | CS37: -1.362657 | CT37: 42000 | CU37: 8.390315 | CV37: -3.025104
E38: 9450 | F38: -20.47188 | G38: -19.0995 | H38: -15.02626 | I38: -5.62899 | J38: 9450 | K38: -18.47912 | L38: -48.21704 | M38: -23.05147 | N38: -26.46235 | P38: 31000 | Q38: 2.731822 | R38: -24.17563 | S38: 31000 | T38: 3.195072 | U38: -23.79243 | AC38: =Input!AL33 -> 31500 | AD38: =Input!AM33 -> 3.8129155 | AE38: =Input!AN33 -> 4.0189912 | AF38: =Input!AO33 -> -42.563664 | AG38: =Input!AP33 -> -7.2241955 | AH38: =Input!AR33 -> 31500 | AI38: =Input!AS33 -> 1.555828 | AJ38: =Input!AT33 -> 6.8838084 | AK38: =Input!AU33 -> -26.257633 | AV38: 15450 | AW38: -17.03283 | AX38: -12.90878 | AY38: -10.20623 | AZ38: -9.916204 | BA38: 15450 | BB38: -37.61108 | BC38: -34.35984 | BD38: -39.56487 | BE38: -38.87776 | BF38: 37000 | BG38: 14.02519 | BH38: -11.6304 | BI38: 37000 | BJ38: 34.4255 | BK38: -47.05344 | BS38: =Input!AW33 -> 37500 | BT38: =Input!AX33 -> 16.920437 | BU38: =Input!AY33 -> 12.632011 | BV38: =Input!AZ33 -> -11.452789 | BW38: =Input!BB33 -> 37500 | BX38: =Input!BC33 -> 40.569627 | BY38: =Input!BD33 -> 32.970535 | BZ38: =Input!BE33 -> -47.032519 | CJ38: 21450 | CK38: -7.701116 | CL38: -11.40683 | CM38: 21450 | CN38: -15.61376 | CO38: -49.48294
E39: 9750 | F39: -21.00774 | G39: -19.66698 | H39: -15.29274 | I39: -5.734401 | J39: 9750 | K39: -19.0763 | L39: -49.40615 | M39: -22.71624 | N39: -26.34547 | P39: 32000 | Q39: 4.733734 | R39: -24.76913 | S39: 32000 | T39: 5.710678 | U39: -24.84615 | AC39: =Input!AL34 -> 32500 | AD39: =Input!AM34 -> 5.9177895 | AE39: =Input!AN34 -> 5.8306415 | AF39: =Input!AO34 -> -43.536244 | AG39: =Input!AP34 -> -7.3988203 | AH39: =Input!AR34 -> 32500 | AI39: =Input!AS34 -> 2.7080916 | AJ39: =Input!AT34 -> 10.536158 | AK39: =Input!AU34 -> -27.426822 | AV39: 15750 | AW39: -17.13494 | AX39: -12.92981 | AY39: -9.93554 | AZ39: -9.722337 | BA39: 15750 | BB39: -37.80183 | BC39: -34.04525 | BD39: -38.57985 | BE39: -38.18372 | BF39: 38000 | BG39: 15.01869 | BH39: -12.79939 | BI39: 38000 | BJ39: 37.26615 | BK39: -51.17272 | BS39: =Input!AW34 -> 38500 | BT39: =Input!AX34 -> 17.902566 | BU39: =Input!AY34 -> 13.231253 | BV39: =Input!AZ34 -> -12.736979 | BW39: =Input!BB34 -> 38500 | BX39: =Input!BC34 -> 43.325722 | BY39: =Input!BD34 -> 35.311516 | BZ39: =Input!BE34 -> -51.471944 | CJ39: 21750 | CK39: -7.392024 | CL39: -11.6742 | CM39: 21750 | CN39: -14.91433 | CO39: -50.59947
E40: 10050 | F40: -21.48812 | G40: -20.17521 | H40: -15.58612 | I40: -5.886267 | J40: 10050 | K40: -19.54984 | L40: -50.40824 | M40: -22.3996 | N40: -26.25815 | P40: 33000 | Q40: 6.65574 | R40: -25.37218 | S40: 33000 | T40: 8.037355 | U40: -26.06601 | AC40: =Input!AL35 -> 33500 | AD40: =Input!AM35 -> 7.9326752 | AE40: =Input!AN35 -> 7.5313735 | AF40: =Input!AO35 -> -44.495473 | AG40: =Input!AP35 -> -7.5992038 | AH40: =Input!AR35 -> 33500 | AI40: =Input!AS35 -> 3.7077296 | AJ40: =Input!AT35 -> 13.882543 | AK40: =Input!AU35 -> -28.75203 | AV40: 16050 | AW40: -17.19016 | AX40: -12.9173 | AY40: -9.688886 | AZ40: -9.545197 | BA40: 16050 | BB40: -37.89403 | BC40: -33.68505 | BD40: -37.70861 | BE40: -37.57162 | BF40: 39000 | BG40: 15.53498 | BH40: -14.37159 | BI40: 39000 | BJ40: 39.2108 | BK40: -56.94022 | BS40: =Input!AW35 -> 39500 | BT40: =Input!AX35 -> 18.191258 | BU40: =Input!AY35 -> 13.243014 | BV40: =Input!AZ35 -> -14.453468 | BW40: =Input!BB35 -> 39500 | BX40: =Input!BC35 -> 44.778319 | BY40: =Input!BD35 -> 36.408422 | BZ40: =Input!BE35 -> -57.640969 | CJ40: 22050 | CK40: -7.08046 | CL40: -11.93047 | CM40: 22050 | CN40: -14.21841 | CO40: -51.66732
E41: 10350 | F41: -21.89987 | G41: -20.59641 | H41: -15.89596 | I41: -6.062357 | J41: 10350 | K41: -19.86711 | L41: -51.12396 | M41: -22.08516 | N41: -26.15785 | P41: 34000 | Q41: 8.462864 | R41: -26.00198 | S41: 34000 | T41: 10.09768 | U41: -27.48305 | AC41: =Input!AL36 -> 34500 | AD41: =Input!AM36 -> 9.833286 | AE41: =Input!AN36 -> 9.0770988 | AF41: =Input!AO36 -> -45.450105 | AG41: =Input!AP36 -> -7.8457385 | AH41: =Input!AR36 -> 34500 | AI41: =Input!AS36 -> 4.507992 | AJ41: =Input!AT36 -> 16.818596 | AK41: =Input!AU36 -> -30.244474 | AV41: 16350 | AW41: -17.20097 | AX41: -12.87167 | AY41: -9.464419 | AZ41: -9.385033 | BA41: 16350 | BB41: -37.89148 | BC41: -33.27522 | BD41: -36.93974 | BE41: -37.03439 | BF41: 40000 | BG41: 15.54127 | BH41: -16.5589 | BI41: 40000 | BJ41: 40.29794 | BK41: -65.7516 | BS41: =Input!AW36 -> 40500 | BT41: =Input!AX36 -> 17.132378 | BU41: =Input!AY36 -> 12.397067 | BV41: =Input!AZ36 -> -16.840204 | BW41: =Input!BB36 -> 40500 | BX41: =Input!BC36 -> 44.455337 | BY41: =Input!BD36 -> 34.908418 | BZ41: =Input!BE36 -> -66.449846 | CJ41: 22350 | CK41: -6.766583 | CL41: -12.17553 | CM41: 22350 | CN41: -13.52565 | CO41: -52.68676
E42: 10650 | F42: -22.22777 | G42: -20.89563 | H42: -16.21305 | I42: -6.253989 | J42: 10650 | K42: -19.99277 | L42: -51.43731 | M42: -21.76379 | N42: -26.01159 | P42: 35000 | Q42: 10.12151 | R42: -26.67933 | S42: 35000 | T42: 11.81186 | U42: -29.12794 | AC42: =Input!AL37 -> 35500 | AD42: =Input!AM37 -> 11.595161 | AE42: =Input!AN37 -> 10.42417 | AF42: =Input!AO37 -> -46.403584 | AG42: =Input!AP37 -> -8.1694108 | AH42: =Input!AR37 -> 35500 | AI42: =Input!AS37 -> 5.0650295 | AJ42: =Input!AT37 -> 19.24753 | AK42: =Input!AU37 -> -31.903403 | AV42: 16650 | AW42: -17.17017 | AX42: -12.79439 | AY42: -9.2598 | AZ42: -9.239573 | BA42: 16650 | BB42: -37.79934 | BC42: -32.8152 | BD42: -36.26275 | BE42: -36.56778 | BF42: 41000 | BG42: 16.31884 | BH42: -20.8801 | BI42: 41000 | BJ42: 43.82324 | BK42: -83.71912 | BS42: =Input!AW37 -> 41500 | BT42: =Input!AX37 -> 14.802662 | BU42: =Input!AY37 -> 12.812098 | BV42: =Input!AZ37 -> -20.642399 | BW42: =Input!BB37 -> 41500 | BX42: =Input!BC37 -> 47.544455 | BY42: =Input!BD37 -> 28.099869 | BZ42: =Input!BE37 -> -81.604162 | CJ42: 22650 | CK42: -6.450491 | CL42: -12.40927 | CM42: 22650 | CN42: -12.83561 | CO42: -53.65797
E43: 10950 | F43: -22.45635 | G43: -21.03674 | H43: -16.53295 | I43: -6.438476 | J43: 10950 | K43: -19.89471 | L43: -51.23308 | M43: -21.43596 | N43: -25.80295 | P43: 36000 | Q43: 11.60649 | R43: -27.42969 | S43: 36000 | T43: 13.11624 | U43: -31.02796 | AC43: =Input!AL38 -> 36500 | AD43: =Input!AM38 -> 13.218356 | AE43: =Input!AN38 -> 11.548268 | AF43: =Input!AO38 -> -47.356111 | AG43: =Input!AP38 -> -8.6150475 | AH43: =Input!AR38 -> 36500 | AI43: =Input!AS38 -> 5.3663547 | AJ43: =Input!AT38 -> 21.130091 | AK43: =Input!AU38 -> -33.70636 | AV43: 16950 | AW43: -17.10082 | AX43: -12.68734 | AY43: -9.074102 | AZ43: -9.108837 | BA43: 16950 | BB43: -37.62342 | BC43: -32.30667 | BD43: -35.67049 | BE43: -36.16684 | BF43: 42000 | BG43: 22.96111 | BH43: -22.56239 | BI43: 42000 | BJ43: 61.66058 | BK43: -95.60022 | BS43: =Input!AW38 -> 42500 | BT43: =Input!AX38 -> 42.418002 | BU43: =Input!AY38 -> 0 | BV43: =Input!AZ38 -> -24.752811 | BW43: =Input!BB38 -> 42500 | BX43: =Input!BC38 -> 128.2334 | BY43: =Input!BD38 -> 0 | BZ43: =Input!BE38 -> -114.01033 | CJ43: 22950 | CK43: -6.132231 | CL43: -12.63158 | CM43: 22950 | CN43: -12.14775 | CO43: -54.5811
E44: 11250 | F44: -22.57439 | G44: -20.98739 | H44: -16.8543 | I44: -6.613123 | J44: 11250 | K44: -19.55285 | L44: -50.42415 | M44: -21.11206 | N44: -25.53957 | P44: 37000 | Q44: 12.91822 | R44: -28.28443 | S44: 37000 | T44: 14.01469 | U44: -33.20491 | AC44: =Input!AL39 -> 37500 | AD44: =Input!AM39 -> 14.722297 | AE44: =Input!AN39 -> 12.478626 | AF44: =Input!AO39 -> -48.305567 | AG44: =Input!AP39 -> -9.2492071 | AH44: =Input!AR39 -> 37500 | AI44: =Input!AS39 -> 5.4739509 | AJ44: =Input!AT39 -> 22.579892 | AK44: =Input!AU39 -> -35.602948 | AV44: 17250 | AW44: -16.99594 | AX44: -12.55279 | AY44: -8.905839 | AZ44: -8.99147 | BA44: 17250 | BB44: -37.36987 | BC44: -31.75269 | BD44: -35.15568 | BE44: -35.82792 | BF44: 43000 | BG44: 30.42208 | BH44: -15.57447 | BI44: 43000 | BJ44: 77.86926 | BK44: -74.86511 | BS44: =Input!AW39 -> 43500 | BT44: =Input!AX39 -> 25.335533 | BU44: =Input!AY39 -> 0 | BV44: =Input!AZ39 -> -12.039323 | BW44: =Input!BB39 -> 43500 | BX44: =Input!BC39 -> 58.01299 | BY44: =Input!BD39 -> 0 | BZ44: =Input!BE39 -> -58.525239 | CJ44: 23250 | CK44: -5.811803 | CL44: -12.84236 | CM44: 23250 | CN44: -11.46147 | CO44: -55.45626
E45: 11550 | F45: -22.57714 | G45: -20.73448 | H45: -17.18071 | I45: -6.765187 | J45: 11550 | K45: -18.96793 | L45: -48.98445 | M45: -20.81075 | N45: -25.25256 | P45: 38000 | Q45: 14.11851 | R45: -29.28174 | S45: 38000 | T45: 14.69337 | U45: -35.6769 | AC45: =Input!AL40 -> 38500 | AD45: =Input!AM40 -> 16.195993 | AE45: =Input!AN40 -> 13.388528 | AF45: =Input!AO40 -> -49.257428 | AG45: =Input!AP40 -> -10.166329 | AH45: =Input!AR40 -> 38500 | AI45: =Input!AS40 -> 5.6497656 | AJ45: =Input!AT40 -> 24.099927 | AK45: =Input!AU40 -> -37.521107 | AV45: 17550 | AW45: -16.85847 | AX45: -12.39304 | AY45: -8.754316 | AZ45: -8.887238 | BA45: 17550 | BB45: -37.04473 | BC45: -31.15709 | BD45: -34.71276 | BE45: -35.54671 | BF45: 44000 | BG45: 26.18227 | BH45: -9.931457 | BI45: 44000 | BJ45: 63.89201 | BK45: -47.27754 | BS45: =Input!AW40 -> 44500 | BT45: =Input!AX40 -> 24.590722 | BU45: =Input!AY40 -> 0 | BV45: =Input!AZ40 -> -8.0443828 | BW45: =Input!BB40 -> 44500 | BX45: =Input!BC40 -> 56.428674 | BY45: =Input!BD40 -> 0 | BZ45: =Input!BE40 -> -37.696206 | CJ45: 23550 | CK45: -5.48917 | CL45: -13.04152 | CM45: 23550 | CN45: -10.77614 | CO45: -56.28349
E46: 11850 | F46: -22.47185 | G46: -20.28513 | H46: -17.51728 | I46: -6.898805 | J46: 11850 | K46: -18.16776 | L46: -46.97258 | M46: -20.5542 | N46: -24.98726 | P46: 39000 | Q46: 15.42273 | R46: -30.45073 | S46: 39000 | T46: 15.84115 | U46: -38.48701 | AC46: =Input!AL41 -> 39500 | AD46: =Input!AM41 -> 17.832335 | AE46: =Input!AN41 -> 14.748395 | AF46: =Input!AO41 -> -50.238728 | AG46: =Input!AP41 -> -11.480093 | AH46: =Input!AR41 -> 39500 | AI46: =Input!AS41 -> 6.6107039 | AJ46: =Input!AT41 -> 27.026336 | AK46: =Input!AU41 -> -39.420712 | AV46: 17850 | AW46: -16.69113 | AX46: -12.21047 | AY46: -8.618394 | AZ46: -8.795155 | BA46: 17850 | BB46: -36.65384 | BC46: -30.52406 | BD46: -34.33589 | BE46: -35.3196 | BF46: 45000 | BG46: 25.35152 | BH46: -7.045479 | BI46: 45000 | BJ46: 61.32518 | BK46: -31.04177 | BS46: =Input!AW41 -> 45500 | BT46: =Input!AX41 -> 23.083886 | BU46: =Input!AY41 -> 0 | BV46: =Input!AZ41 -> -4.8969642 | BW46: =Input!BB41 -> 45500 | BX46: =Input!BC41 -> 52.322179 | BY46: =Input!BD41 -> 0 | BZ46: =Input!BE41 -> -21.183458 | CJ46: 23850 | CK46: -5.164262 | CL46: -13.22894 | CM46: 23850 | CN46: -10.09105 | CO46: -57.06279
E47: 12150 | F47: -22.27535 | G47: -19.67913 | H47: -17.87007 | I47: -7.012112 | J47: 12150 | K47: -17.20692 | L47: -44.53602 | M47: -20.36183 | N47: -24.78683 | P47: 40000 | Q47: 17.36225 | R47: -31.71607 | S47: 40000 | T47: 19.28635 | U47: -41.66211 | AC47: =Input!AL42 -> 40500 | AD47: =Input!AM42 -> 19.956545 | AE47: =Input!AN42 -> 17.312046 | AF47: =Input!AO42 -> -51.298526 | AG47: =Input!AP42 -> -13.221246 | AH47: =Input!AR42 -> 40500 | AI47: =Input!AS42 -> 9.6674441 | AJ47: =Input!AT42 -> 33.628637 | AK47: =Input!AU42 -> -41.46603 | AV47: 18150 | AW47: -16.49642 | AX47: -12.0073 | AY47: -8.497386 | AZ47: -8.714807 | BA47: 18150 | BB47: -36.20263 | BC47: -29.85782 | BD47: -34.0202 | BE47: -35.14251 | BF47: 46000 | BG47: 21.77216 | BH47: -4.569497 | BI47: 46000 | BJ47: 51.62125 | BK47: -17.52488 | BS47: =Input!AW42 -> 46500 | BT47: =Input!AX42 -> 17.820216 | BU47: =Input!AY42 -> 0 | BV47: =Input!AZ42 -> -2.6546454 | BW47: =Input!BB42 -> 46500 | BX47: =Input!BC42 -> 39.180409 | BY47: =Input!BD42 -> 0 | BZ47: =Input!BE42 -> -8.9781008 | CJ47: 24150 | CK47: -4.836983 | CL47: -13.40454 | CM47: 24150 | CN47: -9.405479 | CO47: -57.79412
E48: 12450 | F48: -22.01558 | G48: -18.97286 | H48: -18.24252 | I48: -7.105125 | J48: 12450 | K48: -16.15968 | L48: -41.88739 | M48: -20.2443 | N48: -24.67478 | P48: 41000 | Q48: 20.30377 | R48: -32.78382 | S48: 40000 | T48: 19.28635 | U48: -41.66211 | AC48: =Input!AL43 -> 41500 | AD48: =Input!AM43 -> 22.776144 | AE48: =Input!AN43 -> 21.510058 | AF48: =Input!AO43 -> -52.425194 | AG48: =Input!AP43 -> -14.96763 | AH48: =Input!AR43 -> 41500 | AI48: =Input!AS43 -> 16.018892 | AJ48: =Input!AT43 -> 45.669488 | AK48: =Input!AU43 -> -44.11366 | AV48: 18450 | AW48: -16.27659 | AX48: -11.78566 | AY48: -8.390305 | AZ48: -8.645374 | BA48: 18450 | BB48: -35.69607 | BC48: -29.16241 | BD48: -33.76063 | BE48: -35.01186 | BF48: 47000 | BG48: 12.83024 | BH48: -3.019346 | BI48: 47000 | BJ48: 29.00902 | BK48: -8.828411 | BS48: =Input!AW43 -> 47500 | BT48: =Input!AX43 -> 6.1772385 | BU48: =Input!AY43 -> 0 | BV48: =Input!AZ43 -> -2.1062407 | BW48: =Input!BB43 -> 47500 | BX48: =Input!BC43 -> 11.788758 | BY48: =Input!BD43 -> 0 | BZ48: =Input!BE43 -> -4.9972934 | CJ48: 24450 | CK48: -4.507211 | CL48: -13.56821 | CM48: 24450 | CN48: -8.718677 | CO48: -58.47736
E49: 12750 | F49: -21.72299 | G49: -18.23875 | H49: -18.63393 | I49: -7.177297 | J49: 12750 | K49: -15.10703 | L49: -39.26165 | M49: -20.20021 | N49: -24.64649 | P49: 42000 | Q49: 23.61736 | R49: -33.35387 | S49: 41000 | T49: 26.58781 | U49: -44.86736 | AC49: =Input!AL44 -> 42500 | AD49: =Input!AM44 -> 25.387036 | AE49: =Input!AN44 -> 25.566017 | AF49: =Input!AO44 -> -53.426994 | AG49: =Input!AP44 -> -15.437221 | AH49: =Input!AR44 -> 42500 | AI49: =Input!AS44 -> 22.866442 | AJ49: =Input!AT44 -> 58.246237 | AK49: =Input!AU44 -> -47.826448 | AV49: 18750 | AW49: -16.03363 | AX49: -11.5475 | AY49: -8.296426 | AZ49: -8.586342 | BA49: 18750 | BB49: -35.13866 | BC49: -28.44161 | BD49: -33.55274 | BE49: -34.92382 | BF49: 48000 | BG49: 6.8615 | BH49: -2.436517 | BI49: 48000 | BJ49: 14.42686 | BK49: -5.601933 | CJ49: 24750 | CK49: -4.174807 | CL49: -13.71984 | CM49: 24750 | CN49: -8.029864 | CO49: -59.11235
E50: 13050 | F50: -21.42844 | G50: -17.54016 | H50: -19.04007 | I50: -7.218073 | J50: 13050 | K50: -14.12276 | L50: -36.86726 | M50: -20.21653 | N50: -24.67102 | P50: 43000 | Q50: 26.03229 | R50: -33.49822 | S50: 42000 | T50: 36.1036 | U50: -47.65391 | AC50: =Input!AL45 -> 43500 | AD50: =Input!AM45 -> 26.513957 | AE50: =Input!AN45 -> 27.361657 | AF50: =Input!AO45 -> -54.233424 | AG50: =Input!AP45 -> -14.270145 | AH50: =Input!AR45 -> 43500 | AI50: =Input!AS45 -> 26.127511 | AJ50: =Input!AT45 -> 64.736386 | AK50: =Input!AU45 -> -51.688159 | AV50: 19050 | AW50: -15.76931 | AX50: -11.29459 | AY50: -8.214844 | AZ50: -8.536976 | BA50: 19050 | BB50: -34.53446 | BC50: -27.69885 | BD50: -33.39203 | BE50: -34.8749 | CJ50: 25050 | CK50: -3.839612 | CL50: -13.85934 | CM50: 25050 | CN50: -7.338244 | CO50: -59.69889
E51: 13350 | F51: -21.15529 | G51: -16.92885 | H51: -19.45332 | I51: -7.227673 | J51: 13350 | K51: -13.26217 | L51: -34.85099 | M51: -20.27244 | N51: -24.70427 | P51: 44000 | Q51: 26.75006 | R51: -33.73894 | S51: 43000 | T51: 43.77815 | U51: -50.18052 | AC51: =Input!AL46 -> 44500 | AD51: =Input!AM46 -> 26.301908 | AE51: =Input!AN46 -> 27.152245 | AF51: =Input!AO46 -> -55.206807 | AG51: =Input!AP46 -> -13.358747 | AH51: =Input!AR46 -> 44500 | AI51: =Input!AS46 -> 26.157 | AJ51: =Input!AT46 -> 65.502692 | AK51: =Input!AU46 -> -55.759113 | AV51: 19350 | AW51: -15.48518 | AX51: -11.02851 | AY51: -8.144814 | AZ51: -8.496715 | BA51: 19350 | BB51: -33.88705 | BC51: -26.93717 | BD51: -33.27445 | BE51: -34.86157 | CJ51: 25350 | CK51: -3.501457 | CL51: -13.98658 | CM51: 25350 | CN51: -6.643005 | CO51: -60.23671
E52: 13650 | F52: -20.91919 | G52: -16.4319 | H52: -19.86604 | I52: -7.19526 | J52: 13650 | K52: -12.55712 | L52: -33.28371 | M52: -20.34468 | N52: -24.7031 | P52: 45000 | Q52: 26.00272 | R52: -34.77835 | S52: 44000 | T52: 46.82847 | U52: -53.30882 | AC52: =Input!AL47 -> 45500 | AD52: =Input!AM47 -> 25.127601 | AE52: =Input!AN47 -> 25.836616 | AF52: =Input!AO47 -> -56.941652 | AG52: =Input!AP47 -> -13.732527 | AH52: =Input!AR47 -> 45500 | AI52: =Input!AS47 -> 24.196037 | AJ52: =Input!AT47 -> 62.972255 | AK52: =Input!AU47 -> -61.092228 | AV52: 19650 | AW52: -15.18259 | AX52: -10.75068 | AY52: -8.085491 | AZ52: -8.464885 | BA52: 19650 | BB52: -33.19962 | BC52: -26.15924 | BD52: -33.19599 | BE52: -34.88055 | CJ52: 25650 | CK52: -3.160158 | CL52: -14.10146 | CM52: 25650 | CN52: -5.94332 | CO52: -60.72548
E53: 13950 | F53: -20.72609 | G53: -16.05789 | H53: -20.27078 | I53: -7.128079 | J53: 13950 | K53: -12.01672 | L53: -32.16824 | M53: -20.41242 | N53: -24.63754 | P53: 46000 | Q53: 24.50567 | R53: -37.41674 | S53: 45000 | T53: 45.95214 | U53: -58.42815 | AC53: =Input!AL48 -> 46500 | AD53: =Input!AM48 -> 22.127661 | AE53: =Input!AN48 -> 23.538355 | AF53: =Input!AO48 -> -60.120406 | AG53: =Input!AP48 -> -15.967404 | AH53: =Input!AR48 -> 46500 | AI53: =Input!AS48 -> 18.923133 | AJ53: =Input!AT48 -> 58.018409 | AK53: =Input!AU48 -> -69.18857 | AV53: 19950 | AW53: -14.86274 | AX53: -10.46234 | AY53: -8.03614 | AZ53: -8.440917 | BA53: 19950 | BB53: -32.47497 | BC53: -25.36735 | BD53: -33.15299 | BE53: -34.92864 | CJ53: 25950 | CK53: -2.815524 | CL53: -14.20384 | CM53: 25950 | CN53: -5.238352 | CO53: -61.16485
E54: 14250 | F54: -20.57506 | G54: -15.79825 | H54: -20.66335 | I54: -7.024078 | J54: 14250 | K54: -11.63255 | L54: -31.45904 | M54: -20.46034 | N54: -24.4939 | P54: 47000 | Q54: 23.42118 | R54: -43.01031 | S54: 46000 | T54: 43.85992 | U54: -67.43748 | AC54: =Input!AL49 -> 47500 | AD54: =Input!AM49 -> 14.063856 | AE54: =Input!AN49 -> 33.00048 | AF54: =Input!AO49 -> -66.941608 | AG54: =Input!AP49 -> -22.560204 | AH54: =Input!AR49 -> 47500 | AI54: =Input!AS49 -> 11.404565 | AJ54: =Input!AT49 -> 70.539014 | AK54: =Input!AU49 -> -83.643301 | AV54: 20250 | AW54: -14.52666 | AX54: -10.16457 | AY54: -7.995977 | AZ54: -8.42419 | BA54: 20250 | BB54: -31.71559 | BC54: -24.56344 | BD54: -33.14191 | BE54: -35.00285 | CJ54: 26250 | CK54: -2.467354 | CL54: -14.2936 | CM54: 26250 | CN54: -4.527249 | CO54: -61.55439
E55: 14550 | F55: -20.46012 | G55: -15.63593 | H55: -21.04115 | I55: -6.896176 | J55: 14550 | K55: -11.38512 | L55: -31.08518 | M55: -20.47955 | N55: -24.27396 | P55: 48000 | Q55: 25.58463 | R55: -50.70763 | S55: 47000 | T55: 44.33004 | U55: -86.93259 | AC55: =Input!AL50 -> 48500 | AD55: =Input!AM50 -> 28.730122 | AE55: =Input!AN50 -> 0 | AF55: =Input!AO50 -> -62.272813 | AH55: =Input!AR50 -> 48500 | AI55: =Input!AS50 -> 58.431425 | AJ55: =Input!AT50 -> 0 | AK55: =Input!AU50 -> -104.09706 | AV55: 20550 | AW55: -14.17528 | AX55: -9.858311 | AY55: -7.964297 | AZ55: -8.414148 | BA55: 20550 | BB55: -30.92367 | BC55: -23.74913 | BD55: -33.15948 | BE55: -35.1003 | CJ55: 26550 | CK55: -2.115442 | CL55: -14.37061 | CM55: 26550 | CN55: -3.809152 | CO55: -61.8936
E56: 14850 | F56: -20.3729 | G56: -15.5497 | H56: -21.40485 | I56: -6.748372 | J56: 14850 | K56: -11.25005 | L56: -30.96845 | M56: -20.46692 | N56: -23.98876 | P56: 49000 | Q56: 26.00973 | R56: -51.54306 | S56: 48000 | T56: 45.28279 | U56: -96.86995 | AC56: =Input!AL51 -> 49500 | AD56: =Input!AM51 -> 17.810171 | AE56: =Input!AN51 -> 0 | AF56: =Input!AO51 -> -45.484658 | AH56: =Input!AR51 -> 49500 | AI56: =Input!AS51 -> 16.476641 | AJ56: =Input!AT51 -> 0 | AK56: =Input!AU51 -> -63.306334 | AV56: 20850 | AW56: -13.8094 | AX56: -9.544382 | AY56: -7.940383 | AZ56: -8.410222 | BA56: 20850 | BB56: -30.10114 | BC56: -22.92574 | BD56: -33.20259 | BE56: -35.2183 | CJ56: 26850 | CK56: -1.759579 | CL56: -14.43472 | CM56: 26850 | CN56: -3.08319 | CO56: -62.18198
E57: 15150 | F57: -20.30447 | G57: -15.51862 | H57: -21.75576 | I57: -6.592787 | J57: 15150 | K57: -11.20234 | L57: -31.03528 | M57: -20.42357 | N57: -23.65457 | P57: 50000 | Q57: 20.27632 | R57: -40.4352 | S57: 49000 | T57: 33.58343 | U57: -74.70645 | AC57: =Input!AL52 -> 50500 | AD57: =Input!AM52 -> 15.570489 | AE57: =Input!AN52 -> 0 | AF57: =Input!AO52 -> -36.350723 | AH57: =Input!AR52 -> 50500 | AI57: =Input!AS52 -> 14.199904 | AJ57: =Input!AT52 -> 0 | AK57: =Input!AU52 -> -49.121123 | AV57: 21150 | AW57: -13.42974 | AX57: -9.223474 | AY57: -7.92358 | AZ57: -8.411886 | BA57: 21150 | BB57: -29.24971 | BC57: -22.09435 | BD57: -33.26837 | BE57: -35.35433 | CJ57: 27150 | CK57: -1.399549 | CL57: -14.48579 | CM57: 27150 | CN57: -2.348483 | CO57: -62.41891
E58: 15450 | F58: -20.24632 | G58: -15.52391 | H58: -22.0969 | I58: -6.433855 | J58: 15450 | K58: -11.21903 | L58: -31.22218 | M58: -20.3533 | N58: -23.28782 | P58: 51000 | Q58: 17.82203 | R58: -32.44847 | S58: 50000 | T58: 20.74121 | U58: -54.59591 | AC58: =Input!AL53 -> 51500 | AD58: =Input!AM53 -> 13.716629 | AE58: =Input!AN53 -> 0 | AF58: =Input!AO53 -> -28.505402 | AH58: =Input!AR53 -> 51500 | AI58: =Input!AS53 -> 12.032546 | AJ58: =Input!AT53 -> 0 | AK58: =Input!AU53 -> -38.952951 | AV58: 21450 | AW58: -13.03695 | AX58: -8.896173 | AY58: -7.913239 | AZ58: -8.418621 | BA58: 21450 | BB58: -28.37088 | BC58: -21.25576 | BD58: -33.35413 | BE58: -35.50601 | CJ58: 27450 | CK58: -1.035138 | CL58: -14.52366 | CM58: 27450 | CN58: -1.604143 | CO58: -62.60376
E59: 15750 | F59: -20.1912 | G59: -15.54978 | H59: -22.43087 | I59: -6.279611 | J59: 15750 | K59: -11.28035 | L59: -31.4776 | M59: -20.26123 | N59: -22.90392 | P59: 52000 | Q59: 15.79172 | R59: -25.02841 | S59: 51000 | T59: 17.18249 | U59: -43.9216 | AC59: =Input!AL54 -> 52500 | AD59: =Input!AM54 -> 12.102612 | AE59: =Input!AN54 -> 0 | AF59: =Input!AO54 -> -21.392805 | AH59: =Input!AR54 -> 52500 | AI59: =Input!AS54 -> 10.540396 | AJ59: =Input!AT54 -> 0 | AK59: =Input!AU54 -> -30.364986 | AV59: 21750 | AW59: -12.63159 | AX59: -8.562975 | AY59: -7.908764 | AZ59: -8.429943 | BA59: 21750 | BB59: -27.466 | BC59: -20.41061 | BD59: -33.45736 | BE59: -35.67112 | CJ59: 27750 | CK59: -0.666131 | CL59: -14.54816 | CM59: 27750 | CN59: -0.84927 | CO59: -62.73582
E60: 16050 | F60: -20.13295 | G60: -15.5836 | H60: -22.76076 | I60: -6.132662 | J60: 16050 | K60: -11.37004 | L60: -31.7612 | M60: -20.15286 | N60: -22.5153 | P60: 53000 | Q60: 13.91048 | R60: -18.3886 | S60: 52000 | T60: 14.83597 | U60: -34.61378 | AC60: =Input!AL55 -> 53500 | AD60: =Input!AM55 -> 10.560714 | AE60: =Input!AN55 -> 0 | AF60: =Input!AO55 -> -15.054701 | AH60: =Input!AR55 -> 53500 | AI60: =Input!AS55 -> 9.1415201 | AJ60: =Input!AT55 -> 0 | AK60: =Input!AU55 -> -22.967445 | AV60: 22050 | AW60: -12.21419 | AX60: -8.224289 | AY60: -7.90958 | AZ60: -8.445384 | BA60: 22050 | BB60: -26.53626 | BC60: -19.55934 | BD60: -33.57574 | BE60: -35.8476 | CJ60: 28050 | CK60: -0.292313 | CL60: -14.55914 | CM60: 28050 | CN60: -0.0829594 | CO60: -62.81435
E61: 16350 | F61: -20.0668 | G61: -15.61549 | H61: -23.08883 | I61: -5.997234 | J61: 16350 | K61: -11.47507 | L61: -32.04246 | M61: -20.03351 | N61: -22.13211 | P61: 54000 | Q61: 12.01969 | R61: -12.54357 | S61: 53000 | T61: 12.94787 | U61: -26.75405 | AC61: =Input!AL56 -> 54500 | AD61: =Input!AM56 -> 9.0235438 | AE61: =Input!AN56 -> 0 | AF61: =Input!AO56 -> -9.5882579 | AH61: =Input!AR56 -> 54500 | AI61: =Input!AS56 -> 7.6855018 | AJ61: =Input!AT56 -> 0 | AK61: =Input!AU56 -> -16.647898 | AV61: 22350 | AW61: -11.78523 | AX61: -7.880451 | AY61: -7.915156 | AZ61: -8.464508 | BA61: 22350 | BB61: -25.58274 | BC61: -18.70221 | BD61: -33.70713 | BE61: -36.03352 | CJ61: 28350 | CK61: 0.0865262 | CL61: -14.55641 | CM61: 28350 | CN61: 0.695704 | CO61: -62.8385
E62: 16650 | F62: -19.98892 | G62: -15.63801 | H62: -23.41732 | I62: -5.874202 | J62: 16650 | K62: -11.58526 | L62: -32.29878 | M62: -19.90798 | N62: -21.76167 | P62: 55000 | Q62: 10.07068 | R62: -7.613206 | S62: 54000 | T62: 11.09269 | U62: -19.96017 | AC62: =Input!AL57 -> 55500 | AD62: =Input!AM57 -> 7.4641122 | AE62: =Input!AN57 -> 0 | AF62: =Input!AO57 -> -5.1075425 | AH62: =Input!AR57 -> 55500 | AI62: =Input!AS57 -> 6.1072219 | AJ62: =Input!AT57 -> 0 | AK62: =Input!AU57 -> -11.386694 | AV62: 22650 | AW62: -11.34513 | AX62: -7.531733 | AY62: -7.924989 | AZ62: -8.486899 | BA62: 22650 | BB62: -24.6064 | BC62: -17.83938 | BD62: -33.84956 | BE62: -36.22711 | CJ62: 28650 | CK62: 0.470593 | CL62: -14.53979 | CM62: 28650 | CN62: 1.48764 | CO62: -62.80742
E63: 16950 | F63: -19.89649 | G63: -15.64564 | H63: -23.74771 | I63: -5.765279 | J63: 16950 | K63: -11.69276 | L63: -32.51398 | M63: -19.78042 | N63: -21.4095 | P63: 56000 | Q63: 8.051113 | R63: -3.710626 | S63: 55000 | T63: 9.147413 | U63: -14.21421 | AC63: =Input!AL58 -> 56500 | AD63: =Input!AM58 -> 5.8772019 | AE63: =Input!AN58 -> 0 | AF63: =Input!AO58 -> -1.7313213 | AH63: =Input!AR58 -> 56500 | AI63: =Input!AS58 -> 4.3884788 | AJ63: =Input!AT58 -> 0 | AK63: =Input!AU58 -> -7.1986288 | AV63: 22950 | AW63: -10.89432 | AX63: -7.178347 | AY63: -7.938616 | AZ63: -8.512173 | BA63: 22950 | BB63: -23.6081 | BC63: -16.97086 | BD63: -34.00121 | BE63: -36.42673 | CJ63: 28950 | CK63: 0.860085 | CL63: -14.50909 | CM63: 28950 | CN63: 2.293775 | CO63: -62.72016
E64: 17250 | F64: -19.78734 | G64: -15.63441 | H64: -24.08132 | I64: -5.670262 | J64: 17250 | K64: -11.79166 | L64: -32.6768 | M64: -19.65435 | N64: -21.07918 | P64: 57000 | Q64: 5.977211 | R64: -0.949333 | S64: 56000 | T64: 7.07062 | U64: -9.507507 | AC64: =Input!AL59 -> 57500 | AD64: =Input!AM59 -> 4.2768772 | AE64: =Input!AN59 -> 0 | AF64: =Input!AO59 -> 0.42650592 | AH64: =Input!AR59 -> 57500 | AI64: =Input!AS59 -> 2.5427846 | AJ64: =Input!AT59 -> 0 | AK64: =Input!AU59 -> -4.1012893 | AV64: 23250 | AW64: -10.43316 | AX64: -6.820458 | AY64: -7.955605 | AZ64: -8.539966 | BA64: 23250 | BB64: -22.58864 | BC64: -16.09658 | BD64: -34.1604 | BE64: -36.63086 | CJ64: 29250 | CK64: 1.255191 | CL64: -14.46413 | CM64: 29250 | CN64: 3.115034 | CO64: -62.57571
E65: 17550 | F65: -19.65993 | G65: -15.60159 | H65: -24.4189 | I65: -5.589454 | J65: 17550 | K65: -11.87753 | L65: -32.77977 | M65: -19.53263 | N65: -20.77316 | P65: 58000 | Q65: 3.899937 | R65: 0.578626 | S65: 57000 | T65: 4.872565 | U65: -5.853939 | AC65: =Input!AL60 -> 58500 | AD65: =Input!AM60 -> 2.7550684 | AE65: =Input!AN60 -> 0 | AF65: =Input!AO60 -> 1.2875545 | AH65: =Input!AR60 -> 58500 | AI65: =Input!AS60 -> 0.65970078 | AJ65: =Input!AT60 -> 0 | AK65: =Input!AU60 -> -2.0657651 | AV65: 23550 | AW65: -9.962012 | AX65: -6.458187 | AY65: -7.975561 | AZ65: -8.569945 | BA65: 23550 | BB65: -21.54874 | BC65: -15.21636 | BD65: -34.32564 | BE65: -36.83813 | CJ65: 29550 | CK65: 1.656087 | CL65: -14.40471 | CM65: 29550 | CN65: 3.952346 | CO65: -62.37301
E66: 17850 | F66: -19.51312 | G66: -15.54537 | H66: -24.76106 | I66: -5.52211 | J66: 17850 | K66: -11.94714 | L66: -32.81828 | M66: -19.4176 | N66: -20.49273 | P66: 59000 | Q66: 1.907036 | R66: 0.753907 | S66: 58000 | T66: 2.63894 | U66: -3.228556 | AC66: =Input!AL61 -> 59500 | AD66: =Input!AM61 -> 1.2633234 | AE66: =Input!AN61 -> 0 | AF66: =Input!AO61 -> 0.72019896 | AH66: =Input!AR61 -> 59500 | AI66: =Input!AS61 -> -0.65760513 | AJ66: =Input!AT61 -> 0 | AK66: =Input!AU61 -> -0.79112296 | AV66: 23850 | AW66: -9.481221 | AX66: -6.091615 | AY66: -7.998124 | AZ66: -8.601806 | BA66: 23850 | BB66: -20.48908 | BC66: -14.32996 | BD66: -34.49554 | BE66: -37.04729 | CJ66: 29850 | CK66: 2.06293 | CL66: -14.33064 | CM66: 29850 | CN66: 4.80663 | CO66: -62.11094
E67: 18150 | F67: -19.34618 | G67: -15.46468 | H67: -25.10803 | I67: -5.467824 | J67: 18150 | K67: -11.99821 | L67: -32.78989 | M67: -19.31106 | N67: -20.23852 | P67: 60000 | Q67: 0.944629 | R67: 0.483006 | S67: 59000 | T67: 0.793189 | U67: -1.381383 | AV67: 24150 | AW67: -8.99111 | AX67: -5.720791 | AY67: -8.022967 | AZ67: -8.635266 | BA67: 24150 | BB67: -19.41026 | BC67: -13.43707 | BD67: -34.66888 | BE67: -37.25718 | CJ67: 30150 | CK67: 2.47586 | CL67: -14.2417 | CM67: 30150 | CN67: 5.678799 | CO67: -61.78827
E68: 18450 | F68: -19.1586 | G68: -15.35898 | H68: -25.45997 | I68: -5.425644 | J68: 18450 | K68: -12.02914 | L68: -32.69375 | M68: -19.21444 | N68: -20.01052 | S68: 60000 | T68: 0.0559334 | U68: -0.597088 | AV68: 24450 | AW68: -8.491992 | AX68: -5.345736 | AY68: -8.049796 | AZ68: -8.670075 | BA68: 24450 | BB68: -18.31286 | BC68: -12.53734 | BD68: -34.84455 | BE68: -37.4668 | CJ68: 30450 | CK68: 2.89499 | CL68: -14.13771 | CM68: 30450 | CN68: 6.569744 | CO68: -61.40377
E69: 18750 | F69: -18.95013 | G69: -15.22816 | H69: -25.81677 | I69: -5.394857 | J69: 18750 | K69: -12.03894 | L69: -32.53017 | M69: -19.12877 | N69: -19.80839 | AV69: 24750 | AW69: -7.984173 | AX69: -4.966446 | AY69: -8.078354 | AZ69: -8.706007 | BA69: 24750 | BB69: -17.19744 | BC69: -11.63034 | BD69: -35.02157 | BE69: -37.67522 | CJ69: 30750 | CK69: 3.320402 | CL69: -14.01846 | CM69: 30750 | CN69: 7.480335 | CO69: -60.95609
E70: 19050 | F70: -18.72066 | G70: -15.07241 | H70: -26.17831 | I70: -5.37448 | J70: 19050 | K70: -12.02702 | L70: -32.30031 | M70: -19.05482 | N70: -19.63141 | AV70: 25050 | AW70: -7.467949 | AX70: -4.582898 | AY70: -8.108411 | AZ70: -8.742864 | BA70: 25050 | BB70: -16.0645 | BC70: -10.71563 | BD70: -35.19909 | BE70: -37.88166 | CJ70: 31050 | CK70: 3.752141 | CL70: -13.88376 | CM70: 31050 | CN70: 8.411401 | CO70: -60.44382
E71: 19350 | F71: -18.47022 | G71: -14.89215 | H71: -26.54428 | I71: -5.363708 | J71: 19350 | K71: -11.99312 | L71: -32.00591 | M71: -18.99309 | N71: -19.47874 | AV71: 25350 | AW71: -6.943613 | AX71: -4.19505 | AY71: -8.139776 | AZ71: -8.780476 | BA71: 25350 | BB71: -14.91455 | BC71: -9.792737 | BD71: -35.37638 | BE71: -38.08542 | CJ71: 31350 | CK71: 4.190207 | CL71: -13.73341 | CM71: 31350 | CN71: 9.363723 | CO71: -59.86551
E72: 19650 | F72: -18.19894 | G72: -14.68796 | H72: -26.9144 | I72: -5.361617 | J72: 19650 | K72: -11.93727 | L72: -31.64911 | M72: -18.94389 | N72: -19.34934 | AV72: 25650 | AW72: -6.411451 | AX72: -3.802846 | AY72: -8.172289 | AZ72: -8.8187 | BA72: 25650 | BB72: -13.74805 | BC72: -8.861139 | BD72: -35.55283 | BE72: -38.28591 | CJ72: 31650 | CK72: 4.634547 | CL72: -13.56724 | CM72: 31650 | CN72: 10.33801 | CO72: -59.21959
E73: 19950 | F73: -17.90703 | G73: -14.46053 | H73: -27.28826 | I73: -5.36742 | J73: 19950 | K73: -11.85966 | L73: -31.2323 | M73: -18.90736 | N73: -19.24213 | AV73: 25950 | AW73: -5.871752 | AX73: -3.40622 | AY73: -8.20582 | AZ73: -8.85742 | BA73: 25950 | BB73: -12.56546 | BC73: -7.92031 | BD73: -35.72794 | BE73: -38.48265 | CJ73: 31950 | CK73: 5.085044 | CL73: -13.38505 | CM73: 31950 | CN73: 11.3349 | CO73: -58.50447
E74: 20250 | F74: -17.59478 | G74: -14.21063 | H74: -27.66547 | I74: -5.380289 | J74: 20250 | K74: -11.76065 | L74: -30.75801 | M74: -18.8835 | N74: -19.15594 | AV74: 26250 | AW74: -5.324798 | AX74: -3.005094 | AY74: -8.240274 | AZ74: -8.89655 | BA74: 26250 | BB74: -11.36726 | BC74: -6.969694 | BD74: -35.90132 | BE74: -38.67526 | CJ74: 32250 | CK74: 5.541506 | CL74: -13.18669 | CM74: 32250 | CN74: 12.3549 | CO74: -57.71846
E75: 20550 | F75: -17.26254 | G75: -13.93906 | H75: -28.04559 | I75: -5.399503 | J75: 20550 | K75: -11.64072 | L75: -30.22886 | M75: -18.87218 | N75: -19.08963 | AV75: 26550 | AW75: -4.770873 | AX75: -2.599387 | AY75: -8.275588 | AZ75: -8.936028 | BA75: 26550 | BB75: -10.15386 | BC75: -6.008726 | BD75: -36.0727 | BE75: -38.86346 | CJ75: 32550 | CK75: 6.003653 | CL75: -12.97199 | CM75: 32550 | CN75: 13.39837 | CO75: -56.85981
E76: 20850 | F76: -16.91067 | G76: -13.64668 | H76: -28.42818 | I76: -5.424344 | J76: 20850 | K76: -11.50041 | L76: -29.64745 | M76: -18.87322 | N76: -19.04202 | AV76: 26850 | AW76: -4.210265 | AX76: -2.189011 | AY76: -8.311732 | AZ76: -8.975825 | BA76: 26850 | BB76: -8.925735 | BC76: -5.036828 | BD76: -36.24194 | BE76: -39.04709 | CJ76: 32850 | CK76: 6.471099 | CL76: -12.74083 | CM76: 32850 | CN76: 14.46552 | CO76: -55.92671
E77: 21150 | F77: -16.53961 | G77: -13.33432 | H77: -28.81278 | I77: -5.454177 | J77: 21150 | K77: -11.34034 | L77: -29.01635 | M77: -18.88635 | N77: -19.01199 | AV77: 27150 | AW77: -3.64326 | AX77: -1.773876 | AY77: -8.348709 | AZ77: -9.015937 | BA77: 27150 | BB77: -7.683313 | BC77: -4.05341 | BD77: -36.409 | BE77: -39.22607 | CJ77: 33150 | CK77: 6.943337 | CL77: -12.49308 | CM77: 33150 | CN77: 15.5563 | CO77: -54.91728
E78: 21450 | F78: -16.14981 | G78: -13.00284 | H78: -29.19894 | I78: -5.488389 | J78: 21450 | K78: -11.16119 | L78: -28.33809 | M78: -18.91123 | N78: -18.99843 | AV78: 27450 | AW78: -3.070149 | AX78: -1.353894 | AY78: -8.386556 | AZ78: -9.056387 | BA78: 27450 | BB78: -6.427047 | BC78: -3.057879 | BD78: -36.57394 | BE78: -39.40043 | CJ78: 33450 | CK78: 7.419715 | CL78: -12.22864 | CM78: 33450 | CN78: 16.67039 | CO78: -53.82956
E79: 21750 | F79: -15.74176 | G79: -12.65306 | H79: -29.58619 | I79: -5.526436 | J79: 21750 | K79: -10.96365 | L79: -27.61508 | M79: -18.94752 | N79: -19.00026 | AV79: 27750 | AW79: -2.491229 | AX79: -0.928978 | AY79: -8.42534 | AZ79: -9.097231 | BA79: 27750 | BB79: -5.157392 | BC79: -2.049641 | BD79: -36.73697 | BE79: -39.57032 | CJ79: 33750 | CK79: 7.899414 | CL79: -11.94741 | CM79: 33750 | CN79: 17.80713 | CO79: -52.66155
E80: 22050 | F80: -15.31595 | G80: -12.28582 | H80: -29.97409 | I80: -5.567802 | J80: 22050 | K80: -10.74846 | L80: -26.84969 | M80: -18.99482 | N80: -19.01647 | AV80: 28050 | AW80: -1.906799 | AX80: -0.499047 | AY80: -8.465166 | AZ80: -9.138553 | BA80: 28050 | BB80: -3.874813 | BC80: -1.028102 | BD80: -36.89839 | BE80: -39.73598 | CJ80: 34050 | CK80: 8.381415 | CL80: -11.64935 | CM80: 34050 | CN80: 18.96538 | CO80: -51.41117
... E106: 29850 | F106: -0.0515119 | G106: 1.118471 | H106: -39.28918 | I106: -6.961194 | J106: 29850 | K106: -1.545233 | L106: 1.957174 | M106: -23.21381 | N106: -22.64869 | AV106: 35850 | AW106: 13.75766 | AX106: 11.9767 | AY106: -11.14474 | AZ106: -11.40581 | BA106: 35850 | BB106: 31.22866 | BC106: 30.90245 | BD106: -45.28349 | BE106: -46.61402 | CJ106: 41850 | CK106: 0.920491 | CL106: -0.025551 | CM106: 41850 | CN106: 2.414336 | CO106: 1.016331
E107: 30150 | F107: 0.608374 | G107: 1.700619 | H107: -39.6054 | I107: -7.019336 | J107: 30150 | K107: -1.157857 | L107: 3.204177 | M107: -23.49297 | N107: -22.90442 | AV107: 36150 | AW107: 14.2714 | AX107: 12.41855 | AY107: -11.39947 | AZ107: -11.6072 | BA107: 36150 | BB107: 32.41127 | BC107: 32.22173 | BD107: -46.14143 | BE107: -47.29183
E108: 30450 | F108: 1.266554 | G108: 2.281094 | H108: -39.91978 | I108: -7.079008 | J108: 30450 | K108: -0.776438 | L108: 4.445004 | M108: -23.78424 | N108: -23.17326 | AV108: 36450 | AW108: 14.76192 | AX108: 12.84122 | AY108: -11.67478 | AZ108: -11.82396 | BA108: 36450 | BB108: 33.54367 | BC108: 33.51823 | BD108: -47.08515 | BE108: -48.0368
E109: 30750 | F109: 1.922231 | G109: 2.85901 | H109: -40.23268 | I109: -7.140561 | J109: 30750 | K109: -0.401973 | L109: 5.677351 | M109: -24.08834 | N109: -23.45629 | AD109: 0 | AV109: 36750 | AW109: 15.22559 | AX109: 13.24148 | AY109: -11.97162 | AZ109: -12.05656 | BA109: 36750 | BB109: 34.61803 | BC109: 34.78592 | BD109: -48.1216 | BE109: -48.85439
E110: 31050 | F110: 2.574609 | G110: 3.433442 | H110: -40.54449 | I110: -7.204392 | J110: 31050 | K110: -0.035472 | L110: 6.898777 | M110: -24.40603 | N110: -23.75467 | AV110: 37050 | AW110: 15.65849 | AX110: 13.61592 | AY110: -12.29154 | AZ110: -12.30621 | BA110: 37050 | BB110: 35.62597 | BC110: 36.01888 | BD110: -49.25913 | BE110: -49.74934
E111: 31350 | F111: 3.222892 | G111: 4.00342 | H111: -40.85563 | I111: -7.270939 | J111: 31350 | K111: 0.32204 | L111: 8.106692 | M111: -24.73809 | N111: -24.06968 | AV111: 37350 | AW111: 16.05634 | AX111: 13.9612 | AY111: -12.63548 | AZ111: -12.57308 | BA111: 37350 | BB111: 36.55873 | BC111: 37.21174 | BD111: -50.5057 | BE111: -50.72736
E112: 31650 | F112: 3.866286 | G112: 4.567933 | H112: -41.16653 | I112: -7.340695 | J112: 31650 | K112: 0.669529 | L112: 9.298356 | M112: -25.08533 | N112: -24.40267 | AV112: 37650 | AW112: 16.41476 | AX112: 14.27404 | AY112: -13.00548 | AZ112: -12.85884 | BA112: 37650 | BB112: 37.40744 | BC112: 38.36029 | BD112: -51.8717 | BE112: -51.79311
E113: 31950 | F113: 4.504001 | G113: 5.125919 | H113: -41.47765 | I113: -7.414199 | J113: 31950 | K113: 1.005953 | L113: 10.47086 | M113: -25.44856 | N113: -24.75508 | AV113: 37950 | AW113: 16.72923 | AX113: 14.5517 | AY113: -13.40276 | AZ113: -13.16324 | BA113: 37950 | BB113: 38.16365 | BC113: 39.46248 | BD113: -53.36745 | BE113: -52.95304
E114: 32250 | F114: 5.135254 | G114: 5.676272 | H114: -41.78947 | I114: -7.492055 | J114: 32250 | K114: 1.330265 | L114: 11.62114 | M114: -25.82863 | N114: -25.12847 | AV114: 38250 | AW114: 16.99561 | AX114: 14.79201 | AY114: -13.8305 | AZ114: -13.48909 | BA114: 38250 | BB114: 38.81979 | BC114: 40.51951 | BD114: -55.008 | BE114: -54.21247
E115: 32550 | F115: 5.759268 | G115: 6.217843 | H115: -42.10247 | I115: -7.574918 | J115: 32550 | K115: 1.641421 | L115: 12.74593 | M115: -26.22635 | N115: -25.52445 | AV115: 38550 | AW115: 17.21006 | AX115: 14.99422 | AY115: -14.29119 | AZ115: -13.83574 | BA115: 38550 | BB115: 39.37017 | BC115: 41.53771 | BD115: -56.80979 | BE115: -55.5806
E116: 32850 | F116: 6.375279 | G116: 6.749437 | H116: -42.41717 | I116: -7.663521 | J116: 32850 | K116: 1.938388 | L116: 13.84181 | M116: -26.64253 | N116: -25.94476 | AV116: 38850 | AW116: 17.37016 | AX116: 15.15905 | AY116: -14.7909 | AZ116: -14.20907 | BA116: 38850 | BB116: 39.81173 | BC116: 42.53049 | BD116: -58.79927 | BE116: -57.06671
E117: 33150 | F117: 6.982538 | G117: 7.269822 | H117: -42.73406 | I117: -7.758644 | J117: 33150 | K117: 2.220152 | L117: 14.90521 | M117: -27.07797 | N117: -26.39119 | AV117: 39150 | AW117: 17.4743 | AX117: 15.29026 | AY117: -15.33601 | AZ117: -14.60858 | BA117: 39150 | BB117: 40.14523 | BC117: 43.52168 | BD117: -61.00936 | BE117: -58.68892
E118: 33450 | F118: 7.580315 | G118: 7.777736 | H118: -43.05366 | I118: -7.861168 | J118: 33450 | K118: 2.485734 | L118: 15.93237 | M118: -27.53338 | N118: -26.86563 | AV118: 39450 | AW118: 17.52402 | AX118: 15.39482 | AY118: -15.93958 | AZ118: -15.04809 | BA118: 39450 | BB118: 40.37604 | BC118: 44.54932 | BD118: -63.49483 | BE118: -60.47071
E119: 33750 | F119: 8.167905 | G119: 8.271897 | H119: -43.37648 | I119: -7.97201 | J119: 33750 | K119: 2.734207 | L119: 16.91944 | M119: -28.00946 | N119: -27.37002 | AV119: 39750 | AW119: 17.52126 | AX119: 15.48563 | AY119: -16.61877 | AZ119: -15.52936 | BA119: 39750 | BB119: 40.51391 | BC119: 45.67247 | BD119: -66.33228 | BE119: -62.4553
E120: 34050 | F120: 8.74464 | G120: 8.751019 | H120: -43.70302 | I120: -8.09221 | J120: 34050 | K120: 2.964721 | L120: 17.86245 | M120: -28.50679 | N120: -27.90636 | AV120: 40050 | AW120: 17.47453 | AX120: 15.58354 | AY120: -17.40347 | AZ120: -16.08666 | BA120: 40050 | BB120: 40.57479 | BC120: 46.98049 | BD120: -69.64761 | BE120: -64.70896
E121: 34350 | F121: 9.309892 | G121: 9.213833 | H121: -44.03376 | I121: -8.222821 | J121: 34350 | K121: 3.176535 | L121: 18.75744 | M121: -29.02584 | N121: -28.47667 | AV121: 40350 | AW121: 17.38636 | AX121: 15.72249 | AY121: -18.33901 | AZ121: -16.72837 | BA121: 40350 | BB121: 40.56579 | BC121: 48.6144 | BD121: -73.63706 | BE121: -67.3343
... E126: 35850 | F126: 11.94698 | G126: 11.24465 | H126: -45.76439 | I126: -9.07519 | J126: 35850 | K126: 3.942799 | L126: 22.38334 | M126: -31.95156 | N126: -31.90666 | AV126: 41850 | AW126: 22.0779 | AX126: 25.01946 | AY126: -28.96946 | AZ126: -22.68907 | BA126: 41850 | BB126: 50.78497 | BC126: 89.1488 | BD126: -124.4284 | BE126: -89.16079
E127: 36150 | F127: 12.4348 | G127: 11.58905 | H127: -46.12756 | I127: -9.294561 | J127: 36150 | K127: 4.039674 | L127: 22.91957 | M127: -32.60015 | N127: -32.72013 | AV127: 42150 | AW127: 47.54195 | AY127: -29.79618 | BA127: 42150 | BB127: 131.1125 | BD127: -142.1674
E128: 36450 | F128: 12.90969 | G128: 11.91278 | H128: -46.49628 | I128: -9.533391 | J128: 36450 | K128: 4.120997 | L128: 23.391 | M128: -33.2673 | N128: -33.57861 | AV128: 42450 | AW128: 29.59109 | AY128: -21.2782 | BA128: 42450 | BB128: 69.87298 | BD128: -102.9694
E129: 36750 | F129: 13.37236 | G129: 12.21701 | H129: -46.87013 | I129: -9.79242 | J129: 36750 | K129: 4.189859 | L129: 23.80039 | M129: -33.95089 | N129: -34.48187 | AV129: 42750 | AW129: 26.79928 | AY129: -17.59212 | BA129: 42750 | BB129: 60.77227 | BD129: -85.0931
E130: 37050 | F130: 13.82398 | G130: 12.50387 | H130: -47.2482 | I130: -10.07289 | J130: 37050 | K130: 4.250661 | L130: 24.15348 | M130: -34.64815 | N130: -35.4289 | AV130: 43050 | AW130: 25.54379 | AY130: -15.11794 | BA130: 43050 | BB130: 56.61923 | BD130: -73.59521
...

Sheet percentages
E1: Aft | H1: Foreship | L1: a) Outer wall | N1: Aft | Q1: Foreship
A2: Lin. El. fine | B2: Lin. El. fine | E2: Lin. El. coarse | F2: Sh. El. coarse | G2: Lin. El. semi-coarse | H2: Lin. El. coarse | I2: Sh. El. coarse | J2: Lin. El. semi-coarse | N2: Lin. El. coarse | O2: Lin. El. semi-coarse | P2: HSD El. coarse | Q2: Lin. El. coarse | R2: Lin. El. semi-coarse | S2: HSD El. coarse
A3: ='hor distribution of stress'!$F$26 -> -20.81399 | B3: ='hor distribution of stress'!$F$167 -> 36.76081 | C3: z=6400 mm | D3: shear stress | E3: ='hor distribution of stress'!$W$11 -> -20.18209 | F3: ='hor distribution of stress'!$AM$10 -> -21.650669 | G3: ='hor distribution of stress'!$Q$18 -> -21.39944 | H3: ='hor distribution of stress'!$W$22 -> 24.74502 | I3: ='hor distribution of stress'!$AM$23 -> 24.054025 | J3: ='hor distribution of stress'!$Q$56 -> 26.00973 | L3: z=6,4 m | M3: shear stress | N3: =($A3-E3)/$A3 -> 0.030359388 | O3: =($A3-G3)/$A3 -> -0.028127716 | P3: =($A3-F3)/$A3 -> -0.040197907 | Q3: =($B3-H3)/$B3 -> 0.32686413 | R3: =($B3-J3)/$B3 -> 0.29246037 | S3: =($B3-I3)/$B3 -> 0.34566119 | U3: 1
A4: ='hor distribution of stress'!$H$27 -> -20.1666 | B4: ='hor distribution of stress'!$H$166 -> -74.025 | D4: normal stress | E4: ='hor distribution of stress'!$X$9 -> -8.491878 | F4: ='hor distribution of stress'!AO9 -> -16.367583 | G4: ='hor distribution of stress'!R13 -> -12.67521 | H4: ='hor distribution of stress'!X23 -> -40.098 | I4: ='hor distribution of stress'!AO22 -> -59.017877 | J4: ='hor distribution of stress'!R56 -> -51.54306 | M4: normal stress | N4: =($A4-E4)/$A4 -> 0.57891375 | O4: =($A4-G4)/$A4 -> 0.37147511 | P4: =($A4-F4)/$A4 -> 0.18838162 | Q4: =($B4-H4)/$B4 -> 0.45831814 | R4: =($B4-J4)/$B4 -> 0.3037074 | S4: =($B4-I4)/$B4 -> 0.20273047 | U4: -1
A5: ='hor distribution of stress'!AW26 -> -35.92764 | B5: ='hor distribution of stress'!AW127 -> 47.54195 | C5: z=9400 mm | D5: shear stress | E5: ='hor distribution of stress'!BM8 -> -17.15381 | F5: ='hor distribution of stress'!CB8 -> -24.519922 | G5: ='hor distribution of stress'!BG10 -> -16.05892 | H5: ='hor distribution of stress'!BM20 -> 26.1606 | I5: ='hor distribution of stress'!CB19 -> 34.833896 | J5: ='hor distribution of stress'!BG44 -> 30.42208 | L5: z=9,4 m | M5: shear stress | N5: =($A5-E5)/$A5 -> 0.52254559 | O5: =($A5-G5)/$A5 -> 0.55302046 | P5: =($A5-F5)/$A5 -> 0.31751927 | Q5: =($B5-H5)/$B5 -> 0.4497365 | R5: =($B5-J5)/$B5 -> 0.36010029 | S5: =($B5-I5)/$B5 -> 0.26730191 | U5: -0.5
A6: ='hor distribution of stress'!AY26 -> -20.16279 | B6: ='hor distribution of stress'!AY127 -> -29.79618 | D6: normal stress | E6: ='hor distribution of stress'!BN9 -> -11.07874 | F6: ='hor distribution of stress'!$CD$9 -> -14.220717 | G6: ='hor distribution of stress'!BH13 -> -15.65297 | H6: ='hor distribution of stress'!BN19 -> -15.86196 | I6: ='hor distribution of stress'!CD19 -> -16.604504 | J6: ='hor distribution of stress'!BH43 -> -22.56239 | M6: normal stress | N6: =($A6-E6)/$A6 -> 0.45053537 | O6: =($A6-G6)/$A6 -> 0.22367043 | P6: =($A6-F6)/$A6 -> 0.29470492 | Q6: =($B6-H6)/$B6 -> 0.46765122 | R6: =($B6-J6)/$B6 -> 0.24277575 | S6: =($B6-I6)/$B6 -> 0.44273043
A7: ='hor distribution of stress'!$CK$20 -> -11.79368 | B7: ='hor distribution of stress'!$CK$95 -> 13.85651 | C7: z=12400 mm | D7: shear stress | E7: ='hor distribution of stress'!$CX$8 -> -11.65219 | F7: ='hor distribution of stress'!$DK$8 -> -12.210733 | G7: ='hor distribution of stress'!$CR$11 -> -12.20007 | H7: ='hor distribution of stress'!$CX$16 -> 13.78049 | I7: ='hor distribution of stress'!$DK$15 -> 13.900406 | J7: ='hor distribution of stress'!$CR$34 -> 14.25442 | L7: z=12,4 m | M7: shear stress | N7: =($A7-E7)/$A7 -> 0.011997104 | O7: =($A7-G7)/$A7 -> -0.034458286 | P7: =($A7-F7)/$A7 -> -0.035362448 | Q7: =($B7-H7)/$B7 -> 0.0054862299 | R7: =($B7-J7)/$B7 -> -0.028716466 | S7: =($B7-I7)/$B7 -> -0.0031678973
A8: ='hor distribution of stress'!$CL$60 -> -14.55914 | D8: normal stress | E8: ='hor distribution of stress'!$CY$12 -> -13.26952 | F8: ='hor distribution of stress'!$DL$12 -> -13.840458 | G8: ='hor distribution of stress'!$CS$23 -> -13.7308 | H8: n/a | I8: n/a | J8: n/a | M8: normal stress | N8: =($A8-E8)/$A8 -> 0.088578034 | O8: =($A8-G8)/$A8 -> 0.056894844 | P8: =($A8-F8)/$A8 -> 0.049362952 | Q8: n/a | R8: n/a | S8: n/a
E10: Aft | H10: Foreship | L10: b) Inner wall | N10: Aft | Q10: Foreship
A11: Lin. El. fine | B11: Lin. El. fine | E11: Lin. El. coarse | F11: Sh. El. coarse | G11: Lin. El. semi-coarse | H11: Lin. El. coarse | I11: Sh. El. coarse | J11: Lin. El. semi-coarse | N11: Lin. El. coarse | O11: Lin. El. semi-coarse | P11: HSD El. coarse | Q11: Lin. El. coarse | R11: Lin. El. semi-coarse | S11: HSD El. coarse
A12: ='hor distribution of stress'!$K$26 -> -35.22359 | B12: ='hor distribution of stress'!$K$167 -> 69.30582 | C12: z=6400 mm | D12: shear stress | E12: ='hor distribution of stress'!$W$11 -> -20.18209 | F12: ='hor distribution of stress'!AR8 -> -17.469306 | G12: ='hor distribution of stress'!T13 -> -24.15927 | H12: ='hor distribution of stress'!$W$23 -> 24.29177 | I12: ='hor distribution of stress'!$AR$23 -> 38.7034 | J12: ='hor distribution of stress'!$Q$56 -> 26.00973 | L12: z=6,4 m | M12: shear stress | N12: =($A12-E12)/$A12 -> 0.42702916 | O12: =($A12-G12)/$A12 -> 0.31411676 | P12: =($A12-F12)/$A12 -> 0.50404527 | Q12: =($B12-H12)/$B12 -> 0.64949884 | R12: =($B12-J12)/$B12 -> 0.62471074 | S12: =($B12-I12)/$B12 -> 0.44155629
A13: ='hor distribution of stress'!$M$26 -> -45.00299 | B13: ='hor distribution of stress'!$M$167 -> -122.6145 | D13: normal stress | E13: ='hor distribution of stress'!$AA$9 -> -24.93524 | F13: ='hor distribution of stress'!$AT$9 -> -27.966973 | G13: ='hor distribution of stress'!$U$13 -> -36.65572 | H13: ='hor distribution of stress'!$AA$23 -> -69.52901 | I13: ='hor distribution of stress'!$AT$23 -> -83.599401 | J13: ='hor distribution of stress'!$U$56 -> -96.86995 | M13: normal stress | N13: =($A13-E13)/$A13 -> 0.44592037 | O13: =($A13-G13)/$A13 -> 0.18548256 | P13: =($A13-F13)/$A13 -> 0.378553 | Q13: =($B13-H13)/$B13 -> 0.43294627 | R13: =($B13-J13)/$B13 -> 0.20996334 | S13: =($B13-I13)/$B13 -> 0.31819319
A14: ='hor distribution of stress'!$BB$26 -> -94.67204 | B14: ='hor distribution of stress'!$BB$127 -> 131.1125 | C14: z=9400 mm | D14: shear stress | E14: ='hor distribution of stress'!$BP$8 -> -42.62093 | F14: ='hor distribution of stress'!$CF$8 -> -65.23549 | G14: ='hor distribution of stress'!$BJ$11 -> -41.20357 | H14: ='hor distribution of stress'!$BP$20 -> 67.80206 | I14: ='hor distribution of stress'!$CF$19 -> 97.256279 | J14: ='hor distribution of stress'!$BJ$46 -> 61.32518 | L14: z=9,4 m | M14: shear stress | N14: =($A14-E14)/$A14 -> 0.54980446 | O14: =($A14-G14)/$A14 -> 0.56477572 | P14: =($A14-F14)/$A14 -> 0.31093182 | Q14: =($B14-H14)/$B14 -> 0.48287112 | R14: =($B14-J14)/$B14 -> 0.53227053 | S14: =($B14-I14)/$B14 -> 0.25822268
